{"text_format":"1","workbook":"xlsx","n_sheets":5,"sheets":["S6","Company Logo","Importer","Lists","checker"],"not_rendered":{"charts":0,"images":3,"macros":1,"external_links":0,"defined_names":10,"comments":0,"pivot_tables":0},"unopened":[],"bounds":{"document_bytes":16777216,"sheet_cells":100000,"rows_first":2000,"rows_last":500,"rows_between":2000,"halvings":0,"cell_chars":16384,"cell_head_chars":4096},"cells_cut":0,"cells_raw":0,"read":"whole","date_system":"1900"}

{"sheet":"S6","index":0,"n_rows":1011,"n_cols":23,"rows_kept":1011,"cut":false,"hidden":false,"merged":[[2,0,2,5],[0,1,0,5],[9,0,9,10],[3,0,3,1],[3,4,3,5],[4,4,4,5],[5,4,5,5],[6,4,6,5],[7,4,7,5]]}
[null,"S6 - Vehicle Safety Equipment",null,null,null,null,null,"Version","1.7.4"]
[]
["In addition to the evidence below, Members shall upload a sample of photographic evidence showing a typical example of safety equipment fitted across the fleet and should upload evidencing receipts.",null,null,null,null,null,null,{"$f":"IF(N8>0,\"Data Errors:\",\"\")","v":""},{"$f":"IF(P9>0,\"Compliance Issues:\",\"\")","v":""},null," "]
["I certify that all the information below is correct and refers to vehicles declared in the scope of accreditation.",null,null,"Full Name",null,null,null,{"$f":"IF(N8>0,N8,\"\")","v":""},{"$f":"IF(P9>0,P9,\"\")","v":""}]
[]
[null,null,null,"*Total number of vehicles held at the operating centre","Do not enter figures: these will be \ncalculated using the table below",null,null,"Key:"]
[null,null,null,"**Total number of vehicles under 3,500kgs",{"$f":"SUM(L12:L1011)","v":0},null,null,"A User data entry","A Compliance issue",null,null,null,null,"Missing data count"]
[null,null,null,"**Total number of vehicles over 3,500kgs",{"$f":"SUM(M12:M1011)","v":0},null,null,"A Positive response","A Negative response",null,null,null,null,{"$f":"COUNTIF($N$12:$N$1011,\">0\")","v":0},null,"Total compliance issues:","Compliance checker"]
[null,null,null,null,null,null,null,null,null,null,null,null,null,null,null,{"$f":"SUM(P12:P1011)","v":0},"1=error,0=ok"]
["Table fields required to be filled out by the operator"]
["Vehicle Registration Mark (text)","Weight (kg) / Vehicle type \n(select from the drop down options)","Registered Pre \nJanuary 2015\n(Y/N)","Side cameras required by contract (Y/N)","Audible turn left (Y/N)","Driver incab warning proximity sensors (Y/N)","Camera - rear (Y/N)","Camera - side (Y/N)","Audible reversing alarm (Y/N)","Fresnel lens (Y/N)\n[pre Jan 2015 only]","Other equipment e.g. front camera\n(optional text)","under 3.5","over 3.5","1 to 9 = error, 0=ok, -1=no data",null,"row compliance",null,"Audible turn left (Y/N)","Driver incab warning proximity sensors (Y/N)","Camera - rear (Y/N)","Camera - side (Y/N)\npost 2015","Audible reversing alarm (Y/N)","Fresnel lens (Y/N)\npre 2015\n\nOR CAMERA SIDE"]
[null,null,null,null,null,null,null,null,null,null,null,{"$f":"IF(ISNUMBER(MATCH(B12,Lists!$D$3:$D$11,0)),1,0)","v":0},{"$f":"IF(ISNUMBER(MATCH(B12,Lists!$F$3:$F$14,0)),1,0)","v":0},{"$f":"IF(COUNTBLANK(A12:J12)=10,-1,10-((2-COUNTBLANK(A12:B12))+COUNTIF(C12:J12,\"y\")+COUNTIF(C12:J12,\"n\")))","v":-1},{"$f":"IFERROR(VLOOKUP(B12,VehicleLookUp,2,FALSE),\"\")","v":""},{"$f":"SUM(Q12:W12)","v":0},null,{"$f":"IFERROR(IF( VLOOKUP($B12,CheckData,3,FALSE)=1,IF($E12=\"n\",1,0),0),0)","v":0},{"$f":"IFERROR(IF( VLOOKUP($B12,CheckData,4,FALSE)=1,IF($F12=\"n\",1,0),0),0)","v":0},{"$f":"IFERROR(IF( VLOOKUP($B12,CheckData,5,FALSE)=1,IF($G12=\"n\",1,0),0),0)","v":0},{"$f":"IFERROR(IF( OR($D12=\"y\",AND(VLOOKUP($B12,CheckData,6,FALSE)=1, $C12=\"n\")),IF($H12=\"n\",1,0),0),0)","v":0},{"$f":"IFERROR(IF( VLOOKUP($B12,CheckData,7,FALSE)=1,IF($I12=\"n\",1,0),0),0)","v":0},{"$f":"IFERROR(IF(AND( VLOOKUP($B12,CheckData,8,FALSE)=1, $C12=\"y\"),IF(AND($J12=\"n\",AND($D12=\"n\",$H12=\"n\")),1,0),0),0)","v":0}]
[null,null,null,null,null,null,null,null,null,null,null,{"$f":"IF(ISNUMBER(MATCH(B13,Lists!$D$3:$D$11,0)),1,0)","v":0},{"$f":"IF(ISNUMBER(MATCH(B13,Lists!$F$3:$F$14,0)),1,0)","v":0},{"$f":"IF(COUNTBLANK(A13:J13)=10,-1,10-((2-COUNTBLANK(A13:B13))+COUNTIF(C13:J13,\"y\")+COUNTIF(C13:J13,\"n\")))","v":-1},"",{"$f":"SUM(Q13:W13)","v":0},null,0,0,0,0,0,0]
[null,null,null,null,null,null,null,null,null,null,null,{"$f":"IF(ISNUMBER(MATCH(B14,Lists!$D$3:$D$11,0)),1,0)","v":0},{"$f":"IF(ISNUMBER(MATCH(B14,Lists!$F$3:$F$14,0)),1,0)","v":0},-1,"",0,null,0,0,0,0,0,0]
[null,null,null,null,null,null,null,null,null,null,null,{"$f":"IF(ISNUMBER(MATCH(B15,Lists!$D$3:$D$11,0)),1,0)","v":0},{"$f":"IF(ISNUMBER(MATCH(B15,Lists!$F$3:$F$14,0)),1,0)","v":0},-1,"",0,null,0,0,0,0,0,0]
[null,null,null,null,null,null,null,null,null,null,null,{"$f":"IF(ISNUMBER(MATCH(B16,Lists!$D$3:$D$11,0)),1,0)","v":0},{"$f":"IF(ISNUMBER(MATCH(B16,Lists!$F$3:$F$14,0)),1,0)","v":0},-1,"",0,null,0,0,0,0,0,0]
[null,null,null,null,null,null,null,null,null,null,null,{"$f":"IF(ISNUMBER(MATCH(B17,Lists!$D$3:$D$11,0)),1,0)","v":0},{"$f":"IF(ISNUMBER(MATCH(B17,Lists!$F$3:$F$14,0)),1,0)","v":0},-1,"",0,null,0,0,0,0,0,0]
[null,null,null,null,null,null,null,null,null,null,null,{"$f":"IF(ISNUMBER(MATCH(B18,Lists!$D$3:$D$11,0)),1,0)","v":0},{"$f":"IF(ISNUMBER(MATCH(B18,Lists!$F$3:$F$14,0)),1,0)","v":0},-1,"",0,null,0,0,0,0,0,0]
[null,null,null,null,null,null,null,null,null,null,null,{"$f":"IF(ISNUMBER(MATCH(B19,Lists!$D$3:$D$11,0)),1,0)","v":0},{"$f":"IF(ISNUMBER(MATCH(B19,Lists!$F$3:$F$14,0)),1,0)","v":0},-1,"",0,null,0,0,0,0,0,0]
[null,null,null,null,null,null,null,null,null,null,null,{"$f":"IF(ISNUMBER(MATCH(B20,Lists!$D$3:$D$11,0)),1,0)","v":0},{"$f":"IF(ISNUMBER(MATCH(B20,Lists!$F$3:$F$14,0)),1,0)","v":0},-1,"",0,null,0,0,0,0,0,0]
[null,null,null,null,null,null,null,null,null,null,null,{"$f":"IF(ISNUMBER(MATCH(B21,Lists!$D$3:$D$11,0)),1,0)","v":0},{"$f":"IF(ISNUMBER(MATCH(B21,Lists!$F$3:$F$14,0)),1,0)","v":0},-1,"",0,null,0,0,0,0,0,0]
[null,null,null,null,null,null,null,null,null,null,null,{"$f":"IF(ISNUMBER(MATCH(B22,Lists!$D$3:$D$11,0)),1,0)","v":0},{"$f":"IF(ISNUMBER(MATCH(B22,Lists!$F$3:$F$14,0)),1,0)","v":0},-1,"",0,null,0,0,0,0,0,0]
[null,null,null,null,null,null,null,null,null,null,null,{"$f":"IF(ISNUMBER(MATCH(B23,Lists!$D$3:$D$11,0)),1,0)","v":0},{"$f":"IF(ISNUMBER(MATCH(B23,Lists!$F$3:$F$14,0)),1,0)","v":0},-1,"",0,null,0,0,0,0,0,0]
[null,null,null,null,null,null,null,null,null,null,null,{"$f":"IF(ISNUMBER(MATCH(B24,Lists!$D$3:$D$11,0)),1,0)","v":0},{"$f":"IF(ISNUMBER(MATCH(B24,Lists!$F$3:$F$14,0)),1,0)","v":0},-1,"",0,null,0,0,0,0,0,0]
[null,null,null,null,null,null,null,null,null,null,null,{"$f":"IF(ISNUMBER(MATCH(B25,Lists!$D$3:$D$11,0)),1,0)","v":0},{"$f":"IF(ISNUMBER(MATCH(B25,Lists!$F$3:$F$14,0)),1,0)","v":0},-1,"",0,null,0,0,0,0,0,0]
[null,null,null,null,null,null,null,null,null,null,null,{"$f":"IF(ISNUMBER(MATCH(B26,Lists!$D$3:$D$11,0)),1,0)","v":0},{"$f":"IF(ISNUMBER(MATCH(B26,Lists!$F$3:$F$14,0)),1,0)","v":0},-1,"",0,null,0,0,0,0,0,0]
[null,null,null,null,null,null,null,null,null,null,null,{"$f":"IF(ISNUMBER(MATCH(B27,Lists!$D$3:$D$11,0)),1,0)","v":0},{"$f":"IF(ISNUMBER(MATCH(B27,Lists!$F$3:$F$14,0)),1,0)","v":0},-1,"",0,null,0,0,0,0,0,0]
["","",null,null,null,null,null,null,null,null,null,{"$f":"IF(ISNUMBER(MATCH(B28,Lists!$D$3:$D$11,0)),1,0)","v":0},{"$f":"IF(ISNUMBER(MATCH(B28,Lists!$F$3:$F$14,0)),1,0)","v":0},-1,"",0,null,0,0,0,0,0,0]
["","",null,null,null,null,null,null,null,null,null,{"$f":"IF(ISNUMBER(MATCH(B29,Lists!$D$3:$D$11,0)),1,0)","v":0},{"$f":"IF(ISNUMBER(MATCH(B29,Lists!$F$3:$F$14,0)),1,0)","v":0},-1,"",0,null,0,0,0,0,0,0]
["","",null,null,null,null,null,null,null,null,null,{"$f":"IF(ISNUMBER(MATCH(B30,Lists!$D$3:$D$11,0)),1,0)","v":0},{"$f":"IF(ISNUMBER(MATCH(B30,Lists!$F$3:$F$14,0)),1,0)","v":0},-1,"",0,null,0,0,0,0,0,0]
["","",null,null,null,null,null,null,null,null,null,{"$f":"IF(ISNUMBER(MATCH(B31,Lists!$D$3:$D$11,0)),1,0)","v":0},{"$f":"IF(ISNUMBER(MATCH(B31,Lists!$F$3:$F$14,0)),1,0)","v":0},-1,"",0,null,0,0,0,0,0,0]
["","",null,null,null,null,null,null,null,null,null,{"$f":"IF(ISNUMBER(MATCH(B32,Lists!$D$3:$D$11,0)),1,0)","v":0},{"$f":"IF(ISNUMBER(MATCH(B32,Lists!$F$3:$F$14,0)),1,0)","v":0},-1,"",0,null,0,0,0,0,0,0]
["","",null,null,null,null,null,null,null,null,null,{"$f":"IF(ISNUMBER(MATCH(B33,Lists!$D$3:$D$11,0)),1,0)","v":0},{"$f":"IF(ISNUMBER(MATCH(B33,Lists!$F$3:$F$14,0)),1,0)","v":0},-1,"",0,null,0,0,0,0,0,0]
["","",null,null,null,null,null,null,null,null,null,{"$f":"IF(ISNUMBER(MATCH(B34,Lists!$D$3:$D$11,0)),1,0)","v":0},{"$f":"IF(ISNUMBER(MATCH(B34,Lists!$F$3:$F$14,0)),1,0)","v":0},-1,"",0,null,0,0,0,0,0,0]
["","",null,null,null,null,null,null,null,null,null,{"$f":"IF(ISNUMBER(MATCH(B35,Lists!$D$3:$D$11,0)),1,0)","v":0},{"$f":"IF(ISNUMBER(MATCH(B35,Lists!$F$3:$F$14,0)),1,0)","v":0},-1,"",0,null,0,0,0,0,0,0]
["","",null,null,null,null,null,null,null,null,null,{"$f":"IF(ISNUMBER(MATCH(B36,Lists!$D$3:$D$11,0)),1,0)","v":0},{"$f":"IF(ISNUMBER(MATCH(B36,Lists!$F$3:$F$14,0)),1,0)","v":0},-1,"",0,null,0,0,0,0,0,0]
["","",null,null,null,null,null,null,null,null,null,{"$f":"IF(ISNUMBER(MATCH(B37,Lists!$D$3:$D$11,0)),1,0)","v":0},{"$f":"IF(ISNUMBER(MATCH(B37,Lists!$F$3:$F$14,0)),1,0)","v":0},-1,"",0,null,0,0,0,0,0,0]
["","",null,null,null,null,null,null,null,null,null,{"$f":"IF(ISNUMBER(MATCH(B38,Lists!$D$3:$D$11,0)),1,0)","v":0},{"$f":"IF(ISNUMBER(MATCH(B38,Lists!$F$3:$F$14,0)),1,0)","v":0},-1,"",0,null,0,0,0,0,0,0]
["","",null,null,null,null,null,null,null,null,null,{"$f":"IF(ISNUMBER(MATCH(B39,Lists!$D$3:$D$11,0)),1,0)","v":0},{"$f":"IF(ISNUMBER(MATCH(B39,Lists!$F$3:$F$14,0)),1,0)","v":0},-1,"",0,null,0,0,0,0,0,0]
["","",null,null,null,null,null,null,null,null,null,{"$f":"IF(ISNUMBER(MATCH(B40,Lists!$D$3:$D$11,0)),1,0)","v":0},{"$f":"IF(ISNUMBER(MATCH(B40,Lists!$F$3:$F$14,0)),1,0)","v":0},-1,"",0,null,0,0,0,0,0,0]
["","",null,null,null,null,null,null,null,null,null,{"$f":"IF(ISNUMBER(MATCH(B41,Lists!$D$3:$D$11,0)),1,0)","v":0},{"$f":"IF(ISNUMBER(MATCH(B41,Lists!$F$3:$F$14,0)),1,0)","v":0},-1,"",0,null,0,0,0,0,0,0]
["","",null,null,null,null,null,null,null,null,null,{"$f":"IF(ISNUMBER(MATCH(B42,Lists!$D$3:$D$11,0)),1,0)","v":0},{"$f":"IF(ISNUMBER(MATCH(B42,Lists!$F$3:$F$14,0)),1,0)","v":0},-1,"",0,null,0,0,0,0,0,0]
["","",null,null,null,null,null,null,null,null,null,{"$f":"IF(ISNUMBER(MATCH(B43,Lists!$D$3:$D$11,0)),1,0)","v":0},{"$f":"IF(ISNUMBER(MATCH(B43,Lists!$F$3:$F$14,0)),1,0)","v":0},-1,"",0,null,0,0,0,0,0,0]
["","",null,null,null,null,null,null,null,null,null,{"$f":"IF(ISNUMBER(MATCH(B44,Lists!$D$3:$D$11,0)),1,0)","v":0},{"$f":"IF(ISNUMBER(MATCH(B44,Lists!$F$3:$F$14,0)),1,0)","v":0},-1,"",0,null,0,0,0,0,0,0]
["","",null,null,null,null,null,null,null,null,null,{"$f":"IF(ISNUMBER(MATCH(B45,Lists!$D$3:$D$11,0)),1,0)","v":0},{"$f":"IF(ISNUMBER(MATCH(B45,Lists!$F$3:$F$14,0)),1,0)","v":0},-1,"",0,null,0,0,0,0,0,0]
["","",null,null,null,null,null,null,null,null,null,{"$f":"IF(ISNUMBER(MATCH(B46,Lists!$D$3:$D$11,0)),1,0)","v":0},{"$f":"IF(ISNUMBER(MATCH(B46,Lists!$F$3:$F$14,0)),1,0)","v":0},-1,"",0,null,0,0,0,0,0,0]
["","",null,null,null,null,null,null,null,null,null,{"$f":"IF(ISNUMBER(MATCH(B47,Lists!$D$3:$D$11,0)),1,0)","v":0},{"$f":"IF(ISNUMBER(MATCH(B47,Lists!$F$3:$F$14,0)),1,0)","v":0},-1,"",0,null,0,0,0,0,0,0]
["","",null,null,null,null,null,null,null,null,null,{"$f":"IF(ISNUMBER(MATCH(B48,Lists!$D$3:$D$11,0)),1,0)","v":0},{"$f":"IF(ISNUMBER(MATCH(B48,Lists!$F$3:$F$14,0)),1,0)","v":0},-1,"",0,null,0,0,0,0,0,0]
["","",null,null,null,null,null,null,null,null,null,{"$f":"IF(ISNUMBER(MATCH(B49,Lists!$D$3:$D$11,0)),1,0)","v":0},{"$f":"IF(ISNUMBER(MATCH(B49,Lists!$F$3:$F$14,0)),1,0)","v":0},-1,"",0,null,0,0,0,0,0,0]
["","",null,null,null,null,null,null,null,null,null,{"$f":"IF(ISNUMBER(MATCH(B50,Lists!$D$3:$D$11,0)),1,0)","v":0},{"$f":"IF(ISNUMBER(MATCH(B50,Lists!$F$3:$F$14,0)),1,0)","v":0},-1,"",0,null,0,0,0,0,0,0]
["","",null,null,null,null,null,null,null,null,null,{"$f":"IF(ISNUMBER(MATCH(B51,Lists!$D$3:$D$11,0)),1,0)","v":0},{"$f":"IF(ISNUMBER(MATCH(B51,Lists!$F$3:$F$14,0)),1,0)","v":0},-1,"",0,null,0,0,0,0,0,0]
["","",null,null,null,null,null,null,null,null,null,{"$f":"IF(ISNUMBER(MATCH(B52,Lists!$D$3:$D$11,0)),1,0)","v":0},{"$f":"IF(ISNUMBER(MATCH(B52,Lists!$F$3:$F$14,0)),1,0)","v":0},-1,"",0,null,0,0,0,0,0,0]
["","",null,null,null,null,null,null,null,null,null,{"$f":"IF(ISNUMBER(MATCH(B53,Lists!$D$3:$D$11,0)),1,0)","v":0},{"$f":"IF(ISNUMBER(MATCH(B53,Lists!$F$3:$F$14,0)),1,0)","v":0},-1,"",0,null,0,0,0,0,0,0]
["","",null,null,null,null,null,null,null,null,null,{"$f":"IF(ISNUMBER(MATCH(B54,Lists!$D$3:$D$11,0)),1,0)","v":0},{"$f":"IF(ISNUMBER(MATCH(B54,Lists!$F$3:$F$14,0)),1,0)","v":0},-1,"",0,null,0,0,0,0,0,0]
["","",null,null,null,null,null,null,null,null,null,{"$f":"IF(ISNUMBER(MATCH(B55,Lists!$D$3:$D$11,0)),1,0)","v":0},{"$f":"IF(ISNUMBER(MATCH(B55,Lists!$F$3:$F$14,0)),1,0)","v":0},-1,"",0,null,0,0,0,0,0,0]
["","",null,null,null,null,null,null,null,null,null,{"$f":"IF(ISNUMBER(MATCH(B56,Lists!$D$3:$D$11,0)),1,0)","v":0},{"$f":"IF(ISNUMBER(MATCH(B56,Lists!$F$3:$F$14,0)),1,0)","v":0},-1,"",0,null,0,0,0,0,0,0]
["","",null,null,null,null,null,null,null,null,null,{"$f":"IF(ISNUMBER(MATCH(B57,Lists!$D$3:$D$11,0)),1,0)","v":0},{"$f":"IF(ISNUMBER(MATCH(B57,Lists!$F$3:$F$14,0)),1,0)","v":0},-1,"",0,null,0,0,0,0,0,0]
["","",null,null,null,null,null,null,null,null,null,{"$f":"IF(ISNUMBER(MATCH(B58,Lists!$D$3:$D$11,0)),1,0)","v":0},{"$f":"IF(ISNUMBER(MATCH(B58,Lists!$F$3:$F$14,0)),1,0)","v":0},-1,"",0,null,0,0,0,0,0,0]
["","",null,null,null,null,null,null,null,null,null,{"$f":"IF(ISNUMBER(MATCH(B59,Lists!$D$3:$D$11,0)),1,0)","v":0},{"$f":"IF(ISNUMBER(MATCH(B59,Lists!$F$3:$F$14,0)),1,0)","v":0},-1,"",0,null,0,0,0,0,0,0]
["","",null,null,null,null,null,null,null,null,null,{"$f":"IF(ISNUMBER(MATCH(B60,Lists!$D$3:$D$11,0)),1,0)","v":0},{"$f":"IF(ISNUMBER(MATCH(B60,Lists!$F$3:$F$14,0)),1,0)","v":0},-1,"",0,null,0,0,0,0,0,0]
["","",null,null,null,null,null,null,null,null,null,{"$f":"IF(ISNUMBER(MATCH(B61,Lists!$D$3:$D$11,0)),1,0)","v":0},{"$f":"IF(ISNUMBER(MATCH(B61,Lists!$F$3:$F$14,0)),1,0)","v":0},-1,"",0,null,0,0,0,0,0,0]
["","",null,null,null,null,null,null,null,null,null,{"$f":"IF(ISNUMBER(MATCH(B62,Lists!$D$3:$D$11,0)),1,0)","v":0},{"$f":"IF(ISNUMBER(MATCH(B62,Lists!$F$3:$F$14,0)),1,0)","v":0},-1,"",0,null,0,0,0,0,0,0]
["","",null,null,null,null,null,null,null,null,null,{"$f":"IF(ISNUMBER(MATCH(B63,Lists!$D$3:$D$11,0)),1,0)","v":0},{"$f":"IF(ISNUMBER(MATCH(B63,Lists!$F$3:$F$14,0)),1,0)","v":0},-1,"",0,null,0,0,0,0,0,0]
["","",null,null,null,null,null,null,null,null,null,{"$f":"IF(ISNUMBER(MATCH(B64,Lists!$D$3:$D$11,0)),1,0)","v":0},{"$f":"IF(ISNUMBER(MATCH(B64,Lists!$F$3:$F$14,0)),1,0)","v":0},-1,"",0,null,0,0,0,0,0,0]
["","",null,null,null,null,null,null,null,null,null,{"$f":"IF(ISNUMBER(MATCH(B65,Lists!$D$3:$D$11,0)),1,0)","v":0},{"$f":"IF(ISNUMBER(MATCH(B65,Lists!$F$3:$F$14,0)),1,0)","v":0},-1,"",0,null,0,0,0,0,0,0]
["","",null,null,null,null,null,null,null,null,null,{"$f":"IF(ISNUMBER(MATCH(B66,Lists!$D$3:$D$11,0)),1,0)","v":0},{"$f":"IF(ISNUMBER(MATCH(B66,Lists!$F$3:$F$14,0)),1,0)","v":0},-1,"",0,null,0,0,0,0,0,0]
["","",null,null,null,null,null,null,null,null,null,{"$f":"IF(ISNUMBER(MATCH(B67,Lists!$D$3:$D$11,0)),1,0)","v":0},{"$f":"IF(ISNUMBER(MATCH(B67,Lists!$F$3:$F$14,0)),1,0)","v":0},-1,"",0,null,0,0,0,0,0,0]
["","",null,null,null,null,null,null,null,null,null,{"$f":"IF(ISNUMBER(MATCH(B68,Lists!$D$3:$D$11,0)),1,0)","v":0},{"$f":"IF(ISNUMBER(MATCH(B68,Lists!$F$3:$F$14,0)),1,0)","v":0},-1,"",0,null,0,0,0,0,0,0]
["","",null,null,null,null,null,null,null,null,null,{"$f":"IF(ISNUMBER(MATCH(B69,Lists!$D$3:$D$11,0)),1,0)","v":0},{"$f":"IF(ISNUMBER(MATCH(B69,Lists!$F$3:$F$14,0)),1,0)","v":0},-1,"",0,null,0,0,0,0,0,0]
["","",null,null,null,null,null,null,null,null,null,{"$f":"IF(ISNUMBER(MATCH(B70,Lists!$D$3:$D$11,0)),1,0)","v":0},{"$f":"IF(ISNUMBER(MATCH(B70,Lists!$F$3:$F$14,0)),1,0)","v":0},-1,"",0,null,0,0,0,0,0,0]
["","",null,null,null,null,null,null,null,null,null,{"$f":"IF(ISNUMBER(MATCH(B71,Lists!$D$3:$D$11,0)),1,0)","v":0},{"$f":"IF(ISNUMBER(MATCH(B71,Lists!$F$3:$F$14,0)),1,0)","v":0},-1,"",0,null,0,0,0,0,0,0]
["","",null,null,null,null,null,null,null,null,null,{"$f":"IF(ISNUMBER(MATCH(B72,Lists!$D$3:$D$11,0)),1,0)","v":0},{"$f":"IF(ISNUMBER(MATCH(B72,Lists!$F$3:$F$14,0)),1,0)","v":0},-1,"",0,null,0,0,0,0,0,0]
["","",null,null,null,null,null,null,null,null,null,{"$f":"IF(ISNUMBER(MATCH(B73,Lists!$D$3:$D$11,0)),1,0)","v":0},{"$f":"IF(ISNUMBER(MATCH(B73,Lists!$F$3:$F$14,0)),1,0)","v":0},-1,"",0,null,0,0,0,0,0,0]
["","",null,null,null,null,null,null,null,null,null,{"$f":"IF(ISNUMBER(MATCH(B74,Lists!$D$3:$D$11,0)),1,0)","v":0},{"$f":"IF(ISNUMBER(MATCH(B74,Lists!$F$3:$F$14,0)),1,0)","v":0},-1,"",0,null,0,0,0,0,0,0]
["","",null,null,null,null,null,null,null,null,null,{"$f":"IF(ISNUMBER(MATCH(B75,Lists!$D$3:$D$11,0)),1,0)","v":0},{"$f":"IF(ISNUMBER(MATCH(B75,Lists!$F$3:$F$14,0)),1,0)","v":0},-1,{"$f":"IFERROR(VLOOKUP(B75,VehicleLookUp,2,FALSE),\"\")","v":""},0,null,0,0,0,0,0,0]
["","",null,null,null,null,null,null,null,null,null,{"$f":"IF(ISNUMBER(MATCH(B76,Lists!$D$3:$D$11,0)),1,0)","v":0},{"$f":"IF(ISNUMBER(MATCH(B76,Lists!$F$3:$F$14,0)),1,0)","v":0},-1,"",0,null,{"$f":"IFERROR(IF( VLOOKUP($B76,CheckData,3,FALSE)=1,IF($E76=\"n\",1,0),0),0)","v":0},{"$f":"IFERROR(IF( VLOOKUP($B76,CheckData,4,FALSE)=1,IF($F76=\"n\",1,0),0),0)","v":0},{"$f":"IFERROR(IF( VLOOKUP($B76,CheckData,5,FALSE)=1,IF($G76=\"n\",1,0),0),0)","v":0},{"$f":"IFERROR(IF( OR($D76=\"y\",AND(VLOOKUP($B76,CheckData,6,FALSE)=1, $C76=\"n\")),IF($H76=\"n\",1,0),0),0)","v":0},{"$f":"IFERROR(IF( VLOOKUP($B76,CheckData,7,FALSE)=1,IF($I76=\"n\",1,0),0),0)","v":0},{"$f":"IFERROR(IF(AND( VLOOKUP($B76,CheckData,8,FALSE)=1, $C76=\"y\"),IF(AND($J76=\"n\",AND($D76=\"n\",$H76=\"n\")),1,0),0),0)","v":0}]
["","",null,null,null,null,null,null,null,null,null,{"$f":"IF(ISNUMBER(MATCH(B77,Lists!$D$3:$D$11,0)),1,0)","v":0},{"$f":"IF(ISNUMBER(MATCH(B77,Lists!$F$3:$F$14,0)),1,0)","v":0},{"$f":"IF(COUNTBLANK(A77:J77)=10,-1,10-((2-COUNTBLANK(A77:B77))+COUNTIF(C77:J77,\"y\")+COUNTIF(C77:J77,\"n\")))","v":-1},"",{"$f":"SUM(Q77:W77)","v":0},null,0,0,0,0,0,0]
["","",null,null,null,null,null,null,null,null,null,{"$f":"IF(ISNUMBER(MATCH(B78,Lists!$D$3:$D$11,0)),1,0)","v":0},{"$f":"IF(ISNUMBER(MATCH(B78,Lists!$F$3:$F$14,0)),1,0)","v":0},-1,"",0,null,0,0,0,0,0,0]
["","",null,null,null,null,null,null,null,null,null,{"$f":"IF(ISNUMBER(MATCH(B79,Lists!$D$3:$D$11,0)),1,0)","v":0},{"$f":"IF(ISNUMBER(MATCH(B79,Lists!$F$3:$F$14,0)),1,0)","v":0},-1,"",0,null,0,0,0,0,0,0]
["","",null,null,null,null,null,null,null,null,null,{"$f":"IF(ISNUMBER(MATCH(B80,Lists!$D$3:$D$11,0)),1,0)","v":0},{"$f":"IF(ISNUMBER(MATCH(B80,Lists!$F$3:$F$14,0)),1,0)","v":0},-1,"",0,null,0,0,0,0,0,0]
["","",null,null,null,null,null,null,null,null,null,{"$f":"IF(ISNUMBER(MATCH(B81,Lists!$D$3:$D$11,0)),1,0)","v":0},{"$f":"IF(ISNUMBER(MATCH(B81,Lists!$F$3:$F$14,0)),1,0)","v":0},-1,"",0,null,0,0,0,0,0,0]
["","",null,null,null,null,null,null,null,null,null,{"$f":"IF(ISNUMBER(MATCH(B82,Lists!$D$3:$D$11,0)),1,0)","v":0},{"$f":"IF(ISNUMBER(MATCH(B82,Lists!$F$3:$F$14,0)),1,0)","v":0},-1,"",0,null,0,0,0,0,0,0]
["","",null,null,null,null,null,null,null,null,null,{"$f":"IF(ISNUMBER(MATCH(B83,Lists!$D$3:$D$11,0)),1,0)","v":0},{"$f":"IF(ISNUMBER(MATCH(B83,Lists!$F$3:$F$14,0)),1,0)","v":0},-1,"",0,null,0,0,0,0,0,0]
["","",null,null,null,null,null,null,null,null,null,{"$f":"IF(ISNUMBER(MATCH(B84,Lists!$D$3:$D$11,0)),1,0)","v":0},{"$f":"IF(ISNUMBER(MATCH(B84,Lists!$F$3:$F$14,0)),1,0)","v":0},-1,"",0,null,0,0,0,0,0,0]
["","",null,null,null,null,null,null,null,null,null,{"$f":"IF(ISNUMBER(MATCH(B85,Lists!$D$3:$D$11,0)),1,0)","v":0},{"$f":"IF(ISNUMBER(MATCH(B85,Lists!$F$3:$F$14,0)),1,0)","v":0},-1,"",0,null,0,0,0,0,0,0]
["","",null,null,null,null,null,null,null,null,null,{"$f":"IF(ISNUMBER(MATCH(B86,Lists!$D$3:$D$11,0)),1,0)","v":0},{"$f":"IF(ISNUMBER(MATCH(B86,Lists!$F$3:$F$14,0)),1,0)","v":0},-1,"",0,null,0,0,0,0,0,0]
["","",null,null,null,null,null,null,null,null,null,{"$f":"IF(ISNUMBER(MATCH(B87,Lists!$D$3:$D$11,0)),1,0)","v":0},{"$f":"IF(ISNUMBER(MATCH(B87,Lists!$F$3:$F$14,0)),1,0)","v":0},-1,"",0,null,0,0,0,0,0,0]
["","",null,null,null,null,null,null,null,null,null,{"$f":"IF(ISNUMBER(MATCH(B88,Lists!$D$3:$D$11,0)),1,0)","v":0},{"$f":"IF(ISNUMBER(MATCH(B88,Lists!$F$3:$F$14,0)),1,0)","v":0},-1,"",0,null,0,0,0,0,0,0]
["","",null,null,null,null,null,null,null,null,null,{"$f":"IF(ISNUMBER(MATCH(B89,Lists!$D$3:$D$11,0)),1,0)","v":0},{"$f":"IF(ISNUMBER(MATCH(B89,Lists!$F$3:$F$14,0)),1,0)","v":0},-1,"",0,null,0,0,0,0,0,0]
["","",null,null,null,null,null,null,null,null,null,{"$f":"IF(ISNUMBER(MATCH(B90,Lists!$D$3:$D$11,0)),1,0)","v":0},{"$f":"IF(ISNUMBER(MATCH(B90,Lists!$F$3:$F$14,0)),1,0)","v":0},-1,"",0,null,0,0,0,0,0,0]
["","",null,null,null,null,null,null,null,null,null,{"$f":"IF(ISNUMBER(MATCH(B91,Lists!$D$3:$D$11,0)),1,0)","v":0},{"$f":"IF(ISNUMBER(MATCH(B91,Lists!$F$3:$F$14,0)),1,0)","v":0},-1,"",0,null,0,0,0,0,0,0]
["","",null,null,null,null,null,null,null,null,null,{"$f":"IF(ISNUMBER(MATCH(B92,Lists!$D$3:$D$11,0)),1,0)","v":0},{"$f":"IF(ISNUMBER(MATCH(B92,Lists!$F$3:$F$14,0)),1,0)","v":0},-1,"",0,null,0,0,0,0,0,0]
["","",null,null,null,null,null,null,null,null,null,{"$f":"IF(ISNUMBER(MATCH(B93,Lists!$D$3:$D$11,0)),1,0)","v":0},{"$f":"IF(ISNUMBER(MATCH(B93,Lists!$F$3:$F$14,0)),1,0)","v":0},-1,"",0,null,0,0,0,0,0,0]
["","",null,null,null,null,null,null,null,null,null,{"$f":"IF(ISNUMBER(MATCH(B94,Lists!$D$3:$D$11,0)),1,0)","v":0},{"$f":"IF(ISNUMBER(MATCH(B94,Lists!$F$3:$F$14,0)),1,0)","v":0},-1,"",0,null,0,0,0,0,0,0]
["","",null,null,null,null,null,null,null,null,null,{"$f":"IF(ISNUMBER(MATCH(B95,Lists!$D$3:$D$11,0)),1,0)","v":0},{"$f":"IF(ISNUMBER(MATCH(B95,Lists!$F$3:$F$14,0)),1,0)","v":0},-1,"",0,null,0,0,0,0,0,0]
["","",null,null,null,null,null,null,null,null,null,{"$f":"IF(ISNUMBER(MATCH(B96,Lists!$D$3:$D$11,0)),1,0)","v":0},{"$f":"IF(ISNUMBER(MATCH(B96,Lists!$F$3:$F$14,0)),1,0)","v":0},-1,"",0,null,0,0,0,0,0,0]
["","",null,null,null,null,null,null,null,null,null,{"$f":"IF(ISNUMBER(MATCH(B97,Lists!$D$3:$D$11,0)),1,0)","v":0},{"$f":"IF(ISNUMBER(MATCH(B97,Lists!$F$3:$F$14,0)),1,0)","v":0},-1,"",0,null,0,0,0,0,0,0]
["","",null,null,null,null,null,null,null,null,null,{"$f":"IF(ISNUMBER(MATCH(B98,Lists!$D$3:$D$11,0)),1,0)","v":0},{"$f":"IF(ISNUMBER(MATCH(B98,Lists!$F$3:$F$14,0)),1,0)","v":0},-1,"",0,null,0,0,0,0,0,0]
["","",null,null,null,null,null,null,null,null,null,{"$f":"IF(ISNUMBER(MATCH(B99,Lists!$D$3:$D$11,0)),1,0)","v":0},{"$f":"IF(ISNUMBER(MATCH(B99,Lists!$F$3:$F$14,0)),1,0)","v":0},-1,"",0,null,0,0,0,0,0,0]
["","",null,null,null,null,null,null,null,null,null,{"$f":"IF(ISNUMBER(MATCH(B100,Lists!$D$3:$D$11,0)),1,0)","v":0},{"$f":"IF(ISNUMBER(MATCH(B100,Lists!$F$3:$F$14,0)),1,0)","v":0},-1,"",0,null,0,0,0,0,0,0]
["","",null,null,null,null,null,null,null,null,null,{"$f":"IF(ISNUMBER(MATCH(B101,Lists!$D$3:$D$11,0)),1,0)","v":0},{"$f":"IF(ISNUMBER(MATCH(B101,Lists!$F$3:$F$14,0)),1,0)","v":0},-1,"",0,null,0,0,0,0,0,0]
["","",null,null,null,null,null,null,null,null,null,{"$f":"IF(ISNUMBER(MATCH(B102,Lists!$D$3:$D$11,0)),1,0)","v":0},{"$f":"IF(ISNUMBER(MATCH(B102,Lists!$F$3:$F$14,0)),1,0)","v":0},-1,"",0,null,0,0,0,0,0,0]
["","",null,null,null,null,null,null,null,null,null,{"$f":"IF(ISNUMBER(MATCH(B103,Lists!$D$3:$D$11,0)),1,0)","v":0},{"$f":"IF(ISNUMBER(MATCH(B103,Lists!$F$3:$F$14,0)),1,0)","v":0},-1,"",0,null,0,0,0,0,0,0]
["","",null,null,null,null,null,null,null,null,null,{"$f":"IF(ISNUMBER(MATCH(B104,Lists!$D$3:$D$11,0)),1,0)","v":0},{"$f":"IF(ISNUMBER(MATCH(B104,Lists!$F$3:$F$14,0)),1,0)","v":0},-1,"",0,null,0,0,0,0,0,0]
["","",null,null,null,null,null,null,null,null,null,{"$f":"IF(ISNUMBER(MATCH(B105,Lists!$D$3:$D$11,0)),1,0)","v":0},{"$f":"IF(ISNUMBER(MATCH(B105,Lists!$F$3:$F$14,0)),1,0)","v":0},-1,"",0,null,0,0,0,0,0,0]
["","",null,null,null,null,null,null,null,null,null,{"$f":"IF(ISNUMBER(MATCH(B106,Lists!$D$3:$D$11,0)),1,0)","v":0},{"$f":"IF(ISNUMBER(MATCH(B106,Lists!$F$3:$F$14,0)),1,0)","v":0},-1,"",0,null,0,0,0,0,0,0]
["","",null,null,null,null,null,null,null,null,null,{"$f":"IF(ISNUMBER(MATCH(B107,Lists!$D$3:$D$11,0)),1,0)","v":0},{"$f":"IF(ISNUMBER(MATCH(B107,Lists!$F$3:$F$14,0)),1,0)","v":0},-1,"",0,null,0,0,0,0,0,0]
["","",null,null,null,null,null,null,null,null,null,{"$f":"IF(ISNUMBER(MATCH(B108,Lists!$D$3:$D$11,0)),1,0)","v":0},{"$f":"IF(ISNUMBER(MATCH(B108,Lists!$F$3:$F$14,0)),1,0)","v":0},-1,"",0,null,0,0,0,0,0,0]
["","",null,null,null,null,null,null,null,null,null,{"$f":"IF(ISNUMBER(MATCH(B109,Lists!$D$3:$D$11,0)),1,0)","v":0},{"$f":"IF(ISNUMBER(MATCH(B109,Lists!$F$3:$F$14,0)),1,0)","v":0},-1,"",0,null,0,0,0,0,0,0]
["","",null,null,null,null,null,null,null,null,null,{"$f":"IF(ISNUMBER(MATCH(B110,Lists!$D$3:$D$11,0)),1,0)","v":0},{"$f":"IF(ISNUMBER(MATCH(B110,Lists!$F$3:$F$14,0)),1,0)","v":0},-1,"",0,null,0,0,0,0,0,0]
["","",null,null,null,null,null,null,null,null,null,{"$f":"IF(ISNUMBER(MATCH(B111,Lists!$D$3:$D$11,0)),1,0)","v":0},{"$f":"IF(ISNUMBER(MATCH(B111,Lists!$F$3:$F$14,0)),1,0)","v":0},-1,"",0,null,0,0,0,0,0,0]
[null,null,null,null,null,null,null,null,null,null,null,{"$f":"IF(ISNUMBER(MATCH(B112,Lists!$D$3:$D$11,0)),1,0)","v":0},{"$f":"IF(ISNUMBER(MATCH(B112,Lists!$F$3:$F$14,0)),1,0)","v":0},-1,"",0,null,0,0,0,0,0,0]
[null,null,null,null,null,null,null,null,null,null,null,{"$f":"IF(ISNUMBER(MATCH(B113,Lists!$D$3:$D$11,0)),1,0)","v":0},{"$f":"IF(ISNUMBER(MATCH(B113,Lists!$F$3:$F$14,0)),1,0)","v":0},-1,"",0,null,0,0,0,0,0,0]
[null,null,null,null,null,null,null,null,null,null,null,{"$f":"IF(ISNUMBER(MATCH(B114,Lists!$D$3:$D$11,0)),1,0)","v":0},{"$f":"IF(ISNUMBER(MATCH(B114,Lists!$F$3:$F$14,0)),1,0)","v":0},-1,"",0,null,0,0,0,0,0,0]
[null,null,null,null,null,null,null,null,null,null,null,{"$f":"IF(ISNUMBER(MATCH(B115,Lists!$D$3:$D$11,0)),1,0)","v":0},{"$f":"IF(ISNUMBER(MATCH(B115,Lists!$F$3:$F$14,0)),1,0)","v":0},-1,"",0,null,0,0,0,0,0,0]
[null,"",null,null,null,null,null,null,null,null,null,{"$f":"IF(ISNUMBER(MATCH(B116,Lists!$D$3:$D$11,0)),1,0)","v":0},{"$f":"IF(ISNUMBER(MATCH(B116,Lists!$F$3:$F$14,0)),1,0)","v":0},-1,"",0,null,0,0,0,0,0,0]
[null,"",null,null,null,null,null,null,null,null,null,{"$f":"IF(ISNUMBER(MATCH(B117,Lists!$D$3:$D$11,0)),1,0)","v":0},{"$f":"IF(ISNUMBER(MATCH(B117,Lists!$F$3:$F$14,0)),1,0)","v":0},-1,"",0,null,0,0,0,0,0,0]
[null,"",null,null,null,null,null,null,null,null,null,{"$f":"IF(ISNUMBER(MATCH(B118,Lists!$D$3:$D$11,0)),1,0)","v":0},{"$f":"IF(ISNUMBER(MATCH(B118,Lists!$F$3:$F$14,0)),1,0)","v":0},-1,"",0,null,0,0,0,0,0,0]
[null,"",null,null,null,null,null,null,null,null,null,{"$f":"IF(ISNUMBER(MATCH(B119,Lists!$D$3:$D$11,0)),1,0)","v":0},{"$f":"IF(ISNUMBER(MATCH(B119,Lists!$F$3:$F$14,0)),1,0)","v":0},-1,"",0,null,0,0,0,0,0,0]
[null,"",null,null,null,null,null,null,null,null,null,{"$f":"IF(ISNUMBER(MATCH(B120,Lists!$D$3:$D$11,0)),1,0)","v":0},{"$f":"IF(ISNUMBER(MATCH(B120,Lists!$F$3:$F$14,0)),1,0)","v":0},-1,"",0,null,0,0,0,0,0,0]
[null,"",null,null,null,null,null,null,null,null,null,{"$f":"IF(ISNUMBER(MATCH(B121,Lists!$D$3:$D$11,0)),1,0)","v":0},{"$f":"IF(ISNUMBER(MATCH(B121,Lists!$F$3:$F$14,0)),1,0)","v":0},-1,"",0,null,0,0,0,0,0,0]
[null,"",null,null,null,null,null,null,null,null,null,{"$f":"IF(ISNUMBER(MATCH(B122,Lists!$D$3:$D$11,0)),1,0)","v":0},{"$f":"IF(ISNUMBER(MATCH(B122,Lists!$F$3:$F$14,0)),1,0)","v":0},-1,"",0,null,0,0,0,0,0,0]
["","",null,null,null,null,null,null,null,null,null,{"$f":"IF(ISNUMBER(MATCH(B123,Lists!$D$3:$D$11,0)),1,0)","v":0},{"$f":"IF(ISNUMBER(MATCH(B123,Lists!$F$3:$F$14,0)),1,0)","v":0},-1,"",0,null,0,0,0,0,0,0]
["","",null,null,null,null,null,null,null,null,null,{"$f":"IF(ISNUMBER(MATCH(B124,Lists!$D$3:$D$11,0)),1,0)","v":0},{"$f":"IF(ISNUMBER(MATCH(B124,Lists!$F$3:$F$14,0)),1,0)","v":0},-1,"",0,null,0,0,0,0,0,0]
["","",null,null,null,null,null,null,null,null,null,{"$f":"IF(ISNUMBER(MATCH(B125,Lists!$D$3:$D$11,0)),1,0)","v":0},{"$f":"IF(ISNUMBER(MATCH(B125,Lists!$F$3:$F$14,0)),1,0)","v":0},-1,"",0,null,0,0,0,0,0,0]
["","",null,null,null,null,null,null,null,null,null,{"$f":"IF(ISNUMBER(MATCH(B126,Lists!$D$3:$D$11,0)),1,0)","v":0},{"$f":"IF(ISNUMBER(MATCH(B126,Lists!$F$3:$F$14,0)),1,0)","v":0},-1,"",0,null,0,0,0,0,0,0]
["","",null,null,null,null,null,null,null,null,null,{"$f":"IF(ISNUMBER(MATCH(B127,Lists!$D$3:$D$11,0)),1,0)","v":0},{"$f":"IF(ISNUMBER(MATCH(B127,Lists!$F$3:$F$14,0)),1,0)","v":0},-1,"",0,null,0,0,0,0,0,0]
["","",null,null,null,null,null,null,null,null,null,{"$f":"IF(ISNUMBER(MATCH(B128,Lists!$D$3:$D$11,0)),1,0)","v":0},{"$f":"IF(ISNUMBER(MATCH(B128,Lists!$F$3:$F$14,0)),1,0)","v":0},-1,"",0,null,0,0,0,0,0,0]
["","",null,null,null,null,null,null,null,null,null,{"$f":"IF(ISNUMBER(MATCH(B129,Lists!$D$3:$D$11,0)),1,0)","v":0},{"$f":"IF(ISNUMBER(MATCH(B129,Lists!$F$3:$F$14,0)),1,0)","v":0},-1,"",0,null,0,0,0,0,0,0]
["","",null,null,null,null,null,null,null,null,null,{"$f":"IF(ISNUMBER(MATCH(B130,Lists!$D$3:$D$11,0)),1,0)","v":0},{"$f":"IF(ISNUMBER(MATCH(B130,Lists!$F$3:$F$14,0)),1,0)","v":0},-1,"",0,null,0,0,0,0,0,0]
["","",null,null,null,null,null,null,null,null,null,{"$f":"IF(ISNUMBER(MATCH(B131,Lists!$D$3:$D$11,0)),1,0)","v":0},{"$f":"IF(ISNUMBER(MATCH(B131,Lists!$F$3:$F$14,0)),1,0)","v":0},-1,"",0,null,0,0,0,0,0,0]
["","",null,null,null,null,null,null,null,null,null,{"$f":"IF(ISNUMBER(MATCH(B132,Lists!$D$3:$D$11,0)),1,0)","v":0},{"$f":"IF(ISNUMBER(MATCH(B132,Lists!$F$3:$F$14,0)),1,0)","v":0},-1,"",0,null,0,0,0,0,0,0]
["","",null,null,null,null,null,null,null,null,null,{"$f":"IF(ISNUMBER(MATCH(B133,Lists!$D$3:$D$11,0)),1,0)","v":0},{"$f":"IF(ISNUMBER(MATCH(B133,Lists!$F$3:$F$14,0)),1,0)","v":0},-1,"",0,null,0,0,0,0,0,0]
["","",null,null,null,null,null,null,null,null,null,{"$f":"IF(ISNUMBER(MATCH(B134,Lists!$D$3:$D$11,0)),1,0)","v":0},{"$f":"IF(ISNUMBER(MATCH(B134,Lists!$F$3:$F$14,0)),1,0)","v":0},-1,"",0,null,0,0,0,0,0,0]
["","",null,null,null,null,null,null,null,null,null,{"$f":"IF(ISNUMBER(MATCH(B135,Lists!$D$3:$D$11,0)),1,0)","v":0},{"$f":"IF(ISNUMBER(MATCH(B135,Lists!$F$3:$F$14,0)),1,0)","v":0},-1,"",0,null,0,0,0,0,0,0]
["","",null,null,null,null,null,null,null,null,null,{"$f":"IF(ISNUMBER(MATCH(B136,Lists!$D$3:$D$11,0)),1,0)","v":0},{"$f":"IF(ISNUMBER(MATCH(B136,Lists!$F$3:$F$14,0)),1,0)","v":0},-1,"",0,null,0,0,0,0,0,0]
["","",null,null,null,null,null,null,null,null,null,{"$f":"IF(ISNUMBER(MATCH(B137,Lists!$D$3:$D$11,0)),1,0)","v":0},{"$f":"IF(ISNUMBER(MATCH(B137,Lists!$F$3:$F$14,0)),1,0)","v":0},-1,"",0,null,0,0,0,0,0,0]
["","",null,null,null,null,null,null,null,null,null,{"$f":"IF(ISNUMBER(MATCH(B138,Lists!$D$3:$D$11,0)),1,0)","v":0},{"$f":"IF(ISNUMBER(MATCH(B138,Lists!$F$3:$F$14,0)),1,0)","v":0},-1,"",0,null,0,0,0,0,0,0]
["","",null,null,null,null,null,null,null,null,null,{"$f":"IF(ISNUMBER(MATCH(B139,Lists!$D$3:$D$11,0)),1,0)","v":0},{"$f":"IF(ISNUMBER(MATCH(B139,Lists!$F$3:$F$14,0)),1,0)","v":0},-1,{"$f":"IFERROR(VLOOKUP(B139,VehicleLookUp,2,FALSE),\"\")","v":""},0,null,0,0,0,0,0,0]
["","",null,null,null,null,null,null,null,null,null,{"$f":"IF(ISNUMBER(MATCH(B140,Lists!$D$3:$D$11,0)),1,0)","v":0},{"$f":"IF(ISNUMBER(MATCH(B140,Lists!$F$3:$F$14,0)),1,0)","v":0},-1,"",0,null,{"$f":"IFERROR(IF( VLOOKUP($B140,CheckData,3,FALSE)=1,IF($E140=\"n\",1,0),0),0)","v":0},{"$f":"IFERROR(IF( VLOOKUP($B140,CheckData,4,FALSE)=1,IF($F140=\"n\",1,0),0),0)","v":0},{"$f":"IFERROR(IF( VLOOKUP($B140,CheckData,5,FALSE)=1,IF($G140=\"n\",1,0),0),0)","v":0},{"$f":"IFERROR(IF( OR($D140=\"y\",AND(VLOOKUP($B140,CheckData,6,FALSE)=1, $C140=\"n\")),IF($H140=\"n\",1,0),0),0)","v":0},{"$f":"IFERROR(IF( VLOOKUP($B140,CheckData,7,FALSE)=1,IF($I140=\"n\",1,0),0),0)","v":0},{"$f":"IFERROR(IF(AND( VLOOKUP($B140,CheckData,8,FALSE)=1, $C140=\"y\"),IF(AND($J140=\"n\",AND($D140=\"n\",$H140=\"n\")),1,0),0),0)","v":0}]
["","",null,null,null,null,null,null,null,null,null,{"$f":"IF(ISNUMBER(MATCH(B141,Lists!$D$3:$D$11,0)),1,0)","v":0},{"$f":"IF(ISNUMBER(MATCH(B141,Lists!$F$3:$F$14,0)),1,0)","v":0},{"$f":"IF(COUNTBLANK(A141:J141)=10,-1,10-((2-COUNTBLANK(A141:B141))+COUNTIF(C141:J141,\"y\")+COUNTIF(C141:J141,\"n\")))","v":-1},"",{"$f":"SUM(Q141:W141)","v":0},null,0,0,0,0,0,0]
["","",null,null,null,null,null,null,null,null,null,{"$f":"IF(ISNUMBER(MATCH(B142,Lists!$D$3:$D$11,0)),1,0)","v":0},{"$f":"IF(ISNUMBER(MATCH(B142,Lists!$F$3:$F$14,0)),1,0)","v":0},-1,"",0,null,0,0,0,0,0,0]
["","",null,null,null,null,null,null,null,null,null,{"$f":"IF(ISNUMBER(MATCH(B143,Lists!$D$3:$D$11,0)),1,0)","v":0},{"$f":"IF(ISNUMBER(MATCH(B143,Lists!$F$3:$F$14,0)),1,0)","v":0},-1,"",0,null,0,0,0,0,0,0]
["","",null,null,null,null,null,null,null,null,null,{"$f":"IF(ISNUMBER(MATCH(B144,Lists!$D$3:$D$11,0)),1,0)","v":0},{"$f":"IF(ISNUMBER(MATCH(B144,Lists!$F$3:$F$14,0)),1,0)","v":0},-1,"",0,null,0,0,0,0,0,0]
["","",null,null,null,null,null,null,null,null,null,{"$f":"IF(ISNUMBER(MATCH(B145,Lists!$D$3:$D$11,0)),1,0)","v":0},{"$f":"IF(ISNUMBER(MATCH(B145,Lists!$F$3:$F$14,0)),1,0)","v":0},-1,"",0,null,0,0,0,0,0,0]
["","",null,null,null,null,null,null,null,null,null,{"$f":"IF(ISNUMBER(MATCH(B146,Lists!$D$3:$D$11,0)),1,0)","v":0},{"$f":"IF(ISNUMBER(MATCH(B146,Lists!$F$3:$F$14,0)),1,0)","v":0},-1,"",0,null,0,0,0,0,0,0]
["","",null,null,null,null,null,null,null,null,null,{"$f":"IF(ISNUMBER(MATCH(B147,Lists!$D$3:$D$11,0)),1,0)","v":0},{"$f":"IF(ISNUMBER(MATCH(B147,Lists!$F$3:$F$14,0)),1,0)","v":0},-1,"",0,null,0,0,0,0,0,0]
["","",null,null,null,null,null,null,null,null,null,{"$f":"IF(ISNUMBER(MATCH(B148,Lists!$D$3:$D$11,0)),1,0)","v":0},{"$f":"IF(ISNUMBER(MATCH(B148,Lists!$F$3:$F$14,0)),1,0)","v":0},-1,"",0,null,0,0,0,0,0,0]
["","",null,null,null,null,null,null,null,null,null,{"$f":"IF(ISNUMBER(MATCH(B149,Lists!$D$3:$D$11,0)),1,0)","v":0},{"$f":"IF(ISNUMBER(MATCH(B149,Lists!$F$3:$F$14,0)),1,0)","v":0},-1,"",0,null,0,0,0,0,0,0]
["","",null,null,null,null,null,null,null,null,null,{"$f":"IF(ISNUMBER(MATCH(B150,Lists!$D$3:$D$11,0)),1,0)","v":0},{"$f":"IF(ISNUMBER(MATCH(B150,Lists!$F$3:$F$14,0)),1,0)","v":0},-1,"",0,null,0,0,0,0,0,0]
["","",null,null,null,null,null,null,null,null,null,{"$f":"IF(ISNUMBER(MATCH(B151,Lists!$D$3:$D$11,0)),1,0)","v":0},{"$f":"IF(ISNUMBER(MATCH(B151,Lists!$F$3:$F$14,0)),1,0)","v":0},-1,"",0,null,0,0,0,0,0,0]
["","",null,null,null,null,null,null,null,null,null,{"$f":"IF(ISNUMBER(MATCH(B152,Lists!$D$3:$D$11,0)),1,0)","v":0},{"$f":"IF(ISNUMBER(MATCH(B152,Lists!$F$3:$F$14,0)),1,0)","v":0},-1,"",0,null,0,0,0,0,0,0]
["","",null,null,null,null,null,null,null,null,null,{"$f":"IF(ISNUMBER(MATCH(B153,Lists!$D$3:$D$11,0)),1,0)","v":0},{"$f":"IF(ISNUMBER(MATCH(B153,Lists!$F$3:$F$14,0)),1,0)","v":0},-1,"",0,null,0,0,0,0,0,0]
["","",null,null,null,null,null,null,null,null,null,{"$f":"IF(ISNUMBER(MATCH(B154,Lists!$D$3:$D$11,0)),1,0)","v":0},{"$f":"IF(ISNUMBER(MATCH(B154,Lists!$F$3:$F$14,0)),1,0)","v":0},-1,"",0,null,0,0,0,0,0,0]
["","",null,null,null,null,null,null,null,null,null,{"$f":"IF(ISNUMBER(MATCH(B155,Lists!$D$3:$D$11,0)),1,0)","v":0},{"$f":"IF(ISNUMBER(MATCH(B155,Lists!$F$3:$F$14,0)),1,0)","v":0},-1,"",0,null,0,0,0,0,0,0]
["","",null,null,null,null,null,null,null,null,null,{"$f":"IF(ISNUMBER(MATCH(B156,Lists!$D$3:$D$11,0)),1,0)","v":0},{"$f":"IF(ISNUMBER(MATCH(B156,Lists!$F$3:$F$14,0)),1,0)","v":0},-1,"",0,null,0,0,0,0,0,0]
["","",null,null,null,null,null,null,null,null,null,{"$f":"IF(ISNUMBER(MATCH(B157,Lists!$D$3:$D$11,0)),1,0)","v":0},{"$f":"IF(ISNUMBER(MATCH(B157,Lists!$F$3:$F$14,0)),1,0)","v":0},-1,"",0,null,0,0,0,0,0,0]
["","",null,null,null,null,null,null,null,null,null,{"$f":"IF(ISNUMBER(MATCH(B158,Lists!$D$3:$D$11,0)),1,0)","v":0},{"$f":"IF(ISNUMBER(MATCH(B158,Lists!$F$3:$F$14,0)),1,0)","v":0},-1,"",0,null,0,0,0,0,0,0]
["","",null,null,null,null,null,null,null,null,null,{"$f":"IF(ISNUMBER(MATCH(B159,Lists!$D$3:$D$11,0)),1,0)","v":0},{"$f":"IF(ISNUMBER(MATCH(B159,Lists!$F$3:$F$14,0)),1,0)","v":0},-1,"",0,null,0,0,0,0,0,0]
["","",null,null,null,null,null,null,null,null,null,{"$f":"IF(ISNUMBER(MATCH(B160,Lists!$D$3:$D$11,0)),1,0)","v":0},{"$f":"IF(ISNUMBER(MATCH(B160,Lists!$F$3:$F$14,0)),1,0)","v":0},-1,"",0,null,0,0,0,0,0,0]
["","",null,null,null,null,null,null,null,null,null,{"$f":"IF(ISNUMBER(MATCH(B161,Lists!$D$3:$D$11,0)),1,0)","v":0},{"$f":"IF(ISNUMBER(MATCH(B161,Lists!$F$3:$F$14,0)),1,0)","v":0},-1,"",0,null,0,0,0,0,0,0]
["","",null,null,null,null,null,null,null,null,null,{"$f":"IF(ISNUMBER(MATCH(B162,Lists!$D$3:$D$11,0)),1,0)","v":0},{"$f":"IF(ISNUMBER(MATCH(B162,Lists!$F$3:$F$14,0)),1,0)","v":0},-1,"",0,null,0,0,0,0,0,0]
["","",null,null,null,null,null,null,null,null,null,{"$f":"IF(ISNUMBER(MATCH(B163,Lists!$D$3:$D$11,0)),1,0)","v":0},{"$f":"IF(ISNUMBER(MATCH(B163,Lists!$F$3:$F$14,0)),1,0)","v":0},-1,"",0,null,0,0,0,0,0,0]
["","",null,null,null,null,null,null,null,null,null,{"$f":"IF(ISNUMBER(MATCH(B164,Lists!$D$3:$D$11,0)),1,0)","v":0},{"$f":"IF(ISNUMBER(MATCH(B164,Lists!$F$3:$F$14,0)),1,0)","v":0},-1,"",0,null,0,0,0,0,0,0]
["","",null,null,null,null,null,null,null,null,null,{"$f":"IF(ISNUMBER(MATCH(B165,Lists!$D$3:$D$11,0)),1,0)","v":0},{"$f":"IF(ISNUMBER(MATCH(B165,Lists!$F$3:$F$14,0)),1,0)","v":0},-1,"",0,null,0,0,0,0,0,0]
["","",null,null,null,null,null,null,null,null,null,{"$f":"IF(ISNUMBER(MATCH(B166,Lists!$D$3:$D$11,0)),1,0)","v":0},{"$f":"IF(ISNUMBER(MATCH(B166,Lists!$F$3:$F$14,0)),1,0)","v":0},-1,"",0,null,0,0,0,0,0,0]
["","",null,null,null,null,null,null,null,null,null,{"$f":"IF(ISNUMBER(MATCH(B167,Lists!$D$3:$D$11,0)),1,0)","v":0},{"$f":"IF(ISNUMBER(MATCH(B167,Lists!$F$3:$F$14,0)),1,0)","v":0},-1,"",0,null,0,0,0,0,0,0]
["","",null,null,null,null,null,null,null,null,null,{"$f":"IF(ISNUMBER(MATCH(B168,Lists!$D$3:$D$11,0)),1,0)","v":0},{"$f":"IF(ISNUMBER(MATCH(B168,Lists!$F$3:$F$14,0)),1,0)","v":0},-1,"",0,null,0,0,0,0,0,0]
["","",null,null,null,null,null,null,null,null,null,{"$f":"IF(ISNUMBER(MATCH(B169,Lists!$D$3:$D$11,0)),1,0)","v":0},{"$f":"IF(ISNUMBER(MATCH(B169,Lists!$F$3:$F$14,0)),1,0)","v":0},-1,"",0,null,0,0,0,0,0,0]
["","",null,null,null,null,null,null,null,null,null,{"$f":"IF(ISNUMBER(MATCH(B170,Lists!$D$3:$D$11,0)),1,0)","v":0},{"$f":"IF(ISNUMBER(MATCH(B170,Lists!$F$3:$F$14,0)),1,0)","v":0},-1,"",0,null,0,0,0,0,0,0]
["","",null,null,null,null,null,null,null,null,null,{"$f":"IF(ISNUMBER(MATCH(B171,Lists!$D$3:$D$11,0)),1,0)","v":0},{"$f":"IF(ISNUMBER(MATCH(B171,Lists!$F$3:$F$14,0)),1,0)","v":0},-1,"",0,null,0,0,0,0,0,0]
["","",null,null,null,null,null,null,null,null,null,{"$f":"IF(ISNUMBER(MATCH(B172,Lists!$D$3:$D$11,0)),1,0)","v":0},{"$f":"IF(ISNUMBER(MATCH(B172,Lists!$F$3:$F$14,0)),1,0)","v":0},-1,"",0,null,0,0,0,0,0,0]
["","",null,null,null,null,null,null,null,null,null,{"$f":"IF(ISNUMBER(MATCH(B173,Lists!$D$3:$D$11,0)),1,0)","v":0},{"$f":"IF(ISNUMBER(MATCH(B173,Lists!$F$3:$F$14,0)),1,0)","v":0},-1,"",0,null,0,0,0,0,0,0]
["","",null,null,null,null,null,null,null,null,null,{"$f":"IF(ISNUMBER(MATCH(B174,Lists!$D$3:$D$11,0)),1,0)","v":0},{"$f":"IF(ISNUMBER(MATCH(B174,Lists!$F$3:$F$14,0)),1,0)","v":0},-1,"",0,null,0,0,0,0,0,0]
["","",null,null,null,null,null,null,null,null,null,{"$f":"IF(ISNUMBER(MATCH(B175,Lists!$D$3:$D$11,0)),1,0)","v":0},{"$f":"IF(ISNUMBER(MATCH(B175,Lists!$F$3:$F$14,0)),1,0)","v":0},-1,"",0,null,0,0,0,0,0,0]
["","",null,null,null,null,null,null,null,null,null,{"$f":"IF(ISNUMBER(MATCH(B176,Lists!$D$3:$D$11,0)),1,0)","v":0},{"$f":"IF(ISNUMBER(MATCH(B176,Lists!$F$3:$F$14,0)),1,0)","v":0},-1,"",0,null,0,0,0,0,0,0]
["","",null,null,null,null,null,null,null,null,null,{"$f":"IF(ISNUMBER(MATCH(B177,Lists!$D$3:$D$11,0)),1,0)","v":0},{"$f":"IF(ISNUMBER(MATCH(B177,Lists!$F$3:$F$14,0)),1,0)","v":0},-1,"",0,null,0,0,0,0,0,0]
["","",null,null,null,null,null,null,null,null,null,{"$f":"IF(ISNUMBER(MATCH(B178,Lists!$D$3:$D$11,0)),1,0)","v":0},{"$f":"IF(ISNUMBER(MATCH(B178,Lists!$F$3:$F$14,0)),1,0)","v":0},-1,"",0,null,0,0,0,0,0,0]
["","",null,null,null,null,null,null,null,null,null,{"$f":"IF(ISNUMBER(MATCH(B179,Lists!$D$3:$D$11,0)),1,0)","v":0},{"$f":"IF(ISNUMBER(MATCH(B179,Lists!$F$3:$F$14,0)),1,0)","v":0},-1,"",0,null,0,0,0,0,0,0]
["","",null,null,null,null,null,null,null,null,null,{"$f":"IF(ISNUMBER(MATCH(B180,Lists!$D$3:$D$11,0)),1,0)","v":0},{"$f":"IF(ISNUMBER(MATCH(B180,Lists!$F$3:$F$14,0)),1,0)","v":0},-1,"",0,null,0,0,0,0,0,0]
["","",null,null,null,null,null,null,null,null,null,{"$f":"IF(ISNUMBER(MATCH(B181,Lists!$D$3:$D$11,0)),1,0)","v":0},{"$f":"IF(ISNUMBER(MATCH(B181,Lists!$F$3:$F$14,0)),1,0)","v":0},-1,"",0,null,0,0,0,0,0,0]
["","",null,null,null,null,null,null,null,null,null,{"$f":"IF(ISNUMBER(MATCH(B182,Lists!$D$3:$D$11,0)),1,0)","v":0},{"$f":"IF(ISNUMBER(MATCH(B182,Lists!$F$3:$F$14,0)),1,0)","v":0},-1,"",0,null,0,0,0,0,0,0]
["","",null,null,null,null,null,null,null,null,null,{"$f":"IF(ISNUMBER(MATCH(B183,Lists!$D$3:$D$11,0)),1,0)","v":0},{"$f":"IF(ISNUMBER(MATCH(B183,Lists!$F$3:$F$14,0)),1,0)","v":0},-1,"",0,null,0,0,0,0,0,0]
["","",null,null,null,null,null,null,null,null,null,{"$f":"IF(ISNUMBER(MATCH(B184,Lists!$D$3:$D$11,0)),1,0)","v":0},{"$f":"IF(ISNUMBER(MATCH(B184,Lists!$F$3:$F$14,0)),1,0)","v":0},-1,"",0,null,0,0,0,0,0,0]
["","",null,null,null,null,null,null,null,null,null,{"$f":"IF(ISNUMBER(MATCH(B185,Lists!$D$3:$D$11,0)),1,0)","v":0},{"$f":"IF(ISNUMBER(MATCH(B185,Lists!$F$3:$F$14,0)),1,0)","v":0},-1,"",0,null,0,0,0,0,0,0]
["","",null,null,null,null,null,null,null,null,null,{"$f":"IF(ISNUMBER(MATCH(B186,Lists!$D$3:$D$11,0)),1,0)","v":0},{"$f":"IF(ISNUMBER(MATCH(B186,Lists!$F$3:$F$14,0)),1,0)","v":0},-1,"",0,null,0,0,0,0,0,0]
["","",null,null,null,null,null,null,null,null,null,{"$f":"IF(ISNUMBER(MATCH(B187,Lists!$D$3:$D$11,0)),1,0)","v":0},{"$f":"IF(ISNUMBER(MATCH(B187,Lists!$F$3:$F$14,0)),1,0)","v":0},-1,"",0,null,0,0,0,0,0,0]
["","",null,null,null,null,null,null,null,null,null,{"$f":"IF(ISNUMBER(MATCH(B188,Lists!$D$3:$D$11,0)),1,0)","v":0},{"$f":"IF(ISNUMBER(MATCH(B188,Lists!$F$3:$F$14,0)),1,0)","v":0},-1,"",0,null,0,0,0,0,0,0]
["","",null,null,null,null,null,null,null,null,null,{"$f":"IF(ISNUMBER(MATCH(B189,Lists!$D$3:$D$11,0)),1,0)","v":0},{"$f":"IF(ISNUMBER(MATCH(B189,Lists!$F$3:$F$14,0)),1,0)","v":0},-1,"",0,null,0,0,0,0,0,0]
["","",null,null,null,null,null,null,null,null,null,{"$f":"IF(ISNUMBER(MATCH(B190,Lists!$D$3:$D$11,0)),1,0)","v":0},{"$f":"IF(ISNUMBER(MATCH(B190,Lists!$F$3:$F$14,0)),1,0)","v":0},-1,"",0,null,0,0,0,0,0,0]
["","",null,null,null,null,null,null,null,null,null,{"$f":"IF(ISNUMBER(MATCH(B191,Lists!$D$3:$D$11,0)),1,0)","v":0},{"$f":"IF(ISNUMBER(MATCH(B191,Lists!$F$3:$F$14,0)),1,0)","v":0},-1,"",0,null,0,0,0,0,0,0]
["","",null,null,null,null,null,null,null,null,null,{"$f":"IF(ISNUMBER(MATCH(B192,Lists!$D$3:$D$11,0)),1,0)","v":0},{"$f":"IF(ISNUMBER(MATCH(B192,Lists!$F$3:$F$14,0)),1,0)","v":0},-1,"",0,null,0,0,0,0,0,0]
["","",null,null,null,null,null,null,null,null,null,{"$f":"IF(ISNUMBER(MATCH(B193,Lists!$D$3:$D$11,0)),1,0)","v":0},{"$f":"IF(ISNUMBER(MATCH(B193,Lists!$F$3:$F$14,0)),1,0)","v":0},-1,"",0,null,0,0,0,0,0,0]
["","",null,null,null,null,null,null,null,null,null,{"$f":"IF(ISNUMBER(MATCH(B194,Lists!$D$3:$D$11,0)),1,0)","v":0},{"$f":"IF(ISNUMBER(MATCH(B194,Lists!$F$3:$F$14,0)),1,0)","v":0},-1,"",0,null,0,0,0,0,0,0]
["","",null,null,null,null,null,null,null,null,null,{"$f":"IF(ISNUMBER(MATCH(B195,Lists!$D$3:$D$11,0)),1,0)","v":0},{"$f":"IF(ISNUMBER(MATCH(B195,Lists!$F$3:$F$14,0)),1,0)","v":0},-1,"",0,null,0,0,0,0,0,0]
["","",null,null,null,null,null,null,null,null,null,{"$f":"IF(ISNUMBER(MATCH(B196,Lists!$D$3:$D$11,0)),1,0)","v":0},{"$f":"IF(ISNUMBER(MATCH(B196,Lists!$F$3:$F$14,0)),1,0)","v":0},-1,"",0,null,0,0,0,0,0,0]
["","",null,null,null,null,null,null,null,null,null,{"$f":"IF(ISNUMBER(MATCH(B197,Lists!$D$3:$D$11,0)),1,0)","v":0},{"$f":"IF(ISNUMBER(MATCH(B197,Lists!$F$3:$F$14,0)),1,0)","v":0},-1,"",0,null,0,0,0,0,0,0]
["","",null,null,null,null,null,null,null,null,null,{"$f":"IF(ISNUMBER(MATCH(B198,Lists!$D$3:$D$11,0)),1,0)","v":0},{"$f":"IF(ISNUMBER(MATCH(B198,Lists!$F$3:$F$14,0)),1,0)","v":0},-1,"",0,null,0,0,0,0,0,0]
["","",null,null,null,null,null,null,null,null,null,{"$f":"IF(ISNUMBER(MATCH(B199,Lists!$D$3:$D$11,0)),1,0)","v":0},{"$f":"IF(ISNUMBER(MATCH(B199,Lists!$F$3:$F$14,0)),1,0)","v":0},-1,"",0,null,0,0,0,0,0,0]
["","",null,null,null,null,null,null,null,null,null,{"$f":"IF(ISNUMBER(MATCH(B200,Lists!$D$3:$D$11,0)),1,0)","v":0},{"$f":"IF(ISNUMBER(MATCH(B200,Lists!$F$3:$F$14,0)),1,0)","v":0},-1,"",0,null,0,0,0,0,0,0]
["","",null,null,null,null,null,null,null,null,null,{"$f":"IF(ISNUMBER(MATCH(B201,Lists!$D$3:$D$11,0)),1,0)","v":0},{"$f":"IF(ISNUMBER(MATCH(B201,Lists!$F$3:$F$14,0)),1,0)","v":0},-1,"",0,null,0,0,0,0,0,0]
["","",null,null,null,null,null,null,null,null,null,{"$f":"IF(ISNUMBER(MATCH(B202,Lists!$D$3:$D$11,0)),1,0)","v":0},{"$f":"IF(ISNUMBER(MATCH(B202,Lists!$F$3:$F$14,0)),1,0)","v":0},-1,"",0,null,0,0,0,0,0,0]
["","",null,null,null,null,null,null,null,null,null,{"$f":"IF(ISNUMBER(MATCH(B203,Lists!$D$3:$D$11,0)),1,0)","v":0},{"$f":"IF(ISNUMBER(MATCH(B203,Lists!$F$3:$F$14,0)),1,0)","v":0},-1,{"$f":"IFERROR(VLOOKUP(B203,VehicleLookUp,2,FALSE),\"\")","v":""},0,null,0,0,0,0,0,0]
["","",null,null,null,null,null,null,null,null,null,{"$f":"IF(ISNUMBER(MATCH(B204,Lists!$D$3:$D$11,0)),1,0)","v":0},{"$f":"IF(ISNUMBER(MATCH(B204,Lists!$F$3:$F$14,0)),1,0)","v":0},-1,"",0,null,{"$f":"IFERROR(IF( VLOOKUP($B204,CheckData,3,FALSE)=1,IF($E204=\"n\",1,0),0),0)","v":0},{"$f":"IFERROR(IF( VLOOKUP($B204,CheckData,4,FALSE)=1,IF($F204=\"n\",1,0),0),0)","v":0},{"$f":"IFERROR(IF( VLOOKUP($B204,CheckData,5,FALSE)=1,IF($G204=\"n\",1,0),0),0)","v":0},{"$f":"IFERROR(IF( OR($D204=\"y\",AND(VLOOKUP($B204,CheckData,6,FALSE)=1, $C204=\"n\")),IF($H204=\"n\",1,0),0),0)","v":0},{"$f":"IFERROR(IF( VLOOKUP($B204,CheckData,7,FALSE)=1,IF($I204=\"n\",1,0),0),0)","v":0},{"$f":"IFERROR(IF(AND( VLOOKUP($B204,CheckData,8,FALSE)=1, $C204=\"y\"),IF(AND($J204=\"n\",AND($D204=\"n\",$H204=\"n\")),1,0),0),0)","v":0}]
["","",null,null,null,null,null,null,null,null,null,{"$f":"IF(ISNUMBER(MATCH(B205,Lists!$D$3:$D$11,0)),1,0)","v":0},{"$f":"IF(ISNUMBER(MATCH(B205,Lists!$F$3:$F$14,0)),1,0)","v":0},{"$f":"IF(COUNTBLANK(A205:J205)=10,-1,10-((2-COUNTBLANK(A205:B205))+COUNTIF(C205:J205,\"y\")+COUNTIF(C205:J205,\"n\")))","v":-1},"",{"$f":"SUM(Q205:W205)","v":0},null,0,0,0,0,0,0]
["","",null,null,null,null,null,null,null,null,null,{"$f":"IF(ISNUMBER(MATCH(B206,Lists!$D$3:$D$11,0)),1,0)","v":0},{"$f":"IF(ISNUMBER(MATCH(B206,Lists!$F$3:$F$14,0)),1,0)","v":0},-1,"",0,null,0,0,0,0,0,0]
["","",null,null,null,null,null,null,null,null,null,{"$f":"IF(ISNUMBER(MATCH(B207,Lists!$D$3:$D$11,0)),1,0)","v":0},{"$f":"IF(ISNUMBER(MATCH(B207,Lists!$F$3:$F$14,0)),1,0)","v":0},-1,"",0,null,0,0,0,0,0,0]
["","",null,null,null,null,null,null,null,null,null,{"$f":"IF(ISNUMBER(MATCH(B208,Lists!$D$3:$D$11,0)),1,0)","v":0},{"$f":"IF(ISNUMBER(MATCH(B208,Lists!$F$3:$F$14,0)),1,0)","v":0},-1,"",0,null,0,0,0,0,0,0]
["","",null,null,null,null,null,null,null,null,null,{"$f":"IF(ISNUMBER(MATCH(B209,Lists!$D$3:$D$11,0)),1,0)","v":0},{"$f":"IF(ISNUMBER(MATCH(B209,Lists!$F$3:$F$14,0)),1,0)","v":0},-1,"",0,null,0,0,0,0,0,0]
["","",null,null,null,null,null,null,null,null,null,{"$f":"IF(ISNUMBER(MATCH(B210,Lists!$D$3:$D$11,0)),1,0)","v":0},{"$f":"IF(ISNUMBER(MATCH(B210,Lists!$F$3:$F$14,0)),1,0)","v":0},-1,"",0,null,0,0,0,0,0,0]
["","",null,null,null,null,null,null,null,null,null,{"$f":"IF(ISNUMBER(MATCH(B211,Lists!$D$3:$D$11,0)),1,0)","v":0},{"$f":"IF(ISNUMBER(MATCH(B211,Lists!$F$3:$F$14,0)),1,0)","v":0},-1,"",0,null,0,0,0,0,0,0]
[null,null,null,null,null,null,null,null,null,null,null,{"$f":"IF(ISNUMBER(MATCH(B212,Lists!$D$3:$D$11,0)),1,0)","v":0},{"$f":"IF(ISNUMBER(MATCH(B212,Lists!$F$3:$F$14,0)),1,0)","v":0},-1,{"$f":"IFERROR(VLOOKUP(B212,VehicleLookUp,2,FALSE),\"\")","v":""},0,null,0,0,0,0,0,0]
[null,null,null,null,null,null,null,null,null,null,null,{"$f":"IF(ISNUMBER(MATCH(B213,Lists!$D$3:$D$11,0)),1,0)","v":0},{"$f":"IF(ISNUMBER(MATCH(B213,Lists!$F$3:$F$14,0)),1,0)","v":0},{"$f":"IF(COUNTBLANK(A213:J213)=10,-1,10-((2-COUNTBLANK(A213:B213))+COUNTIF(C213:J213,\"y\")+COUNTIF(C213:J213,\"n\")))","v":-1},"",0,null,0,0,0,0,0,0]
[null,null,null,null,null,null,null,null,null,null,null,{"$f":"IF(ISNUMBER(MATCH(B214,Lists!$D$3:$D$11,0)),1,0)","v":0},{"$f":"IF(ISNUMBER(MATCH(B214,Lists!$F$3:$F$14,0)),1,0)","v":0},-1,"",0,null,0,0,0,0,0,0]
[null,null,null,null,null,null,null,null,null,null,null,{"$f":"IF(ISNUMBER(MATCH(B215,Lists!$D$3:$D$11,0)),1,0)","v":0},{"$f":"IF(ISNUMBER(MATCH(B215,Lists!$F$3:$F$14,0)),1,0)","v":0},-1,"",0,null,0,0,0,0,0,0]
[null,"",null,null,null,null,null,null,null,null,null,{"$f":"IF(ISNUMBER(MATCH(B216,Lists!$D$3:$D$11,0)),1,0)","v":0},{"$f":"IF(ISNUMBER(MATCH(B216,Lists!$F$3:$F$14,0)),1,0)","v":0},-1,"",0,null,0,0,0,0,0,0]
[null,"",null,null,null,null,null,null,null,null,null,{"$f":"IF(ISNUMBER(MATCH(B217,Lists!$D$3:$D$11,0)),1,0)","v":0},{"$f":"IF(ISNUMBER(MATCH(B217,Lists!$F$3:$F$14,0)),1,0)","v":0},-1,"",0,null,0,0,0,0,0,0]
[null,"",null,null,null,null,null,null,null,null,null,{"$f":"IF(ISNUMBER(MATCH(B218,Lists!$D$3:$D$11,0)),1,0)","v":0},{"$f":"IF(ISNUMBER(MATCH(B218,Lists!$F$3:$F$14,0)),1,0)","v":0},-1,"",0,null,0,0,0,0,0,0]
[null,"",null,null,null,null,null,null,null,null,null,{"$f":"IF(ISNUMBER(MATCH(B219,Lists!$D$3:$D$11,0)),1,0)","v":0},{"$f":"IF(ISNUMBER(MATCH(B219,Lists!$F$3:$F$14,0)),1,0)","v":0},-1,"",0,null,0,0,0,0,0,0]
[null,"",null,null,null,null,null,null,null,null,null,{"$f":"IF(ISNUMBER(MATCH(B220,Lists!$D$3:$D$11,0)),1,0)","v":0},{"$f":"IF(ISNUMBER(MATCH(B220,Lists!$F$3:$F$14,0)),1,0)","v":0},-1,"",0,null,0,0,0,0,0,0]
[null,"",null,null,null,null,null,null,null,null,null,{"$f":"IF(ISNUMBER(MATCH(B221,Lists!$D$3:$D$11,0)),1,0)","v":0},{"$f":"IF(ISNUMBER(MATCH(B221,Lists!$F$3:$F$14,0)),1,0)","v":0},-1,"",0,null,0,0,0,0,0,0]
[null,"",null,null,null,null,null,null,null,null,null,{"$f":"IF(ISNUMBER(MATCH(B222,Lists!$D$3:$D$11,0)),1,0)","v":0},{"$f":"IF(ISNUMBER(MATCH(B222,Lists!$F$3:$F$14,0)),1,0)","v":0},-1,"",0,null,0,0,0,0,0,0]
["","",null,null,null,null,null,null,null,null,null,{"$f":"IF(ISNUMBER(MATCH(B223,Lists!$D$3:$D$11,0)),1,0)","v":0},{"$f":"IF(ISNUMBER(MATCH(B223,Lists!$F$3:$F$14,0)),1,0)","v":0},-1,"",0,null,0,0,0,0,0,0]
["","",null,null,null,null,null,null,null,null,null,{"$f":"IF(ISNUMBER(MATCH(B224,Lists!$D$3:$D$11,0)),1,0)","v":0},{"$f":"IF(ISNUMBER(MATCH(B224,Lists!$F$3:$F$14,0)),1,0)","v":0},-1,"",0,null,0,0,0,0,0,0]
["","",null,null,null,null,null,null,null,null,null,{"$f":"IF(ISNUMBER(MATCH(B225,Lists!$D$3:$D$11,0)),1,0)","v":0},{"$f":"IF(ISNUMBER(MATCH(B225,Lists!$F$3:$F$14,0)),1,0)","v":0},-1,"",0,null,0,0,0,0,0,0]
["","",null,null,null,null,null,null,null,null,null,{"$f":"IF(ISNUMBER(MATCH(B226,Lists!$D$3:$D$11,0)),1,0)","v":0},{"$f":"IF(ISNUMBER(MATCH(B226,Lists!$F$3:$F$14,0)),1,0)","v":0},-1,"",0,null,0,0,0,0,0,0]
["","",null,null,null,null,null,null,null,null,null,{"$f":"IF(ISNUMBER(MATCH(B227,Lists!$D$3:$D$11,0)),1,0)","v":0},{"$f":"IF(ISNUMBER(MATCH(B227,Lists!$F$3:$F$14,0)),1,0)","v":0},-1,"",0,null,0,0,0,0,0,0]
["","",null,null,null,null,null,null,null,null,null,{"$f":"IF(ISNUMBER(MATCH(B228,Lists!$D$3:$D$11,0)),1,0)","v":0},{"$f":"IF(ISNUMBER(MATCH(B228,Lists!$F$3:$F$14,0)),1,0)","v":0},-1,"",0,null,0,0,0,0,0,0]
["","",null,null,null,null,null,null,null,null,null,{"$f":"IF(ISNUMBER(MATCH(B229,Lists!$D$3:$D$11,0)),1,0)","v":0},{"$f":"IF(ISNUMBER(MATCH(B229,Lists!$F$3:$F$14,0)),1,0)","v":0},-1,"",0,null,0,0,0,0,0,0]
["","",null,null,null,null,null,null,null,null,null,{"$f":"IF(ISNUMBER(MATCH(B230,Lists!$D$3:$D$11,0)),1,0)","v":0},{"$f":"IF(ISNUMBER(MATCH(B230,Lists!$F$3:$F$14,0)),1,0)","v":0},-1,"",0,null,0,0,0,0,0,0]
["","",null,null,null,null,null,null,null,null,null,{"$f":"IF(ISNUMBER(MATCH(B231,Lists!$D$3:$D$11,0)),1,0)","v":0},{"$f":"IF(ISNUMBER(MATCH(B231,Lists!$F$3:$F$14,0)),1,0)","v":0},-1,"",0,null,0,0,0,0,0,0]
["","",null,null,null,null,null,null,null,null,null,{"$f":"IF(ISNUMBER(MATCH(B232,Lists!$D$3:$D$11,0)),1,0)","v":0},{"$f":"IF(ISNUMBER(MATCH(B232,Lists!$F$3:$F$14,0)),1,0)","v":0},-1,"",0,null,0,0,0,0,0,0]
["","",null,null,null,null,null,null,null,null,null,{"$f":"IF(ISNUMBER(MATCH(B233,Lists!$D$3:$D$11,0)),1,0)","v":0},{"$f":"IF(ISNUMBER(MATCH(B233,Lists!$F$3:$F$14,0)),1,0)","v":0},-1,"",0,null,0,0,0,0,0,0]
["","",null,null,null,null,null,null,null,null,null,{"$f":"IF(ISNUMBER(MATCH(B234,Lists!$D$3:$D$11,0)),1,0)","v":0},{"$f":"IF(ISNUMBER(MATCH(B234,Lists!$F$3:$F$14,0)),1,0)","v":0},-1,"",0,null,0,0,0,0,0,0]
["","",null,null,null,null,null,null,null,null,null,{"$f":"IF(ISNUMBER(MATCH(B235,Lists!$D$3:$D$11,0)),1,0)","v":0},{"$f":"IF(ISNUMBER(MATCH(B235,Lists!$F$3:$F$14,0)),1,0)","v":0},-1,"",0,null,0,0,0,0,0,0]
["","",null,null,null,null,null,null,null,null,null,{"$f":"IF(ISNUMBER(MATCH(B236,Lists!$D$3:$D$11,0)),1,0)","v":0},{"$f":"IF(ISNUMBER(MATCH(B236,Lists!$F$3:$F$14,0)),1,0)","v":0},-1,"",0,null,0,0,0,0,0,0]
["","",null,null,null,null,null,null,null,null,null,{"$f":"IF(ISNUMBER(MATCH(B237,Lists!$D$3:$D$11,0)),1,0)","v":0},{"$f":"IF(ISNUMBER(MATCH(B237,Lists!$F$3:$F$14,0)),1,0)","v":0},-1,"",0,null,0,0,0,0,0,0]
["","",null,null,null,null,null,null,null,null,null,{"$f":"IF(ISNUMBER(MATCH(B238,Lists!$D$3:$D$11,0)),1,0)","v":0},{"$f":"IF(ISNUMBER(MATCH(B238,Lists!$F$3:$F$14,0)),1,0)","v":0},-1,"",0,null,0,0,0,0,0,0]
["","",null,null,null,null,null,null,null,null,null,{"$f":"IF(ISNUMBER(MATCH(B239,Lists!$D$3:$D$11,0)),1,0)","v":0},{"$f":"IF(ISNUMBER(MATCH(B239,Lists!$F$3:$F$14,0)),1,0)","v":0},-1,"",0,null,0,0,0,0,0,0]
["","",null,null,null,null,null,null,null,null,null,{"$f":"IF(ISNUMBER(MATCH(B240,Lists!$D$3:$D$11,0)),1,0)","v":0},{"$f":"IF(ISNUMBER(MATCH(B240,Lists!$F$3:$F$14,0)),1,0)","v":0},-1,"",0,null,0,0,0,0,0,0]
["","",null,null,null,null,null,null,null,null,null,{"$f":"IF(ISNUMBER(MATCH(B241,Lists!$D$3:$D$11,0)),1,0)","v":0},{"$f":"IF(ISNUMBER(MATCH(B241,Lists!$F$3:$F$14,0)),1,0)","v":0},-1,"",0,null,0,0,0,0,0,0]
["","",null,null,null,null,null,null,null,null,null,{"$f":"IF(ISNUMBER(MATCH(B242,Lists!$D$3:$D$11,0)),1,0)","v":0},{"$f":"IF(ISNUMBER(MATCH(B242,Lists!$F$3:$F$14,0)),1,0)","v":0},-1,"",0,null,0,0,0,0,0,0]
["","",null,null,null,null,null,null,null,null,null,{"$f":"IF(ISNUMBER(MATCH(B243,Lists!$D$3:$D$11,0)),1,0)","v":0},{"$f":"IF(ISNUMBER(MATCH(B243,Lists!$F$3:$F$14,0)),1,0)","v":0},-1,"",0,null,0,0,0,0,0,0]
["","",null,null,null,null,null,null,null,null,null,{"$f":"IF(ISNUMBER(MATCH(B244,Lists!$D$3:$D$11,0)),1,0)","v":0},{"$f":"IF(ISNUMBER(MATCH(B244,Lists!$F$3:$F$14,0)),1,0)","v":0},-1,"",0,null,0,0,0,0,0,0]
["","",null,null,null,null,null,null,null,null,null,{"$f":"IF(ISNUMBER(MATCH(B245,Lists!$D$3:$D$11,0)),1,0)","v":0},{"$f":"IF(ISNUMBER(MATCH(B245,Lists!$F$3:$F$14,0)),1,0)","v":0},-1,"",0,null,0,0,0,0,0,0]
["","",null,null,null,null,null,null,null,null,null,{"$f":"IF(ISNUMBER(MATCH(B246,Lists!$D$3:$D$11,0)),1,0)","v":0},{"$f":"IF(ISNUMBER(MATCH(B246,Lists!$F$3:$F$14,0)),1,0)","v":0},-1,"",0,null,0,0,0,0,0,0]
["","",null,null,null,null,null,null,null,null,null,{"$f":"IF(ISNUMBER(MATCH(B247,Lists!$D$3:$D$11,0)),1,0)","v":0},{"$f":"IF(ISNUMBER(MATCH(B247,Lists!$F$3:$F$14,0)),1,0)","v":0},-1,"",0,null,0,0,0,0,0,0]
["","",null,null,null,null,null,null,null,null,null,{"$f":"IF(ISNUMBER(MATCH(B248,Lists!$D$3:$D$11,0)),1,0)","v":0},{"$f":"IF(ISNUMBER(MATCH(B248,Lists!$F$3:$F$14,0)),1,0)","v":0},-1,"",0,null,0,0,0,0,0,0]
["","",null,null,null,null,null,null,null,null,null,{"$f":"IF(ISNUMBER(MATCH(B249,Lists!$D$3:$D$11,0)),1,0)","v":0},{"$f":"IF(ISNUMBER(MATCH(B249,Lists!$F$3:$F$14,0)),1,0)","v":0},-1,"",0,null,0,0,0,0,0,0]
["","",null,null,null,null,null,null,null,null,null,{"$f":"IF(ISNUMBER(MATCH(B250,Lists!$D$3:$D$11,0)),1,0)","v":0},{"$f":"IF(ISNUMBER(MATCH(B250,Lists!$F$3:$F$14,0)),1,0)","v":0},-1,"",0,null,0,0,0,0,0,0]
["","",null,null,null,null,null,null,null,null,null,{"$f":"IF(ISNUMBER(MATCH(B251,Lists!$D$3:$D$11,0)),1,0)","v":0},{"$f":"IF(ISNUMBER(MATCH(B251,Lists!$F$3:$F$14,0)),1,0)","v":0},-1,"",0,null,0,0,0,0,0,0]
["","",null,null,null,null,null,null,null,null,null,{"$f":"IF(ISNUMBER(MATCH(B252,Lists!$D$3:$D$11,0)),1,0)","v":0},{"$f":"IF(ISNUMBER(MATCH(B252,Lists!$F$3:$F$14,0)),1,0)","v":0},-1,"",0,null,0,0,0,0,0,0]
["","",null,null,null,null,null,null,null,null,null,{"$f":"IF(ISNUMBER(MATCH(B253,Lists!$D$3:$D$11,0)),1,0)","v":0},{"$f":"IF(ISNUMBER(MATCH(B253,Lists!$F$3:$F$14,0)),1,0)","v":0},-1,"",0,null,0,0,0,0,0,0]
["","",null,null,null,null,null,null,null,null,null,{"$f":"IF(ISNUMBER(MATCH(B254,Lists!$D$3:$D$11,0)),1,0)","v":0},{"$f":"IF(ISNUMBER(MATCH(B254,Lists!$F$3:$F$14,0)),1,0)","v":0},-1,"",0,null,0,0,0,0,0,0]
["","",null,null,null,null,null,null,null,null,null,{"$f":"IF(ISNUMBER(MATCH(B255,Lists!$D$3:$D$11,0)),1,0)","v":0},{"$f":"IF(ISNUMBER(MATCH(B255,Lists!$F$3:$F$14,0)),1,0)","v":0},-1,"",0,null,0,0,0,0,0,0]
["","",null,null,null,null,null,null,null,null,null,{"$f":"IF(ISNUMBER(MATCH(B256,Lists!$D$3:$D$11,0)),1,0)","v":0},{"$f":"IF(ISNUMBER(MATCH(B256,Lists!$F$3:$F$14,0)),1,0)","v":0},-1,"",0,null,0,0,0,0,0,0]
["","",null,null,null,null,null,null,null,null,null,{"$f":"IF(ISNUMBER(MATCH(B257,Lists!$D$3:$D$11,0)),1,0)","v":0},{"$f":"IF(ISNUMBER(MATCH(B257,Lists!$F$3:$F$14,0)),1,0)","v":0},-1,"",0,null,0,0,0,0,0,0]
["","",null,null,null,null,null,null,null,null,null,{"$f":"IF(ISNUMBER(MATCH(B258,Lists!$D$3:$D$11,0)),1,0)","v":0},{"$f":"IF(ISNUMBER(MATCH(B258,Lists!$F$3:$F$14,0)),1,0)","v":0},-1,"",0,null,0,0,0,0,0,0]
["","",null,null,null,null,null,null,null,null,null,{"$f":"IF(ISNUMBER(MATCH(B259,Lists!$D$3:$D$11,0)),1,0)","v":0},{"$f":"IF(ISNUMBER(MATCH(B259,Lists!$F$3:$F$14,0)),1,0)","v":0},-1,"",0,null,0,0,0,0,0,0]
["","",null,null,null,null,null,null,null,null,null,{"$f":"IF(ISNUMBER(MATCH(B260,Lists!$D$3:$D$11,0)),1,0)","v":0},{"$f":"IF(ISNUMBER(MATCH(B260,Lists!$F$3:$F$14,0)),1,0)","v":0},-1,"",0,null,0,0,0,0,0,0]
["","",null,null,null,null,null,null,null,null,null,{"$f":"IF(ISNUMBER(MATCH(B261,Lists!$D$3:$D$11,0)),1,0)","v":0},{"$f":"IF(ISNUMBER(MATCH(B261,Lists!$F$3:$F$14,0)),1,0)","v":0},-1,"",0,null,0,0,0,0,0,0]
["","",null,null,null,null,null,null,null,null,null,{"$f":"IF(ISNUMBER(MATCH(B262,Lists!$D$3:$D$11,0)),1,0)","v":0},{"$f":"IF(ISNUMBER(MATCH(B262,Lists!$F$3:$F$14,0)),1,0)","v":0},-1,"",0,null,0,0,0,0,0,0]
["","",null,null,null,null,null,null,null,null,null,{"$f":"IF(ISNUMBER(MATCH(B263,Lists!$D$3:$D$11,0)),1,0)","v":0},{"$f":"IF(ISNUMBER(MATCH(B263,Lists!$F$3:$F$14,0)),1,0)","v":0},-1,"",0,null,0,0,0,0,0,0]
["","",null,null,null,null,null,null,null,null,null,{"$f":"IF(ISNUMBER(MATCH(B264,Lists!$D$3:$D$11,0)),1,0)","v":0},{"$f":"IF(ISNUMBER(MATCH(B264,Lists!$F$3:$F$14,0)),1,0)","v":0},-1,"",0,null,0,0,0,0,0,0]
["","",null,null,null,null,null,null,null,null,null,{"$f":"IF(ISNUMBER(MATCH(B265,Lists!$D$3:$D$11,0)),1,0)","v":0},{"$f":"IF(ISNUMBER(MATCH(B265,Lists!$F$3:$F$14,0)),1,0)","v":0},-1,"",0,null,0,0,0,0,0,0]
["","",null,null,null,null,null,null,null,null,null,{"$f":"IF(ISNUMBER(MATCH(B266,Lists!$D$3:$D$11,0)),1,0)","v":0},{"$f":"IF(ISNUMBER(MATCH(B266,Lists!$F$3:$F$14,0)),1,0)","v":0},-1,"",0,null,0,0,0,0,0,0]
["","",null,null,null,null,null,null,null,null,null,{"$f":"IF(ISNUMBER(MATCH(B267,Lists!$D$3:$D$11,0)),1,0)","v":0},{"$f":"IF(ISNUMBER(MATCH(B267,Lists!$F$3:$F$14,0)),1,0)","v":0},-1,"",0,null,0,0,0,0,0,0]
["","",null,null,null,null,null,null,null,null,null,{"$f":"IF(ISNUMBER(MATCH(B268,Lists!$D$3:$D$11,0)),1,0)","v":0},{"$f":"IF(ISNUMBER(MATCH(B268,Lists!$F$3:$F$14,0)),1,0)","v":0},-1,"",0,null,{"$f":"IFERROR(IF( VLOOKUP($B268,CheckData,3,FALSE)=1,IF($E268=\"n\",1,0),0),0)","v":0},{"$f":"IFERROR(IF( VLOOKUP($B268,CheckData,4,FALSE)=1,IF($F268=\"n\",1,0),0),0)","v":0},{"$f":"IFERROR(IF( VLOOKUP($B268,CheckData,5,FALSE)=1,IF($G268=\"n\",1,0),0),0)","v":0},{"$f":"IFERROR(IF( OR($D268=\"y\",AND(VLOOKUP($B268,CheckData,6,FALSE)=1, $C268=\"n\")),IF($H268=\"n\",1,0),0),0)","v":0},{"$f":"IFERROR(IF( VLOOKUP($B268,CheckData,7,FALSE)=1,IF($I268=\"n\",1,0),0),0)","v":0},{"$f":"IFERROR(IF(AND( VLOOKUP($B268,CheckData,8,FALSE)=1, $C268=\"y\"),IF(AND($J268=\"n\",AND($D268=\"n\",$H268=\"n\")),1,0),0),0)","v":0}]
["","",null,null,null,null,null,null,null,null,null,{"$f":"IF(ISNUMBER(MATCH(B269,Lists!$D$3:$D$11,0)),1,0)","v":0},{"$f":"IF(ISNUMBER(MATCH(B269,Lists!$F$3:$F$14,0)),1,0)","v":0},-1,"",{"$f":"SUM(Q269:W269)","v":0},null,0,0,0,0,0,0]
["","",null,null,null,null,null,null,null,null,null,{"$f":"IF(ISNUMBER(MATCH(B270,Lists!$D$3:$D$11,0)),1,0)","v":0},{"$f":"IF(ISNUMBER(MATCH(B270,Lists!$F$3:$F$14,0)),1,0)","v":0},-1,"",0,null,0,0,0,0,0,0]
["","",null,null,null,null,null,null,null,null,null,{"$f":"IF(ISNUMBER(MATCH(B271,Lists!$D$3:$D$11,0)),1,0)","v":0},{"$f":"IF(ISNUMBER(MATCH(B271,Lists!$F$3:$F$14,0)),1,0)","v":0},-1,"",0,null,0,0,0,0,0,0]
["","",null,null,null,null,null,null,null,null,null,{"$f":"IF(ISNUMBER(MATCH(B272,Lists!$D$3:$D$11,0)),1,0)","v":0},{"$f":"IF(ISNUMBER(MATCH(B272,Lists!$F$3:$F$14,0)),1,0)","v":0},-1,"",0,null,0,0,0,0,0,0]
["","",null,null,null,null,null,null,null,null,null,{"$f":"IF(ISNUMBER(MATCH(B273,Lists!$D$3:$D$11,0)),1,0)","v":0},{"$f":"IF(ISNUMBER(MATCH(B273,Lists!$F$3:$F$14,0)),1,0)","v":0},-1,"",0,null,0,0,0,0,0,0]
["","",null,null,null,null,null,null,null,null,null,{"$f":"IF(ISNUMBER(MATCH(B274,Lists!$D$3:$D$11,0)),1,0)","v":0},{"$f":"IF(ISNUMBER(MATCH(B274,Lists!$F$3:$F$14,0)),1,0)","v":0},-1,"",0,null,0,0,0,0,0,0]
["","",null,null,null,null,null,null,null,null,null,{"$f":"IF(ISNUMBER(MATCH(B275,Lists!$D$3:$D$11,0)),1,0)","v":0},{"$f":"IF(ISNUMBER(MATCH(B275,Lists!$F$3:$F$14,0)),1,0)","v":0},-1,"",0,null,0,0,0,0,0,0]
["","",null,null,null,null,null,null,null,null,null,{"$f":"IF(ISNUMBER(MATCH(B276,Lists!$D$3:$D$11,0)),1,0)","v":0},{"$f":"IF(ISNUMBER(MATCH(B276,Lists!$F$3:$F$14,0)),1,0)","v":0},-1,{"$f":"IFERROR(VLOOKUP(B276,VehicleLookUp,2,FALSE),\"\")","v":""},0,null,0,0,0,0,0,0]
["","",null,null,null,null,null,null,null,null,null,{"$f":"IF(ISNUMBER(MATCH(B277,Lists!$D$3:$D$11,0)),1,0)","v":0},{"$f":"IF(ISNUMBER(MATCH(B277,Lists!$F$3:$F$14,0)),1,0)","v":0},{"$f":"IF(COUNTBLANK(A277:J277)=10,-1,10-((2-COUNTBLANK(A277:B277))+COUNTIF(C277:J277,\"y\")+COUNTIF(C277:J277,\"n\")))","v":-1},"",0,null,0,0,0,0,0,0]
["","",null,null,null,null,null,null,null,null,null,{"$f":"IF(ISNUMBER(MATCH(B278,Lists!$D$3:$D$11,0)),1,0)","v":0},{"$f":"IF(ISNUMBER(MATCH(B278,Lists!$F$3:$F$14,0)),1,0)","v":0},-1,"",0,null,0,0,0,0,0,0]
["","",null,null,null,null,null,null,null,null,null,{"$f":"IF(ISNUMBER(MATCH(B279,Lists!$D$3:$D$11,0)),1,0)","v":0},{"$f":"IF(ISNUMBER(MATCH(B279,Lists!$F$3:$F$14,0)),1,0)","v":0},-1,"",0,null,0,0,0,0,0,0]
["","",null,null,null,null,null,null,null,null,null,{"$f":"IF(ISNUMBER(MATCH(B280,Lists!$D$3:$D$11,0)),1,0)","v":0},{"$f":"IF(ISNUMBER(MATCH(B280,Lists!$F$3:$F$14,0)),1,0)","v":0},-1,"",0,null,0,0,0,0,0,0]
["","",null,null,null,null,null,null,null,null,null,{"$f":"IF(ISNUMBER(MATCH(B281,Lists!$D$3:$D$11,0)),1,0)","v":0},{"$f":"IF(ISNUMBER(MATCH(B281,Lists!$F$3:$F$14,0)),1,0)","v":0},-1,"",0,null,0,0,0,0,0,0]
["","",null,null,null,null,null,null,null,null,null,{"$f":"IF(ISNUMBER(MATCH(B282,Lists!$D$3:$D$11,0)),1,0)","v":0},{"$f":"IF(ISNUMBER(MATCH(B282,Lists!$F$3:$F$14,0)),1,0)","v":0},-1,"",0,null,0,0,0,0,0,0]
["","",null,null,null,null,null,null,null,null,null,{"$f":"IF(ISNUMBER(MATCH(B283,Lists!$D$3:$D$11,0)),1,0)","v":0},{"$f":"IF(ISNUMBER(MATCH(B283,Lists!$F$3:$F$14,0)),1,0)","v":0},-1,"",0,null,0,0,0,0,0,0]
["","",null,null,null,null,null,null,null,null,null,{"$f":"IF(ISNUMBER(MATCH(B284,Lists!$D$3:$D$11,0)),1,0)","v":0},{"$f":"IF(ISNUMBER(MATCH(B284,Lists!$F$3:$F$14,0)),1,0)","v":0},-1,"",0,null,0,0,0,0,0,0]
["","",null,null,null,null,null,null,null,null,null,{"$f":"IF(ISNUMBER(MATCH(B285,Lists!$D$3:$D$11,0)),1,0)","v":0},{"$f":"IF(ISNUMBER(MATCH(B285,Lists!$F$3:$F$14,0)),1,0)","v":0},-1,"",0,null,0,0,0,0,0,0]
["","",null,null,null,null,null,null,null,null,null,{"$f":"IF(ISNUMBER(MATCH(B286,Lists!$D$3:$D$11,0)),1,0)","v":0},{"$f":"IF(ISNUMBER(MATCH(B286,Lists!$F$3:$F$14,0)),1,0)","v":0},-1,"",0,null,0,0,0,0,0,0]
["","",null,null,null,null,null,null,null,null,null,{"$f":"IF(ISNUMBER(MATCH(B287,Lists!$D$3:$D$11,0)),1,0)","v":0},{"$f":"IF(ISNUMBER(MATCH(B287,Lists!$F$3:$F$14,0)),1,0)","v":0},-1,"",0,null,0,0,0,0,0,0]
["","",null,null,null,null,null,null,null,null,null,{"$f":"IF(ISNUMBER(MATCH(B288,Lists!$D$3:$D$11,0)),1,0)","v":0},{"$f":"IF(ISNUMBER(MATCH(B288,Lists!$F$3:$F$14,0)),1,0)","v":0},-1,"",0,null,0,0,0,0,0,0]
["","",null,null,null,null,null,null,null,null,null,{"$f":"IF(ISNUMBER(MATCH(B289,Lists!$D$3:$D$11,0)),1,0)","v":0},{"$f":"IF(ISNUMBER(MATCH(B289,Lists!$F$3:$F$14,0)),1,0)","v":0},-1,"",0,null,0,0,0,0,0,0]
["","",null,null,null,null,null,null,null,null,null,{"$f":"IF(ISNUMBER(MATCH(B290,Lists!$D$3:$D$11,0)),1,0)","v":0},{"$f":"IF(ISNUMBER(MATCH(B290,Lists!$F$3:$F$14,0)),1,0)","v":0},-1,"",0,null,0,0,0,0,0,0]
["","",null,null,null,null,null,null,null,null,null,{"$f":"IF(ISNUMBER(MATCH(B291,Lists!$D$3:$D$11,0)),1,0)","v":0},{"$f":"IF(ISNUMBER(MATCH(B291,Lists!$F$3:$F$14,0)),1,0)","v":0},-1,"",0,null,0,0,0,0,0,0]
["","",null,null,null,null,null,null,null,null,null,{"$f":"IF(ISNUMBER(MATCH(B292,Lists!$D$3:$D$11,0)),1,0)","v":0},{"$f":"IF(ISNUMBER(MATCH(B292,Lists!$F$3:$F$14,0)),1,0)","v":0},-1,"",0,null,0,0,0,0,0,0]
["","",null,null,null,null,null,null,null,null,null,{"$f":"IF(ISNUMBER(MATCH(B293,Lists!$D$3:$D$11,0)),1,0)","v":0},{"$f":"IF(ISNUMBER(MATCH(B293,Lists!$F$3:$F$14,0)),1,0)","v":0},-1,"",0,null,0,0,0,0,0,0]
["","",null,null,null,null,null,null,null,null,null,{"$f":"IF(ISNUMBER(MATCH(B294,Lists!$D$3:$D$11,0)),1,0)","v":0},{"$f":"IF(ISNUMBER(MATCH(B294,Lists!$F$3:$F$14,0)),1,0)","v":0},-1,"",0,null,0,0,0,0,0,0]
["","",null,null,null,null,null,null,null,null,null,{"$f":"IF(ISNUMBER(MATCH(B295,Lists!$D$3:$D$11,0)),1,0)","v":0},{"$f":"IF(ISNUMBER(MATCH(B295,Lists!$F$3:$F$14,0)),1,0)","v":0},-1,"",0,null,0,0,0,0,0,0]
["","",null,null,null,null,null,null,null,null,null,{"$f":"IF(ISNUMBER(MATCH(B296,Lists!$D$3:$D$11,0)),1,0)","v":0},{"$f":"IF(ISNUMBER(MATCH(B296,Lists!$F$3:$F$14,0)),1,0)","v":0},-1,"",0,null,0,0,0,0,0,0]
["","",null,null,null,null,null,null,null,null,null,{"$f":"IF(ISNUMBER(MATCH(B297,Lists!$D$3:$D$11,0)),1,0)","v":0},{"$f":"IF(ISNUMBER(MATCH(B297,Lists!$F$3:$F$14,0)),1,0)","v":0},-1,"",0,null,0,0,0,0,0,0]
["","",null,null,null,null,null,null,null,null,null,{"$f":"IF(ISNUMBER(MATCH(B298,Lists!$D$3:$D$11,0)),1,0)","v":0},{"$f":"IF(ISNUMBER(MATCH(B298,Lists!$F$3:$F$14,0)),1,0)","v":0},-1,"",0,null,0,0,0,0,0,0]
["","",null,null,null,null,null,null,null,null,null,{"$f":"IF(ISNUMBER(MATCH(B299,Lists!$D$3:$D$11,0)),1,0)","v":0},{"$f":"IF(ISNUMBER(MATCH(B299,Lists!$F$3:$F$14,0)),1,0)","v":0},-1,"",0,null,0,0,0,0,0,0]
["","",null,null,null,null,null,null,null,null,null,{"$f":"IF(ISNUMBER(MATCH(B300,Lists!$D$3:$D$11,0)),1,0)","v":0},{"$f":"IF(ISNUMBER(MATCH(B300,Lists!$F$3:$F$14,0)),1,0)","v":0},-1,"",0,null,0,0,0,0,0,0]
["","",null,null,null,null,null,null,null,null,null,{"$f":"IF(ISNUMBER(MATCH(B301,Lists!$D$3:$D$11,0)),1,0)","v":0},{"$f":"IF(ISNUMBER(MATCH(B301,Lists!$F$3:$F$14,0)),1,0)","v":0},-1,"",0,null,0,0,0,0,0,0]
["","",null,null,null,null,null,null,null,null,null,{"$f":"IF(ISNUMBER(MATCH(B302,Lists!$D$3:$D$11,0)),1,0)","v":0},{"$f":"IF(ISNUMBER(MATCH(B302,Lists!$F$3:$F$14,0)),1,0)","v":0},-1,"",0,null,0,0,0,0,0,0]
["","",null,null,null,null,null,null,null,null,null,{"$f":"IF(ISNUMBER(MATCH(B303,Lists!$D$3:$D$11,0)),1,0)","v":0},{"$f":"IF(ISNUMBER(MATCH(B303,Lists!$F$3:$F$14,0)),1,0)","v":0},-1,"",0,null,0,0,0,0,0,0]
["","",null,null,null,null,null,null,null,null,null,{"$f":"IF(ISNUMBER(MATCH(B304,Lists!$D$3:$D$11,0)),1,0)","v":0},{"$f":"IF(ISNUMBER(MATCH(B304,Lists!$F$3:$F$14,0)),1,0)","v":0},-1,"",0,null,0,0,0,0,0,0]
["","",null,null,null,null,null,null,null,null,null,{"$f":"IF(ISNUMBER(MATCH(B305,Lists!$D$3:$D$11,0)),1,0)","v":0},{"$f":"IF(ISNUMBER(MATCH(B305,Lists!$F$3:$F$14,0)),1,0)","v":0},-1,"",0,null,0,0,0,0,0,0]
["","",null,null,null,null,null,null,null,null,null,{"$f":"IF(ISNUMBER(MATCH(B306,Lists!$D$3:$D$11,0)),1,0)","v":0},{"$f":"IF(ISNUMBER(MATCH(B306,Lists!$F$3:$F$14,0)),1,0)","v":0},-1,"",0,null,0,0,0,0,0,0]
["","",null,null,null,null,null,null,null,null,null,{"$f":"IF(ISNUMBER(MATCH(B307,Lists!$D$3:$D$11,0)),1,0)","v":0},{"$f":"IF(ISNUMBER(MATCH(B307,Lists!$F$3:$F$14,0)),1,0)","v":0},-1,"",0,null,0,0,0,0,0,0]
["","",null,null,null,null,null,null,null,null,null,{"$f":"IF(ISNUMBER(MATCH(B308,Lists!$D$3:$D$11,0)),1,0)","v":0},{"$f":"IF(ISNUMBER(MATCH(B308,Lists!$F$3:$F$14,0)),1,0)","v":0},-1,"",0,null,0,0,0,0,0,0]
["","",null,null,null,null,null,null,null,null,null,{"$f":"IF(ISNUMBER(MATCH(B309,Lists!$D$3:$D$11,0)),1,0)","v":0},{"$f":"IF(ISNUMBER(MATCH(B309,Lists!$F$3:$F$14,0)),1,0)","v":0},-1,"",0,null,0,0,0,0,0,0]
["","",null,null,null,null,null,null,null,null,null,{"$f":"IF(ISNUMBER(MATCH(B310,Lists!$D$3:$D$11,0)),1,0)","v":0},{"$f":"IF(ISNUMBER(MATCH(B310,Lists!$F$3:$F$14,0)),1,0)","v":0},-1,"",0,null,0,0,0,0,0,0]
["","",null,null,null,null,null,null,null,null,null,{"$f":"IF(ISNUMBER(MATCH(B311,Lists!$D$3:$D$11,0)),1,0)","v":0},{"$f":"IF(ISNUMBER(MATCH(B311,Lists!$F$3:$F$14,0)),1,0)","v":0},-1,"",0,null,0,0,0,0,0,0]
[null,null,null,null,null,null,null,null,null,null,null,{"$f":"IF(ISNUMBER(MATCH(B312,Lists!$D$3:$D$11,0)),1,0)","v":0},{"$f":"IF(ISNUMBER(MATCH(B312,Lists!$F$3:$F$14,0)),1,0)","v":0},-1,"",0,null,0,0,0,0,0,0]
[null,null,null,null,null,null,null,null,null,null,null,{"$f":"IF(ISNUMBER(MATCH(B313,Lists!$D$3:$D$11,0)),1,0)","v":0},{"$f":"IF(ISNUMBER(MATCH(B313,Lists!$F$3:$F$14,0)),1,0)","v":0},-1,"",0,null,0,0,0,0,0,0]
[null,null,null,null,null,null,null,null,null,null,null,{"$f":"IF(ISNUMBER(MATCH(B314,Lists!$D$3:$D$11,0)),1,0)","v":0},{"$f":"IF(ISNUMBER(MATCH(B314,Lists!$F$3:$F$14,0)),1,0)","v":0},-1,"",0,null,0,0,0,0,0,0]
[null,null,null,null,null,null,null,null,null,null,null,{"$f":"IF(ISNUMBER(MATCH(B315,Lists!$D$3:$D$11,0)),1,0)","v":0},{"$f":"IF(ISNUMBER(MATCH(B315,Lists!$F$3:$F$14,0)),1,0)","v":0},-1,"",0,null,0,0,0,0,0,0]
[null,"",null,null,null,null,null,null,null,null,null,{"$f":"IF(ISNUMBER(MATCH(B316,Lists!$D$3:$D$11,0)),1,0)","v":0},{"$f":"IF(ISNUMBER(MATCH(B316,Lists!$F$3:$F$14,0)),1,0)","v":0},-1,"",0,null,0,0,0,0,0,0]
[null,"",null,null,null,null,null,null,null,null,null,{"$f":"IF(ISNUMBER(MATCH(B317,Lists!$D$3:$D$11,0)),1,0)","v":0},{"$f":"IF(ISNUMBER(MATCH(B317,Lists!$F$3:$F$14,0)),1,0)","v":0},-1,"",0,null,0,0,0,0,0,0]
[null,"",null,null,null,null,null,null,null,null,null,{"$f":"IF(ISNUMBER(MATCH(B318,Lists!$D$3:$D$11,0)),1,0)","v":0},{"$f":"IF(ISNUMBER(MATCH(B318,Lists!$F$3:$F$14,0)),1,0)","v":0},-1,"",0,null,0,0,0,0,0,0]
[null,"",null,null,null,null,null,null,null,null,null,{"$f":"IF(ISNUMBER(MATCH(B319,Lists!$D$3:$D$11,0)),1,0)","v":0},{"$f":"IF(ISNUMBER(MATCH(B319,Lists!$F$3:$F$14,0)),1,0)","v":0},-1,"",0,null,0,0,0,0,0,0]
[null,"",null,null,null,null,null,null,null,null,null,{"$f":"IF(ISNUMBER(MATCH(B320,Lists!$D$3:$D$11,0)),1,0)","v":0},{"$f":"IF(ISNUMBER(MATCH(B320,Lists!$F$3:$F$14,0)),1,0)","v":0},-1,"",0,null,0,0,0,0,0,0]
[null,"",null,null,null,null,null,null,null,null,null,{"$f":"IF(ISNUMBER(MATCH(B321,Lists!$D$3:$D$11,0)),1,0)","v":0},{"$f":"IF(ISNUMBER(MATCH(B321,Lists!$F$3:$F$14,0)),1,0)","v":0},-1,"",0,null,0,0,0,0,0,0]
[null,"",null,null,null,null,null,null,null,null,null,{"$f":"IF(ISNUMBER(MATCH(B322,Lists!$D$3:$D$11,0)),1,0)","v":0},{"$f":"IF(ISNUMBER(MATCH(B322,Lists!$F$3:$F$14,0)),1,0)","v":0},-1,"",0,null,0,0,0,0,0,0]
["","",null,null,null,null,null,null,null,null,null,{"$f":"IF(ISNUMBER(MATCH(B323,Lists!$D$3:$D$11,0)),1,0)","v":0},{"$f":"IF(ISNUMBER(MATCH(B323,Lists!$F$3:$F$14,0)),1,0)","v":0},-1,"",0,null,0,0,0,0,0,0]
["","",null,null,null,null,null,null,null,null,null,{"$f":"IF(ISNUMBER(MATCH(B324,Lists!$D$3:$D$11,0)),1,0)","v":0},{"$f":"IF(ISNUMBER(MATCH(B324,Lists!$F$3:$F$14,0)),1,0)","v":0},-1,"",0,null,0,0,0,0,0,0]
["","",null,null,null,null,null,null,null,null,null,{"$f":"IF(ISNUMBER(MATCH(B325,Lists!$D$3:$D$11,0)),1,0)","v":0},{"$f":"IF(ISNUMBER(MATCH(B325,Lists!$F$3:$F$14,0)),1,0)","v":0},-1,"",0,null,0,0,0,0,0,0]
["","",null,null,null,null,null,null,null,null,null,{"$f":"IF(ISNUMBER(MATCH(B326,Lists!$D$3:$D$11,0)),1,0)","v":0},{"$f":"IF(ISNUMBER(MATCH(B326,Lists!$F$3:$F$14,0)),1,0)","v":0},-1,"",0,null,0,0,0,0,0,0]
["","",null,null,null,null,null,null,null,null,null,{"$f":"IF(ISNUMBER(MATCH(B327,Lists!$D$3:$D$11,0)),1,0)","v":0},{"$f":"IF(ISNUMBER(MATCH(B327,Lists!$F$3:$F$14,0)),1,0)","v":0},-1,"",0,null,0,0,0,0,0,0]
["","",null,null,null,null,null,null,null,null,null,{"$f":"IF(ISNUMBER(MATCH(B328,Lists!$D$3:$D$11,0)),1,0)","v":0},{"$f":"IF(ISNUMBER(MATCH(B328,Lists!$F$3:$F$14,0)),1,0)","v":0},-1,"",0,null,0,0,0,0,0,0]
["","",null,null,null,null,null,null,null,null,null,{"$f":"IF(ISNUMBER(MATCH(B329,Lists!$D$3:$D$11,0)),1,0)","v":0},{"$f":"IF(ISNUMBER(MATCH(B329,Lists!$F$3:$F$14,0)),1,0)","v":0},-1,"",0,null,0,0,0,0,0,0]
["","",null,null,null,null,null,null,null,null,null,{"$f":"IF(ISNUMBER(MATCH(B330,Lists!$D$3:$D$11,0)),1,0)","v":0},{"$f":"IF(ISNUMBER(MATCH(B330,Lists!$F$3:$F$14,0)),1,0)","v":0},-1,"",0,null,0,0,0,0,0,0]
["","",null,null,null,null,null,null,null,null,null,{"$f":"IF(ISNUMBER(MATCH(B331,Lists!$D$3:$D$11,0)),1,0)","v":0},{"$f":"IF(ISNUMBER(MATCH(B331,Lists!$F$3:$F$14,0)),1,0)","v":0},-1,"",0,null,0,0,0,0,0,0]
["","",null,null,null,null,null,null,null,null,null,{"$f":"IF(ISNUMBER(MATCH(B332,Lists!$D$3:$D$11,0)),1,0)","v":0},{"$f":"IF(ISNUMBER(MATCH(B332,Lists!$F$3:$F$14,0)),1,0)","v":0},-1,"",0,null,{"$f":"IFERROR(IF( VLOOKUP($B332,CheckData,3,FALSE)=1,IF($E332=\"n\",1,0),0),0)","v":0},{"$f":"IFERROR(IF( VLOOKUP($B332,CheckData,4,FALSE)=1,IF($F332=\"n\",1,0),0),0)","v":0},{"$f":"IFERROR(IF( VLOOKUP($B332,CheckData,5,FALSE)=1,IF($G332=\"n\",1,0),0),0)","v":0},{"$f":"IFERROR(IF( OR($D332=\"y\",AND(VLOOKUP($B332,CheckData,6,FALSE)=1, $C332=\"n\")),IF($H332=\"n\",1,0),0),0)","v":0},{"$f":"IFERROR(IF( VLOOKUP($B332,CheckData,7,FALSE)=1,IF($I332=\"n\",1,0),0),0)","v":0},{"$f":"IFERROR(IF(AND( VLOOKUP($B332,CheckData,8,FALSE)=1, $C332=\"y\"),IF(AND($J332=\"n\",AND($D332=\"n\",$H332=\"n\")),1,0),0),0)","v":0}]
["","",null,null,null,null,null,null,null,null,null,{"$f":"IF(ISNUMBER(MATCH(B333,Lists!$D$3:$D$11,0)),1,0)","v":0},{"$f":"IF(ISNUMBER(MATCH(B333,Lists!$F$3:$F$14,0)),1,0)","v":0},-1,"",{"$f":"SUM(Q333:W333)","v":0},null,0,0,0,0,0,0]
["","",null,null,null,null,null,null,null,null,null,{"$f":"IF(ISNUMBER(MATCH(B334,Lists!$D$3:$D$11,0)),1,0)","v":0},{"$f":"IF(ISNUMBER(MATCH(B334,Lists!$F$3:$F$14,0)),1,0)","v":0},-1,"",0,null,0,0,0,0,0,0]
["","",null,null,null,null,null,null,null,null,null,{"$f":"IF(ISNUMBER(MATCH(B335,Lists!$D$3:$D$11,0)),1,0)","v":0},{"$f":"IF(ISNUMBER(MATCH(B335,Lists!$F$3:$F$14,0)),1,0)","v":0},-1,"",0,null,0,0,0,0,0,0]
["","",null,null,null,null,null,null,null,null,null,{"$f":"IF(ISNUMBER(MATCH(B336,Lists!$D$3:$D$11,0)),1,0)","v":0},{"$f":"IF(ISNUMBER(MATCH(B336,Lists!$F$3:$F$14,0)),1,0)","v":0},-1,"",0,null,0,0,0,0,0,0]
["","",null,null,null,null,null,null,null,null,null,{"$f":"IF(ISNUMBER(MATCH(B337,Lists!$D$3:$D$11,0)),1,0)","v":0},{"$f":"IF(ISNUMBER(MATCH(B337,Lists!$F$3:$F$14,0)),1,0)","v":0},-1,"",0,null,0,0,0,0,0,0]
["","",null,null,null,null,null,null,null,null,null,{"$f":"IF(ISNUMBER(MATCH(B338,Lists!$D$3:$D$11,0)),1,0)","v":0},{"$f":"IF(ISNUMBER(MATCH(B338,Lists!$F$3:$F$14,0)),1,0)","v":0},-1,"",0,null,0,0,0,0,0,0]
["","",null,null,null,null,null,null,null,null,null,{"$f":"IF(ISNUMBER(MATCH(B339,Lists!$D$3:$D$11,0)),1,0)","v":0},{"$f":"IF(ISNUMBER(MATCH(B339,Lists!$F$3:$F$14,0)),1,0)","v":0},-1,"",0,null,0,0,0,0,0,0]
["","",null,null,null,null,null,null,null,null,null,{"$f":"IF(ISNUMBER(MATCH(B340,Lists!$D$3:$D$11,0)),1,0)","v":0},{"$f":"IF(ISNUMBER(MATCH(B340,Lists!$F$3:$F$14,0)),1,0)","v":0},-1,{"$f":"IFERROR(VLOOKUP(B340,VehicleLookUp,2,FALSE),\"\")","v":""},0,null,0,0,0,0,0,0]
["","",null,null,null,null,null,null,null,null,null,{"$f":"IF(ISNUMBER(MATCH(B341,Lists!$D$3:$D$11,0)),1,0)","v":0},{"$f":"IF(ISNUMBER(MATCH(B341,Lists!$F$3:$F$14,0)),1,0)","v":0},{"$f":"IF(COUNTBLANK(A341:J341)=10,-1,10-((2-COUNTBLANK(A341:B341))+COUNTIF(C341:J341,\"y\")+COUNTIF(C341:J341,\"n\")))","v":-1},"",0,null,0,0,0,0,0,0]
["","",null,null,null,null,null,null,null,null,null,{"$f":"IF(ISNUMBER(MATCH(B342,Lists!$D$3:$D$11,0)),1,0)","v":0},{"$f":"IF(ISNUMBER(MATCH(B342,Lists!$F$3:$F$14,0)),1,0)","v":0},-1,"",0,null,0,0,0,0,0,0]
["","",null,null,null,null,null,null,null,null,null,{"$f":"IF(ISNUMBER(MATCH(B343,Lists!$D$3:$D$11,0)),1,0)","v":0},{"$f":"IF(ISNUMBER(MATCH(B343,Lists!$F$3:$F$14,0)),1,0)","v":0},-1,"",0,null,0,0,0,0,0,0]
["","",null,null,null,null,null,null,null,null,null,{"$f":"IF(ISNUMBER(MATCH(B344,Lists!$D$3:$D$11,0)),1,0)","v":0},{"$f":"IF(ISNUMBER(MATCH(B344,Lists!$F$3:$F$14,0)),1,0)","v":0},-1,"",0,null,0,0,0,0,0,0]
["","",null,null,null,null,null,null,null,null,null,{"$f":"IF(ISNUMBER(MATCH(B345,Lists!$D$3:$D$11,0)),1,0)","v":0},{"$f":"IF(ISNUMBER(MATCH(B345,Lists!$F$3:$F$14,0)),1,0)","v":0},-1,"",0,null,0,0,0,0,0,0]
["","",null,null,null,null,null,null,null,null,null,{"$f":"IF(ISNUMBER(MATCH(B346,Lists!$D$3:$D$11,0)),1,0)","v":0},{"$f":"IF(ISNUMBER(MATCH(B346,Lists!$F$3:$F$14,0)),1,0)","v":0},-1,"",0,null,0,0,0,0,0,0]
["","",null,null,null,null,null,null,null,null,null,{"$f":"IF(ISNUMBER(MATCH(B347,Lists!$D$3:$D$11,0)),1,0)","v":0},{"$f":"IF(ISNUMBER(MATCH(B347,Lists!$F$3:$F$14,0)),1,0)","v":0},-1,"",0,null,0,0,0,0,0,0]
["","",null,null,null,null,null,null,null,null,null,{"$f":"IF(ISNUMBER(MATCH(B348,Lists!$D$3:$D$11,0)),1,0)","v":0},{"$f":"IF(ISNUMBER(MATCH(B348,Lists!$F$3:$F$14,0)),1,0)","v":0},-1,"",0,null,0,0,0,0,0,0]
["","",null,null,null,null,null,null,null,null,null,{"$f":"IF(ISNUMBER(MATCH(B349,Lists!$D$3:$D$11,0)),1,0)","v":0},{"$f":"IF(ISNUMBER(MATCH(B349,Lists!$F$3:$F$14,0)),1,0)","v":0},-1,"",0,null,0,0,0,0,0,0]
["","",null,null,null,null,null,null,null,null,null,{"$f":"IF(ISNUMBER(MATCH(B350,Lists!$D$3:$D$11,0)),1,0)","v":0},{"$f":"IF(ISNUMBER(MATCH(B350,Lists!$F$3:$F$14,0)),1,0)","v":0},-1,"",0,null,0,0,0,0,0,0]
["","",null,null,null,null,null,null,null,null,null,{"$f":"IF(ISNUMBER(MATCH(B351,Lists!$D$3:$D$11,0)),1,0)","v":0},{"$f":"IF(ISNUMBER(MATCH(B351,Lists!$F$3:$F$14,0)),1,0)","v":0},-1,"",0,null,0,0,0,0,0,0]
["","",null,null,null,null,null,null,null,null,null,{"$f":"IF(ISNUMBER(MATCH(B352,Lists!$D$3:$D$11,0)),1,0)","v":0},{"$f":"IF(ISNUMBER(MATCH(B352,Lists!$F$3:$F$14,0)),1,0)","v":0},-1,"",0,null,0,0,0,0,0,0]
["","",null,null,null,null,null,null,null,null,null,{"$f":"IF(ISNUMBER(MATCH(B353,Lists!$D$3:$D$11,0)),1,0)","v":0},{"$f":"IF(ISNUMBER(MATCH(B353,Lists!$F$3:$F$14,0)),1,0)","v":0},-1,"",0,null,0,0,0,0,0,0]
["","",null,null,null,null,null,null,null,null,null,{"$f":"IF(ISNUMBER(MATCH(B354,Lists!$D$3:$D$11,0)),1,0)","v":0},{"$f":"IF(ISNUMBER(MATCH(B354,Lists!$F$3:$F$14,0)),1,0)","v":0},-1,"",0,null,0,0,0,0,0,0]
["","",null,null,null,null,null,null,null,null,null,{"$f":"IF(ISNUMBER(MATCH(B355,Lists!$D$3:$D$11,0)),1,0)","v":0},{"$f":"IF(ISNUMBER(MATCH(B355,Lists!$F$3:$F$14,0)),1,0)","v":0},-1,"",0,null,0,0,0,0,0,0]
["","",null,null,null,null,null,null,null,null,null,{"$f":"IF(ISNUMBER(MATCH(B356,Lists!$D$3:$D$11,0)),1,0)","v":0},{"$f":"IF(ISNUMBER(MATCH(B356,Lists!$F$3:$F$14,0)),1,0)","v":0},-1,"",0,null,0,0,0,0,0,0]
["","",null,null,null,null,null,null,null,null,null,{"$f":"IF(ISNUMBER(MATCH(B357,Lists!$D$3:$D$11,0)),1,0)","v":0},{"$f":"IF(ISNUMBER(MATCH(B357,Lists!$F$3:$F$14,0)),1,0)","v":0},-1,"",0,null,0,0,0,0,0,0]
["","",null,null,null,null,null,null,null,null,null,{"$f":"IF(ISNUMBER(MATCH(B358,Lists!$D$3:$D$11,0)),1,0)","v":0},{"$f":"IF(ISNUMBER(MATCH(B358,Lists!$F$3:$F$14,0)),1,0)","v":0},-1,"",0,null,0,0,0,0,0,0]
["","",null,null,null,null,null,null,null,null,null,{"$f":"IF(ISNUMBER(MATCH(B359,Lists!$D$3:$D$11,0)),1,0)","v":0},{"$f":"IF(ISNUMBER(MATCH(B359,Lists!$F$3:$F$14,0)),1,0)","v":0},-1,"",0,null,0,0,0,0,0,0]
["","",null,null,null,null,null,null,null,null,null,{"$f":"IF(ISNUMBER(MATCH(B360,Lists!$D$3:$D$11,0)),1,0)","v":0},{"$f":"IF(ISNUMBER(MATCH(B360,Lists!$F$3:$F$14,0)),1,0)","v":0},-1,"",0,null,0,0,0,0,0,0]
["","",null,null,null,null,null,null,null,null,null,{"$f":"IF(ISNUMBER(MATCH(B361,Lists!$D$3:$D$11,0)),1,0)","v":0},{"$f":"IF(ISNUMBER(MATCH(B361,Lists!$F$3:$F$14,0)),1,0)","v":0},-1,"",0,null,0,0,0,0,0,0]
["","",null,null,null,null,null,null,null,null,null,{"$f":"IF(ISNUMBER(MATCH(B362,Lists!$D$3:$D$11,0)),1,0)","v":0},{"$f":"IF(ISNUMBER(MATCH(B362,Lists!$F$3:$F$14,0)),1,0)","v":0},-1,"",0,null,0,0,0,0,0,0]
["","",null,null,null,null,null,null,null,null,null,{"$f":"IF(ISNUMBER(MATCH(B363,Lists!$D$3:$D$11,0)),1,0)","v":0},{"$f":"IF(ISNUMBER(MATCH(B363,Lists!$F$3:$F$14,0)),1,0)","v":0},-1,"",0,null,0,0,0,0,0,0]
["","",null,null,null,null,null,null,null,null,null,{"$f":"IF(ISNUMBER(MATCH(B364,Lists!$D$3:$D$11,0)),1,0)","v":0},{"$f":"IF(ISNUMBER(MATCH(B364,Lists!$F$3:$F$14,0)),1,0)","v":0},-1,"",0,null,0,0,0,0,0,0]
["","",null,null,null,null,null,null,null,null,null,{"$f":"IF(ISNUMBER(MATCH(B365,Lists!$D$3:$D$11,0)),1,0)","v":0},{"$f":"IF(ISNUMBER(MATCH(B365,Lists!$F$3:$F$14,0)),1,0)","v":0},-1,"",0,null,0,0,0,0,0,0]
["","",null,null,null,null,null,null,null,null,null,{"$f":"IF(ISNUMBER(MATCH(B366,Lists!$D$3:$D$11,0)),1,0)","v":0},{"$f":"IF(ISNUMBER(MATCH(B366,Lists!$F$3:$F$14,0)),1,0)","v":0},-1,"",0,null,0,0,0,0,0,0]
["","",null,null,null,null,null,null,null,null,null,{"$f":"IF(ISNUMBER(MATCH(B367,Lists!$D$3:$D$11,0)),1,0)","v":0},{"$f":"IF(ISNUMBER(MATCH(B367,Lists!$F$3:$F$14,0)),1,0)","v":0},-1,"",0,null,0,0,0,0,0,0]
["","",null,null,null,null,null,null,null,null,null,{"$f":"IF(ISNUMBER(MATCH(B368,Lists!$D$3:$D$11,0)),1,0)","v":0},{"$f":"IF(ISNUMBER(MATCH(B368,Lists!$F$3:$F$14,0)),1,0)","v":0},-1,"",0,null,0,0,0,0,0,0]
["","",null,null,null,null,null,null,null,null,null,{"$f":"IF(ISNUMBER(MATCH(B369,Lists!$D$3:$D$11,0)),1,0)","v":0},{"$f":"IF(ISNUMBER(MATCH(B369,Lists!$F$3:$F$14,0)),1,0)","v":0},-1,"",0,null,0,0,0,0,0,0]
["","",null,null,null,null,null,null,null,null,null,{"$f":"IF(ISNUMBER(MATCH(B370,Lists!$D$3:$D$11,0)),1,0)","v":0},{"$f":"IF(ISNUMBER(MATCH(B370,Lists!$F$3:$F$14,0)),1,0)","v":0},-1,"",0,null,0,0,0,0,0,0]
["","",null,null,null,null,null,null,null,null,null,{"$f":"IF(ISNUMBER(MATCH(B371,Lists!$D$3:$D$11,0)),1,0)","v":0},{"$f":"IF(ISNUMBER(MATCH(B371,Lists!$F$3:$F$14,0)),1,0)","v":0},-1,"",0,null,0,0,0,0,0,0]
["","",null,null,null,null,null,null,null,null,null,{"$f":"IF(ISNUMBER(MATCH(B372,Lists!$D$3:$D$11,0)),1,0)","v":0},{"$f":"IF(ISNUMBER(MATCH(B372,Lists!$F$3:$F$14,0)),1,0)","v":0},-1,"",0,null,0,0,0,0,0,0]
["","",null,null,null,null,null,null,null,null,null,{"$f":"IF(ISNUMBER(MATCH(B373,Lists!$D$3:$D$11,0)),1,0)","v":0},{"$f":"IF(ISNUMBER(MATCH(B373,Lists!$F$3:$F$14,0)),1,0)","v":0},-1,"",0,null,0,0,0,0,0,0]
["","",null,null,null,null,null,null,null,null,null,{"$f":"IF(ISNUMBER(MATCH(B374,Lists!$D$3:$D$11,0)),1,0)","v":0},{"$f":"IF(ISNUMBER(MATCH(B374,Lists!$F$3:$F$14,0)),1,0)","v":0},-1,"",0,null,0,0,0,0,0,0]
["","",null,null,null,null,null,null,null,null,null,{"$f":"IF(ISNUMBER(MATCH(B375,Lists!$D$3:$D$11,0)),1,0)","v":0},{"$f":"IF(ISNUMBER(MATCH(B375,Lists!$F$3:$F$14,0)),1,0)","v":0},-1,"",0,null,0,0,0,0,0,0]
["","",null,null,null,null,null,null,null,null,null,{"$f":"IF(ISNUMBER(MATCH(B376,Lists!$D$3:$D$11,0)),1,0)","v":0},{"$f":"IF(ISNUMBER(MATCH(B376,Lists!$F$3:$F$14,0)),1,0)","v":0},-1,"",0,null,0,0,0,0,0,0]
["","",null,null,null,null,null,null,null,null,null,{"$f":"IF(ISNUMBER(MATCH(B377,Lists!$D$3:$D$11,0)),1,0)","v":0},{"$f":"IF(ISNUMBER(MATCH(B377,Lists!$F$3:$F$14,0)),1,0)","v":0},-1,"",0,null,0,0,0,0,0,0]
["","",null,null,null,null,null,null,null,null,null,{"$f":"IF(ISNUMBER(MATCH(B378,Lists!$D$3:$D$11,0)),1,0)","v":0},{"$f":"IF(ISNUMBER(MATCH(B378,Lists!$F$3:$F$14,0)),1,0)","v":0},-1,"",0,null,0,0,0,0,0,0]
["","",null,null,null,null,null,null,null,null,null,{"$f":"IF(ISNUMBER(MATCH(B379,Lists!$D$3:$D$11,0)),1,0)","v":0},{"$f":"IF(ISNUMBER(MATCH(B379,Lists!$F$3:$F$14,0)),1,0)","v":0},-1,"",0,null,0,0,0,0,0,0]
["","",null,null,null,null,null,null,null,null,null,{"$f":"IF(ISNUMBER(MATCH(B380,Lists!$D$3:$D$11,0)),1,0)","v":0},{"$f":"IF(ISNUMBER(MATCH(B380,Lists!$F$3:$F$14,0)),1,0)","v":0},-1,"",0,null,0,0,0,0,0,0]
["","",null,null,null,null,null,null,null,null,null,{"$f":"IF(ISNUMBER(MATCH(B381,Lists!$D$3:$D$11,0)),1,0)","v":0},{"$f":"IF(ISNUMBER(MATCH(B381,Lists!$F$3:$F$14,0)),1,0)","v":0},-1,"",0,null,0,0,0,0,0,0]
["","",null,null,null,null,null,null,null,null,null,{"$f":"IF(ISNUMBER(MATCH(B382,Lists!$D$3:$D$11,0)),1,0)","v":0},{"$f":"IF(ISNUMBER(MATCH(B382,Lists!$F$3:$F$14,0)),1,0)","v":0},-1,"",0,null,0,0,0,0,0,0]
["","",null,null,null,null,null,null,null,null,null,{"$f":"IF(ISNUMBER(MATCH(B383,Lists!$D$3:$D$11,0)),1,0)","v":0},{"$f":"IF(ISNUMBER(MATCH(B383,Lists!$F$3:$F$14,0)),1,0)","v":0},-1,"",0,null,0,0,0,0,0,0]
["","",null,null,null,null,null,null,null,null,null,{"$f":"IF(ISNUMBER(MATCH(B384,Lists!$D$3:$D$11,0)),1,0)","v":0},{"$f":"IF(ISNUMBER(MATCH(B384,Lists!$F$3:$F$14,0)),1,0)","v":0},-1,"",0,null,0,0,0,0,0,0]
["","",null,null,null,null,null,null,null,null,null,{"$f":"IF(ISNUMBER(MATCH(B385,Lists!$D$3:$D$11,0)),1,0)","v":0},{"$f":"IF(ISNUMBER(MATCH(B385,Lists!$F$3:$F$14,0)),1,0)","v":0},-1,"",0,null,0,0,0,0,0,0]
["","",null,null,null,null,null,null,null,null,null,{"$f":"IF(ISNUMBER(MATCH(B386,Lists!$D$3:$D$11,0)),1,0)","v":0},{"$f":"IF(ISNUMBER(MATCH(B386,Lists!$F$3:$F$14,0)),1,0)","v":0},-1,"",0,null,0,0,0,0,0,0]
["","",null,null,null,null,null,null,null,null,null,{"$f":"IF(ISNUMBER(MATCH(B387,Lists!$D$3:$D$11,0)),1,0)","v":0},{"$f":"IF(ISNUMBER(MATCH(B387,Lists!$F$3:$F$14,0)),1,0)","v":0},-1,"",0,null,0,0,0,0,0,0]
["","",null,null,null,null,null,null,null,null,null,{"$f":"IF(ISNUMBER(MATCH(B388,Lists!$D$3:$D$11,0)),1,0)","v":0},{"$f":"IF(ISNUMBER(MATCH(B388,Lists!$F$3:$F$14,0)),1,0)","v":0},-1,"",0,null,0,0,0,0,0,0]
["","",null,null,null,null,null,null,null,null,null,{"$f":"IF(ISNUMBER(MATCH(B389,Lists!$D$3:$D$11,0)),1,0)","v":0},{"$f":"IF(ISNUMBER(MATCH(B389,Lists!$F$3:$F$14,0)),1,0)","v":0},-1,"",0,null,0,0,0,0,0,0]
["","",null,null,null,null,null,null,null,null,null,{"$f":"IF(ISNUMBER(MATCH(B390,Lists!$D$3:$D$11,0)),1,0)","v":0},{"$f":"IF(ISNUMBER(MATCH(B390,Lists!$F$3:$F$14,0)),1,0)","v":0},-1,"",0,null,0,0,0,0,0,0]
["","",null,null,null,null,null,null,null,null,null,{"$f":"IF(ISNUMBER(MATCH(B391,Lists!$D$3:$D$11,0)),1,0)","v":0},{"$f":"IF(ISNUMBER(MATCH(B391,Lists!$F$3:$F$14,0)),1,0)","v":0},-1,"",0,null,0,0,0,0,0,0]
["","",null,null,null,null,null,null,null,null,null,{"$f":"IF(ISNUMBER(MATCH(B392,Lists!$D$3:$D$11,0)),1,0)","v":0},{"$f":"IF(ISNUMBER(MATCH(B392,Lists!$F$3:$F$14,0)),1,0)","v":0},-1,"",0,null,0,0,0,0,0,0]
["","",null,null,null,null,null,null,null,null,null,{"$f":"IF(ISNUMBER(MATCH(B393,Lists!$D$3:$D$11,0)),1,0)","v":0},{"$f":"IF(ISNUMBER(MATCH(B393,Lists!$F$3:$F$14,0)),1,0)","v":0},-1,"",0,null,0,0,0,0,0,0]
["","",null,null,null,null,null,null,null,null,null,{"$f":"IF(ISNUMBER(MATCH(B394,Lists!$D$3:$D$11,0)),1,0)","v":0},{"$f":"IF(ISNUMBER(MATCH(B394,Lists!$F$3:$F$14,0)),1,0)","v":0},-1,"",0,null,0,0,0,0,0,0]
["","",null,null,null,null,null,null,null,null,null,{"$f":"IF(ISNUMBER(MATCH(B395,Lists!$D$3:$D$11,0)),1,0)","v":0},{"$f":"IF(ISNUMBER(MATCH(B395,Lists!$F$3:$F$14,0)),1,0)","v":0},-1,"",0,null,0,0,0,0,0,0]
["","",null,null,null,null,null,null,null,null,null,{"$f":"IF(ISNUMBER(MATCH(B396,Lists!$D$3:$D$11,0)),1,0)","v":0},{"$f":"IF(ISNUMBER(MATCH(B396,Lists!$F$3:$F$14,0)),1,0)","v":0},-1,"",0,null,{"$f":"IFERROR(IF( VLOOKUP($B396,CheckData,3,FALSE)=1,IF($E396=\"n\",1,0),0),0)","v":0},{"$f":"IFERROR(IF( VLOOKUP($B396,CheckData,4,FALSE)=1,IF($F396=\"n\",1,0),0),0)","v":0},{"$f":"IFERROR(IF( VLOOKUP($B396,CheckData,5,FALSE)=1,IF($G396=\"n\",1,0),0),0)","v":0},{"$f":"IFERROR(IF( OR($D396=\"y\",AND(VLOOKUP($B396,CheckData,6,FALSE)=1, $C396=\"n\")),IF($H396=\"n\",1,0),0),0)","v":0},{"$f":"IFERROR(IF( VLOOKUP($B396,CheckData,7,FALSE)=1,IF($I396=\"n\",1,0),0),0)","v":0},{"$f":"IFERROR(IF(AND( VLOOKUP($B396,CheckData,8,FALSE)=1, $C396=\"y\"),IF(AND($J396=\"n\",AND($D396=\"n\",$H396=\"n\")),1,0),0),0)","v":0}]
["","",null,null,null,null,null,null,null,null,null,{"$f":"IF(ISNUMBER(MATCH(B397,Lists!$D$3:$D$11,0)),1,0)","v":0},{"$f":"IF(ISNUMBER(MATCH(B397,Lists!$F$3:$F$14,0)),1,0)","v":0},-1,"",{"$f":"SUM(Q397:W397)","v":0},null,0,0,0,0,0,0]
["","",null,null,null,null,null,null,null,null,null,{"$f":"IF(ISNUMBER(MATCH(B398,Lists!$D$3:$D$11,0)),1,0)","v":0},{"$f":"IF(ISNUMBER(MATCH(B398,Lists!$F$3:$F$14,0)),1,0)","v":0},-1,"",0,null,0,0,0,0,0,0]
["","",null,null,null,null,null,null,null,null,null,{"$f":"IF(ISNUMBER(MATCH(B399,Lists!$D$3:$D$11,0)),1,0)","v":0},{"$f":"IF(ISNUMBER(MATCH(B399,Lists!$F$3:$F$14,0)),1,0)","v":0},-1,"",0,null,0,0,0,0,0,0]
["","",null,null,null,null,null,null,null,null,null,{"$f":"IF(ISNUMBER(MATCH(B400,Lists!$D$3:$D$11,0)),1,0)","v":0},{"$f":"IF(ISNUMBER(MATCH(B400,Lists!$F$3:$F$14,0)),1,0)","v":0},-1,"",0,null,0,0,0,0,0,0]
["","",null,null,null,null,null,null,null,null,null,{"$f":"IF(ISNUMBER(MATCH(B401,Lists!$D$3:$D$11,0)),1,0)","v":0},{"$f":"IF(ISNUMBER(MATCH(B401,Lists!$F$3:$F$14,0)),1,0)","v":0},-1,"",0,null,0,0,0,0,0,0]
["","",null,null,null,null,null,null,null,null,null,{"$f":"IF(ISNUMBER(MATCH(B402,Lists!$D$3:$D$11,0)),1,0)","v":0},{"$f":"IF(ISNUMBER(MATCH(B402,Lists!$F$3:$F$14,0)),1,0)","v":0},-1,"",0,null,0,0,0,0,0,0]
["","",null,null,null,null,null,null,null,null,null,{"$f":"IF(ISNUMBER(MATCH(B403,Lists!$D$3:$D$11,0)),1,0)","v":0},{"$f":"IF(ISNUMBER(MATCH(B403,Lists!$F$3:$F$14,0)),1,0)","v":0},-1,"",0,null,0,0,0,0,0,0]
["","",null,null,null,null,null,null,null,null,null,{"$f":"IF(ISNUMBER(MATCH(B404,Lists!$D$3:$D$11,0)),1,0)","v":0},{"$f":"IF(ISNUMBER(MATCH(B404,Lists!$F$3:$F$14,0)),1,0)","v":0},-1,{"$f":"IFERROR(VLOOKUP(B404,VehicleLookUp,2,FALSE),\"\")","v":""},0,null,0,0,0,0,0,0]
["","",null,null,null,null,null,null,null,null,null,{"$f":"IF(ISNUMBER(MATCH(B405,Lists!$D$3:$D$11,0)),1,0)","v":0},{"$f":"IF(ISNUMBER(MATCH(B405,Lists!$F$3:$F$14,0)),1,0)","v":0},{"$f":"IF(COUNTBLANK(A405:J405)=10,-1,10-((2-COUNTBLANK(A405:B405))+COUNTIF(C405:J405,\"y\")+COUNTIF(C405:J405,\"n\")))","v":-1},"",0,null,0,0,0,0,0,0]
["","",null,null,null,null,null,null,null,null,null,{"$f":"IF(ISNUMBER(MATCH(B406,Lists!$D$3:$D$11,0)),1,0)","v":0},{"$f":"IF(ISNUMBER(MATCH(B406,Lists!$F$3:$F$14,0)),1,0)","v":0},-1,"",0,null,0,0,0,0,0,0]
["","",null,null,null,null,null,null,null,null,null,{"$f":"IF(ISNUMBER(MATCH(B407,Lists!$D$3:$D$11,0)),1,0)","v":0},{"$f":"IF(ISNUMBER(MATCH(B407,Lists!$F$3:$F$14,0)),1,0)","v":0},-1,"",0,null,0,0,0,0,0,0]
["","",null,null,null,null,null,null,null,null,null,{"$f":"IF(ISNUMBER(MATCH(B408,Lists!$D$3:$D$11,0)),1,0)","v":0},{"$f":"IF(ISNUMBER(MATCH(B408,Lists!$F$3:$F$14,0)),1,0)","v":0},-1,"",0,null,0,0,0,0,0,0]
["","",null,null,null,null,null,null,null,null,null,{"$f":"IF(ISNUMBER(MATCH(B409,Lists!$D$3:$D$11,0)),1,0)","v":0},{"$f":"IF(ISNUMBER(MATCH(B409,Lists!$F$3:$F$14,0)),1,0)","v":0},-1,"",0,null,0,0,0,0,0,0]
["","",null,null,null,null,null,null,null,null,null,{"$f":"IF(ISNUMBER(MATCH(B410,Lists!$D$3:$D$11,0)),1,0)","v":0},{"$f":"IF(ISNUMBER(MATCH(B410,Lists!$F$3:$F$14,0)),1,0)","v":0},-1,"",0,null,0,0,0,0,0,0]
["","",null,null,null,null,null,null,null,null,null,{"$f":"IF(ISNUMBER(MATCH(B411,Lists!$D$3:$D$11,0)),1,0)","v":0},{"$f":"IF(ISNUMBER(MATCH(B411,Lists!$F$3:$F$14,0)),1,0)","v":0},-1,"",0,null,0,0,0,0,0,0]
[null,null,null,null,null,null,null,null,null,null,null,{"$f":"IF(ISNUMBER(MATCH(B412,Lists!$D$3:$D$11,0)),1,0)","v":0},{"$f":"IF(ISNUMBER(MATCH(B412,Lists!$F$3:$F$14,0)),1,0)","v":0},-1,"",0,null,0,0,0,0,0,0]
[null,null,null,null,null,null,null,null,null,null,null,{"$f":"IF(ISNUMBER(MATCH(B413,Lists!$D$3:$D$11,0)),1,0)","v":0},{"$f":"IF(ISNUMBER(MATCH(B413,Lists!$F$3:$F$14,0)),1,0)","v":0},-1,"",0,null,0,0,0,0,0,0]
[null,null,null,null,null,null,null,null,null,null,null,{"$f":"IF(ISNUMBER(MATCH(B414,Lists!$D$3:$D$11,0)),1,0)","v":0},{"$f":"IF(ISNUMBER(MATCH(B414,Lists!$F$3:$F$14,0)),1,0)","v":0},-1,"",0,null,0,0,0,0,0,0]
[null,null,null,null,null,null,null,null,null,null,null,{"$f":"IF(ISNUMBER(MATCH(B415,Lists!$D$3:$D$11,0)),1,0)","v":0},{"$f":"IF(ISNUMBER(MATCH(B415,Lists!$F$3:$F$14,0)),1,0)","v":0},-1,"",0,null,0,0,0,0,0,0]
[null,"",null,null,null,null,null,null,null,null,null,{"$f":"IF(ISNUMBER(MATCH(B416,Lists!$D$3:$D$11,0)),1,0)","v":0},{"$f":"IF(ISNUMBER(MATCH(B416,Lists!$F$3:$F$14,0)),1,0)","v":0},-1,"",0,null,0,0,0,0,0,0]
[null,"",null,null,null,null,null,null,null,null,null,{"$f":"IF(ISNUMBER(MATCH(B417,Lists!$D$3:$D$11,0)),1,0)","v":0},{"$f":"IF(ISNUMBER(MATCH(B417,Lists!$F$3:$F$14,0)),1,0)","v":0},-1,"",0,null,0,0,0,0,0,0]
[null,"",null,null,null,null,null,null,null,null,null,{"$f":"IF(ISNUMBER(MATCH(B418,Lists!$D$3:$D$11,0)),1,0)","v":0},{"$f":"IF(ISNUMBER(MATCH(B418,Lists!$F$3:$F$14,0)),1,0)","v":0},-1,"",0,null,0,0,0,0,0,0]
[null,"",null,null,null,null,null,null,null,null,null,{"$f":"IF(ISNUMBER(MATCH(B419,Lists!$D$3:$D$11,0)),1,0)","v":0},{"$f":"IF(ISNUMBER(MATCH(B419,Lists!$F$3:$F$14,0)),1,0)","v":0},-1,"",0,null,0,0,0,0,0,0]
[null,"",null,null,null,null,null,null,null,null,null,{"$f":"IF(ISNUMBER(MATCH(B420,Lists!$D$3:$D$11,0)),1,0)","v":0},{"$f":"IF(ISNUMBER(MATCH(B420,Lists!$F$3:$F$14,0)),1,0)","v":0},-1,"",0,null,0,0,0,0,0,0]
[null,"",null,null,null,null,null,null,null,null,null,{"$f":"IF(ISNUMBER(MATCH(B421,Lists!$D$3:$D$11,0)),1,0)","v":0},{"$f":"IF(ISNUMBER(MATCH(B421,Lists!$F$3:$F$14,0)),1,0)","v":0},-1,"",0,null,0,0,0,0,0,0]
[null,"",null,null,null,null,null,null,null,null,null,{"$f":"IF(ISNUMBER(MATCH(B422,Lists!$D$3:$D$11,0)),1,0)","v":0},{"$f":"IF(ISNUMBER(MATCH(B422,Lists!$F$3:$F$14,0)),1,0)","v":0},-1,"",0,null,0,0,0,0,0,0]
["","",null,null,null,null,null,null,null,null,null,{"$f":"IF(ISNUMBER(MATCH(B423,Lists!$D$3:$D$11,0)),1,0)","v":0},{"$f":"IF(ISNUMBER(MATCH(B423,Lists!$F$3:$F$14,0)),1,0)","v":0},-1,"",0,null,0,0,0,0,0,0]
["","",null,null,null,null,null,null,null,null,null,{"$f":"IF(ISNUMBER(MATCH(B424,Lists!$D$3:$D$11,0)),1,0)","v":0},{"$f":"IF(ISNUMBER(MATCH(B424,Lists!$F$3:$F$14,0)),1,0)","v":0},-1,"",0,null,0,0,0,0,0,0]
["","",null,null,null,null,null,null,null,null,null,{"$f":"IF(ISNUMBER(MATCH(B425,Lists!$D$3:$D$11,0)),1,0)","v":0},{"$f":"IF(ISNUMBER(MATCH(B425,Lists!$F$3:$F$14,0)),1,0)","v":0},-1,"",0,null,0,0,0,0,0,0]
["","",null,null,null,null,null,null,null,null,null,{"$f":"IF(ISNUMBER(MATCH(B426,Lists!$D$3:$D$11,0)),1,0)","v":0},{"$f":"IF(ISNUMBER(MATCH(B426,Lists!$F$3:$F$14,0)),1,0)","v":0},-1,"",0,null,0,0,0,0,0,0]
["","",null,null,null,null,null,null,null,null,null,{"$f":"IF(ISNUMBER(MATCH(B427,Lists!$D$3:$D$11,0)),1,0)","v":0},{"$f":"IF(ISNUMBER(MATCH(B427,Lists!$F$3:$F$14,0)),1,0)","v":0},-1,"",0,null,0,0,0,0,0,0]
["","",null,null,null,null,null,null,null,null,null,{"$f":"IF(ISNUMBER(MATCH(B428,Lists!$D$3:$D$11,0)),1,0)","v":0},{"$f":"IF(ISNUMBER(MATCH(B428,Lists!$F$3:$F$14,0)),1,0)","v":0},-1,"",0,null,0,0,0,0,0,0]
["","",null,null,null,null,null,null,null,null,null,{"$f":"IF(ISNUMBER(MATCH(B429,Lists!$D$3:$D$11,0)),1,0)","v":0},{"$f":"IF(ISNUMBER(MATCH(B429,Lists!$F$3:$F$14,0)),1,0)","v":0},-1,"",0,null,0,0,0,0,0,0]
["","",null,null,null,null,null,null,null,null,null,{"$f":"IF(ISNUMBER(MATCH(B430,Lists!$D$3:$D$11,0)),1,0)","v":0},{"$f":"IF(ISNUMBER(MATCH(B430,Lists!$F$3:$F$14,0)),1,0)","v":0},-1,"",0,null,0,0,0,0,0,0]
["","",null,null,null,null,null,null,null,null,null,{"$f":"IF(ISNUMBER(MATCH(B431,Lists!$D$3:$D$11,0)),1,0)","v":0},{"$f":"IF(ISNUMBER(MATCH(B431,Lists!$F$3:$F$14,0)),1,0)","v":0},-1,"",0,null,0,0,0,0,0,0]
["","",null,null,null,null,null,null,null,null,null,{"$f":"IF(ISNUMBER(MATCH(B432,Lists!$D$3:$D$11,0)),1,0)","v":0},{"$f":"IF(ISNUMBER(MATCH(B432,Lists!$F$3:$F$14,0)),1,0)","v":0},-1,"",0,null,0,0,0,0,0,0]
["","",null,null,null,null,null,null,null,null,null,{"$f":"IF(ISNUMBER(MATCH(B433,Lists!$D$3:$D$11,0)),1,0)","v":0},{"$f":"IF(ISNUMBER(MATCH(B433,Lists!$F$3:$F$14,0)),1,0)","v":0},-1,"",0,null,0,0,0,0,0,0]
["","",null,null,null,null,null,null,null,null,null,{"$f":"IF(ISNUMBER(MATCH(B434,Lists!$D$3:$D$11,0)),1,0)","v":0},{"$f":"IF(ISNUMBER(MATCH(B434,Lists!$F$3:$F$14,0)),1,0)","v":0},-1,"",0,null,0,0,0,0,0,0]
["","",null,null,null,null,null,null,null,null,null,{"$f":"IF(ISNUMBER(MATCH(B435,Lists!$D$3:$D$11,0)),1,0)","v":0},{"$f":"IF(ISNUMBER(MATCH(B435,Lists!$F$3:$F$14,0)),1,0)","v":0},-1,"",0,null,0,0,0,0,0,0]
["","",null,null,null,null,null,null,null,null,null,{"$f":"IF(ISNUMBER(MATCH(B436,Lists!$D$3:$D$11,0)),1,0)","v":0},{"$f":"IF(ISNUMBER(MATCH(B436,Lists!$F$3:$F$14,0)),1,0)","v":0},-1,"",0,null,0,0,0,0,0,0]
["","",null,null,null,null,null,null,null,null,null,{"$f":"IF(ISNUMBER(MATCH(B437,Lists!$D$3:$D$11,0)),1,0)","v":0},{"$f":"IF(ISNUMBER(MATCH(B437,Lists!$F$3:$F$14,0)),1,0)","v":0},-1,"",0,null,0,0,0,0,0,0]
["","",null,null,null,null,null,null,null,null,null,{"$f":"IF(ISNUMBER(MATCH(B438,Lists!$D$3:$D$11,0)),1,0)","v":0},{"$f":"IF(ISNUMBER(MATCH(B438,Lists!$F$3:$F$14,0)),1,0)","v":0},-1,"",0,null,0,0,0,0,0,0]
["","",null,null,null,null,null,null,null,null,null,{"$f":"IF(ISNUMBER(MATCH(B439,Lists!$D$3:$D$11,0)),1,0)","v":0},{"$f":"IF(ISNUMBER(MATCH(B439,Lists!$F$3:$F$14,0)),1,0)","v":0},-1,"",0,null,0,0,0,0,0,0]
["","",null,null,null,null,null,null,null,null,null,{"$f":"IF(ISNUMBER(MATCH(B440,Lists!$D$3:$D$11,0)),1,0)","v":0},{"$f":"IF(ISNUMBER(MATCH(B440,Lists!$F$3:$F$14,0)),1,0)","v":0},-1,"",0,null,0,0,0,0,0,0]
["","",null,null,null,null,null,null,null,null,null,{"$f":"IF(ISNUMBER(MATCH(B441,Lists!$D$3:$D$11,0)),1,0)","v":0},{"$f":"IF(ISNUMBER(MATCH(B441,Lists!$F$3:$F$14,0)),1,0)","v":0},-1,"",0,null,0,0,0,0,0,0]
["","",null,null,null,null,null,null,null,null,null,{"$f":"IF(ISNUMBER(MATCH(B442,Lists!$D$3:$D$11,0)),1,0)","v":0},{"$f":"IF(ISNUMBER(MATCH(B442,Lists!$F$3:$F$14,0)),1,0)","v":0},-1,"",0,null,0,0,0,0,0,0]
["","",null,null,null,null,null,null,null,null,null,{"$f":"IF(ISNUMBER(MATCH(B443,Lists!$D$3:$D$11,0)),1,0)","v":0},{"$f":"IF(ISNUMBER(MATCH(B443,Lists!$F$3:$F$14,0)),1,0)","v":0},-1,"",0,null,0,0,0,0,0,0]
["","",null,null,null,null,null,null,null,null,null,{"$f":"IF(ISNUMBER(MATCH(B444,Lists!$D$3:$D$11,0)),1,0)","v":0},{"$f":"IF(ISNUMBER(MATCH(B444,Lists!$F$3:$F$14,0)),1,0)","v":0},-1,"",0,null,0,0,0,0,0,0]
["","",null,null,null,null,null,null,null,null,null,{"$f":"IF(ISNUMBER(MATCH(B445,Lists!$D$3:$D$11,0)),1,0)","v":0},{"$f":"IF(ISNUMBER(MATCH(B445,Lists!$F$3:$F$14,0)),1,0)","v":0},-1,"",0,null,0,0,0,0,0,0]
["","",null,null,null,null,null,null,null,null,null,{"$f":"IF(ISNUMBER(MATCH(B446,Lists!$D$3:$D$11,0)),1,0)","v":0},{"$f":"IF(ISNUMBER(MATCH(B446,Lists!$F$3:$F$14,0)),1,0)","v":0},-1,"",0,null,0,0,0,0,0,0]
["","",null,null,null,null,null,null,null,null,null,{"$f":"IF(ISNUMBER(MATCH(B447,Lists!$D$3:$D$11,0)),1,0)","v":0},{"$f":"IF(ISNUMBER(MATCH(B447,Lists!$F$3:$F$14,0)),1,0)","v":0},-1,"",0,null,0,0,0,0,0,0]
["","",null,null,null,null,null,null,null,null,null,{"$f":"IF(ISNUMBER(MATCH(B448,Lists!$D$3:$D$11,0)),1,0)","v":0},{"$f":"IF(ISNUMBER(MATCH(B448,Lists!$F$3:$F$14,0)),1,0)","v":0},-1,"",0,null,0,0,0,0,0,0]
["","",null,null,null,null,null,null,null,null,null,{"$f":"IF(ISNUMBER(MATCH(B449,Lists!$D$3:$D$11,0)),1,0)","v":0},{"$f":"IF(ISNUMBER(MATCH(B449,Lists!$F$3:$F$14,0)),1,0)","v":0},-1,"",0,null,0,0,0,0,0,0]
["","",null,null,null,null,null,null,null,null,null,{"$f":"IF(ISNUMBER(MATCH(B450,Lists!$D$3:$D$11,0)),1,0)","v":0},{"$f":"IF(ISNUMBER(MATCH(B450,Lists!$F$3:$F$14,0)),1,0)","v":0},-1,"",0,null,0,0,0,0,0,0]
["","",null,null,null,null,null,null,null,null,null,{"$f":"IF(ISNUMBER(MATCH(B451,Lists!$D$3:$D$11,0)),1,0)","v":0},{"$f":"IF(ISNUMBER(MATCH(B451,Lists!$F$3:$F$14,0)),1,0)","v":0},-1,"",0,null,0,0,0,0,0,0]
["","",null,null,null,null,null,null,null,null,null,{"$f":"IF(ISNUMBER(MATCH(B452,Lists!$D$3:$D$11,0)),1,0)","v":0},{"$f":"IF(ISNUMBER(MATCH(B452,Lists!$F$3:$F$14,0)),1,0)","v":0},-1,"",0,null,0,0,0,0,0,0]
["","",null,null,null,null,null,null,null,null,null,{"$f":"IF(ISNUMBER(MATCH(B453,Lists!$D$3:$D$11,0)),1,0)","v":0},{"$f":"IF(ISNUMBER(MATCH(B453,Lists!$F$3:$F$14,0)),1,0)","v":0},-1,"",0,null,0,0,0,0,0,0]
["","",null,null,null,null,null,null,null,null,null,{"$f":"IF(ISNUMBER(MATCH(B454,Lists!$D$3:$D$11,0)),1,0)","v":0},{"$f":"IF(ISNUMBER(MATCH(B454,Lists!$F$3:$F$14,0)),1,0)","v":0},-1,"",0,null,0,0,0,0,0,0]
["","",null,null,null,null,null,null,null,null,null,{"$f":"IF(ISNUMBER(MATCH(B455,Lists!$D$3:$D$11,0)),1,0)","v":0},{"$f":"IF(ISNUMBER(MATCH(B455,Lists!$F$3:$F$14,0)),1,0)","v":0},-1,"",0,null,0,0,0,0,0,0]
["","",null,null,null,null,null,null,null,null,null,{"$f":"IF(ISNUMBER(MATCH(B456,Lists!$D$3:$D$11,0)),1,0)","v":0},{"$f":"IF(ISNUMBER(MATCH(B456,Lists!$F$3:$F$14,0)),1,0)","v":0},-1,"",0,null,0,0,0,0,0,0]
["","",null,null,null,null,null,null,null,null,null,{"$f":"IF(ISNUMBER(MATCH(B457,Lists!$D$3:$D$11,0)),1,0)","v":0},{"$f":"IF(ISNUMBER(MATCH(B457,Lists!$F$3:$F$14,0)),1,0)","v":0},-1,"",0,null,0,0,0,0,0,0]
["","",null,null,null,null,null,null,null,null,null,{"$f":"IF(ISNUMBER(MATCH(B458,Lists!$D$3:$D$11,0)),1,0)","v":0},{"$f":"IF(ISNUMBER(MATCH(B458,Lists!$F$3:$F$14,0)),1,0)","v":0},-1,"",0,null,0,0,0,0,0,0]
["","",null,null,null,null,null,null,null,null,null,{"$f":"IF(ISNUMBER(MATCH(B459,Lists!$D$3:$D$11,0)),1,0)","v":0},{"$f":"IF(ISNUMBER(MATCH(B459,Lists!$F$3:$F$14,0)),1,0)","v":0},-1,"",0,null,0,0,0,0,0,0]
["","",null,null,null,null,null,null,null,null,null,{"$f":"IF(ISNUMBER(MATCH(B460,Lists!$D$3:$D$11,0)),1,0)","v":0},{"$f":"IF(ISNUMBER(MATCH(B460,Lists!$F$3:$F$14,0)),1,0)","v":0},-1,"",0,null,{"$f":"IFERROR(IF( VLOOKUP($B460,CheckData,3,FALSE)=1,IF($E460=\"n\",1,0),0),0)","v":0},{"$f":"IFERROR(IF( VLOOKUP($B460,CheckData,4,FALSE)=1,IF($F460=\"n\",1,0),0),0)","v":0},{"$f":"IFERROR(IF( VLOOKUP($B460,CheckData,5,FALSE)=1,IF($G460=\"n\",1,0),0),0)","v":0},{"$f":"IFERROR(IF( OR($D460=\"y\",AND(VLOOKUP($B460,CheckData,6,FALSE)=1, $C460=\"n\")),IF($H460=\"n\",1,0),0),0)","v":0},{"$f":"IFERROR(IF( VLOOKUP($B460,CheckData,7,FALSE)=1,IF($I460=\"n\",1,0),0),0)","v":0},{"$f":"IFERROR(IF(AND( VLOOKUP($B460,CheckData,8,FALSE)=1, $C460=\"y\"),IF(AND($J460=\"n\",AND($D460=\"n\",$H460=\"n\")),1,0),0),0)","v":0}]
["","",null,null,null,null,null,null,null,null,null,{"$f":"IF(ISNUMBER(MATCH(B461,Lists!$D$3:$D$11,0)),1,0)","v":0},{"$f":"IF(ISNUMBER(MATCH(B461,Lists!$F$3:$F$14,0)),1,0)","v":0},-1,"",{"$f":"SUM(Q461:W461)","v":0},null,0,0,0,0,0,0]
["","",null,null,null,null,null,null,null,null,null,{"$f":"IF(ISNUMBER(MATCH(B462,Lists!$D$3:$D$11,0)),1,0)","v":0},{"$f":"IF(ISNUMBER(MATCH(B462,Lists!$F$3:$F$14,0)),1,0)","v":0},-1,"",0,null,0,0,0,0,0,0]
["","",null,null,null,null,null,null,null,null,null,{"$f":"IF(ISNUMBER(MATCH(B463,Lists!$D$3:$D$11,0)),1,0)","v":0},{"$f":"IF(ISNUMBER(MATCH(B463,Lists!$F$3:$F$14,0)),1,0)","v":0},-1,"",0,null,0,0,0,0,0,0]
["","",null,null,null,null,null,null,null,null,null,{"$f":"IF(ISNUMBER(MATCH(B464,Lists!$D$3:$D$11,0)),1,0)","v":0},{"$f":"IF(ISNUMBER(MATCH(B464,Lists!$F$3:$F$14,0)),1,0)","v":0},-1,"",0,null,0,0,0,0,0,0]
["","",null,null,null,null,null,null,null,null,null,{"$f":"IF(ISNUMBER(MATCH(B465,Lists!$D$3:$D$11,0)),1,0)","v":0},{"$f":"IF(ISNUMBER(MATCH(B465,Lists!$F$3:$F$14,0)),1,0)","v":0},-1,"",0,null,0,0,0,0,0,0]
["","",null,null,null,null,null,null,null,null,null,{"$f":"IF(ISNUMBER(MATCH(B466,Lists!$D$3:$D$11,0)),1,0)","v":0},{"$f":"IF(ISNUMBER(MATCH(B466,Lists!$F$3:$F$14,0)),1,0)","v":0},-1,"",0,null,0,0,0,0,0,0]
["","",null,null,null,null,null,null,null,null,null,{"$f":"IF(ISNUMBER(MATCH(B467,Lists!$D$3:$D$11,0)),1,0)","v":0},{"$f":"IF(ISNUMBER(MATCH(B467,Lists!$F$3:$F$14,0)),1,0)","v":0},-1,"",0,null,0,0,0,0,0,0]
["","",null,null,null,null,null,null,null,null,null,{"$f":"IF(ISNUMBER(MATCH(B468,Lists!$D$3:$D$11,0)),1,0)","v":0},{"$f":"IF(ISNUMBER(MATCH(B468,Lists!$F$3:$F$14,0)),1,0)","v":0},-1,{"$f":"IFERROR(VLOOKUP(B468,VehicleLookUp,2,FALSE),\"\")","v":""},0,null,0,0,0,0,0,0]
["","",null,null,null,null,null,null,null,null,null,{"$f":"IF(ISNUMBER(MATCH(B469,Lists!$D$3:$D$11,0)),1,0)","v":0},{"$f":"IF(ISNUMBER(MATCH(B469,Lists!$F$3:$F$14,0)),1,0)","v":0},{"$f":"IF(COUNTBLANK(A469:J469)=10,-1,10-((2-COUNTBLANK(A469:B469))+COUNTIF(C469:J469,\"y\")+COUNTIF(C469:J469,\"n\")))","v":-1},"",0,null,0,0,0,0,0,0]
["","",null,null,null,null,null,null,null,null,null,{"$f":"IF(ISNUMBER(MATCH(B470,Lists!$D$3:$D$11,0)),1,0)","v":0},{"$f":"IF(ISNUMBER(MATCH(B470,Lists!$F$3:$F$14,0)),1,0)","v":0},-1,"",0,null,0,0,0,0,0,0]
["","",null,null,null,null,null,null,null,null,null,{"$f":"IF(ISNUMBER(MATCH(B471,Lists!$D$3:$D$11,0)),1,0)","v":0},{"$f":"IF(ISNUMBER(MATCH(B471,Lists!$F$3:$F$14,0)),1,0)","v":0},-1,"",0,null,0,0,0,0,0,0]
["","",null,null,null,null,null,null,null,null,null,{"$f":"IF(ISNUMBER(MATCH(B472,Lists!$D$3:$D$11,0)),1,0)","v":0},{"$f":"IF(ISNUMBER(MATCH(B472,Lists!$F$3:$F$14,0)),1,0)","v":0},-1,"",0,null,0,0,0,0,0,0]
["","",null,null,null,null,null,null,null,null,null,{"$f":"IF(ISNUMBER(MATCH(B473,Lists!$D$3:$D$11,0)),1,0)","v":0},{"$f":"IF(ISNUMBER(MATCH(B473,Lists!$F$3:$F$14,0)),1,0)","v":0},-1,"",0,null,0,0,0,0,0,0]
["","",null,null,null,null,null,null,null,null,null,{"$f":"IF(ISNUMBER(MATCH(B474,Lists!$D$3:$D$11,0)),1,0)","v":0},{"$f":"IF(ISNUMBER(MATCH(B474,Lists!$F$3:$F$14,0)),1,0)","v":0},-1,"",0,null,0,0,0,0,0,0]
["","",null,null,null,null,null,null,null,null,null,{"$f":"IF(ISNUMBER(MATCH(B475,Lists!$D$3:$D$11,0)),1,0)","v":0},{"$f":"IF(ISNUMBER(MATCH(B475,Lists!$F$3:$F$14,0)),1,0)","v":0},-1,"",0,null,0,0,0,0,0,0]
["","",null,null,null,null,null,null,null,null,null,{"$f":"IF(ISNUMBER(MATCH(B476,Lists!$D$3:$D$11,0)),1,0)","v":0},{"$f":"IF(ISNUMBER(MATCH(B476,Lists!$F$3:$F$14,0)),1,0)","v":0},-1,"",0,null,0,0,0,0,0,0]
["","",null,null,null,null,null,null,null,null,null,{"$f":"IF(ISNUMBER(MATCH(B477,Lists!$D$3:$D$11,0)),1,0)","v":0},{"$f":"IF(ISNUMBER(MATCH(B477,Lists!$F$3:$F$14,0)),1,0)","v":0},-1,"",0,null,0,0,0,0,0,0]
["","",null,null,null,null,null,null,null,null,null,{"$f":"IF(ISNUMBER(MATCH(B478,Lists!$D$3:$D$11,0)),1,0)","v":0},{"$f":"IF(ISNUMBER(MATCH(B478,Lists!$F$3:$F$14,0)),1,0)","v":0},-1,"",0,null,0,0,0,0,0,0]
["","",null,null,null,null,null,null,null,null,null,{"$f":"IF(ISNUMBER(MATCH(B479,Lists!$D$3:$D$11,0)),1,0)","v":0},{"$f":"IF(ISNUMBER(MATCH(B479,Lists!$F$3:$F$14,0)),1,0)","v":0},-1,"",0,null,0,0,0,0,0,0]
["","",null,null,null,null,null,null,null,null,null,{"$f":"IF(ISNUMBER(MATCH(B480,Lists!$D$3:$D$11,0)),1,0)","v":0},{"$f":"IF(ISNUMBER(MATCH(B480,Lists!$F$3:$F$14,0)),1,0)","v":0},-1,"",0,null,0,0,0,0,0,0]
["","",null,null,null,null,null,null,null,null,null,{"$f":"IF(ISNUMBER(MATCH(B481,Lists!$D$3:$D$11,0)),1,0)","v":0},{"$f":"IF(ISNUMBER(MATCH(B481,Lists!$F$3:$F$14,0)),1,0)","v":0},-1,"",0,null,0,0,0,0,0,0]
["","",null,null,null,null,null,null,null,null,null,{"$f":"IF(ISNUMBER(MATCH(B482,Lists!$D$3:$D$11,0)),1,0)","v":0},{"$f":"IF(ISNUMBER(MATCH(B482,Lists!$F$3:$F$14,0)),1,0)","v":0},-1,"",0,null,0,0,0,0,0,0]
["","",null,null,null,null,null,null,null,null,null,{"$f":"IF(ISNUMBER(MATCH(B483,Lists!$D$3:$D$11,0)),1,0)","v":0},{"$f":"IF(ISNUMBER(MATCH(B483,Lists!$F$3:$F$14,0)),1,0)","v":0},-1,"",0,null,0,0,0,0,0,0]
["","",null,null,null,null,null,null,null,null,null,{"$f":"IF(ISNUMBER(MATCH(B484,Lists!$D$3:$D$11,0)),1,0)","v":0},{"$f":"IF(ISNUMBER(MATCH(B484,Lists!$F$3:$F$14,0)),1,0)","v":0},-1,"",0,null,0,0,0,0,0,0]
["","",null,null,null,null,null,null,null,null,null,{"$f":"IF(ISNUMBER(MATCH(B485,Lists!$D$3:$D$11,0)),1,0)","v":0},{"$f":"IF(ISNUMBER(MATCH(B485,Lists!$F$3:$F$14,0)),1,0)","v":0},-1,"",0,null,0,0,0,0,0,0]
["","",null,null,null,null,null,null,null,null,null,{"$f":"IF(ISNUMBER(MATCH(B486,Lists!$D$3:$D$11,0)),1,0)","v":0},{"$f":"IF(ISNUMBER(MATCH(B486,Lists!$F$3:$F$14,0)),1,0)","v":0},-1,"",0,null,0,0,0,0,0,0]
["","",null,null,null,null,null,null,null,null,null,{"$f":"IF(ISNUMBER(MATCH(B487,Lists!$D$3:$D$11,0)),1,0)","v":0},{"$f":"IF(ISNUMBER(MATCH(B487,Lists!$F$3:$F$14,0)),1,0)","v":0},-1,"",0,null,0,0,0,0,0,0]
["","",null,null,null,null,null,null,null,null,null,{"$f":"IF(ISNUMBER(MATCH(B488,Lists!$D$3:$D$11,0)),1,0)","v":0},{"$f":"IF(ISNUMBER(MATCH(B488,Lists!$F$3:$F$14,0)),1,0)","v":0},-1,"",0,null,0,0,0,0,0,0]
["","",null,null,null,null,null,null,null,null,null,{"$f":"IF(ISNUMBER(MATCH(B489,Lists!$D$3:$D$11,0)),1,0)","v":0},{"$f":"IF(ISNUMBER(MATCH(B489,Lists!$F$3:$F$14,0)),1,0)","v":0},-1,"",0,null,0,0,0,0,0,0]
["","",null,null,null,null,null,null,null,null,null,{"$f":"IF(ISNUMBER(MATCH(B490,Lists!$D$3:$D$11,0)),1,0)","v":0},{"$f":"IF(ISNUMBER(MATCH(B490,Lists!$F$3:$F$14,0)),1,0)","v":0},-1,"",0,null,0,0,0,0,0,0]
["","",null,null,null,null,null,null,null,null,null,{"$f":"IF(ISNUMBER(MATCH(B491,Lists!$D$3:$D$11,0)),1,0)","v":0},{"$f":"IF(ISNUMBER(MATCH(B491,Lists!$F$3:$F$14,0)),1,0)","v":0},-1,"",0,null,0,0,0,0,0,0]
["","",null,null,null,null,null,null,null,null,null,{"$f":"IF(ISNUMBER(MATCH(B492,Lists!$D$3:$D$11,0)),1,0)","v":0},{"$f":"IF(ISNUMBER(MATCH(B492,Lists!$F$3:$F$14,0)),1,0)","v":0},-1,"",0,null,0,0,0,0,0,0]
["","",null,null,null,null,null,null,null,null,null,{"$f":"IF(ISNUMBER(MATCH(B493,Lists!$D$3:$D$11,0)),1,0)","v":0},{"$f":"IF(ISNUMBER(MATCH(B493,Lists!$F$3:$F$14,0)),1,0)","v":0},-1,"",0,null,0,0,0,0,0,0]
["","",null,null,null,null,null,null,null,null,null,{"$f":"IF(ISNUMBER(MATCH(B494,Lists!$D$3:$D$11,0)),1,0)","v":0},{"$f":"IF(ISNUMBER(MATCH(B494,Lists!$F$3:$F$14,0)),1,0)","v":0},-1,"",0,null,0,0,0,0,0,0]
["","",null,null,null,null,null,null,null,null,null,{"$f":"IF(ISNUMBER(MATCH(B495,Lists!$D$3:$D$11,0)),1,0)","v":0},{"$f":"IF(ISNUMBER(MATCH(B495,Lists!$F$3:$F$14,0)),1,0)","v":0},-1,"",0,null,0,0,0,0,0,0]
["","",null,null,null,null,null,null,null,null,null,{"$f":"IF(ISNUMBER(MATCH(B496,Lists!$D$3:$D$11,0)),1,0)","v":0},{"$f":"IF(ISNUMBER(MATCH(B496,Lists!$F$3:$F$14,0)),1,0)","v":0},-1,"",0,null,0,0,0,0,0,0]
["","",null,null,null,null,null,null,null,null,null,{"$f":"IF(ISNUMBER(MATCH(B497,Lists!$D$3:$D$11,0)),1,0)","v":0},{"$f":"IF(ISNUMBER(MATCH(B497,Lists!$F$3:$F$14,0)),1,0)","v":0},-1,"",0,null,0,0,0,0,0,0]
["","",null,null,null,null,null,null,null,null,null,{"$f":"IF(ISNUMBER(MATCH(B498,Lists!$D$3:$D$11,0)),1,0)","v":0},{"$f":"IF(ISNUMBER(MATCH(B498,Lists!$F$3:$F$14,0)),1,0)","v":0},-1,"",0,null,0,0,0,0,0,0]
["","",null,null,null,null,null,null,null,null,null,{"$f":"IF(ISNUMBER(MATCH(B499,Lists!$D$3:$D$11,0)),1,0)","v":0},{"$f":"IF(ISNUMBER(MATCH(B499,Lists!$F$3:$F$14,0)),1,0)","v":0},-1,"",0,null,0,0,0,0,0,0]
["","",null,null,null,null,null,null,null,null,null,{"$f":"IF(ISNUMBER(MATCH(B500,Lists!$D$3:$D$11,0)),1,0)","v":0},{"$f":"IF(ISNUMBER(MATCH(B500,Lists!$F$3:$F$14,0)),1,0)","v":0},-1,"",0,null,0,0,0,0,0,0]
["","",null,null,null,null,null,null,null,null,null,{"$f":"IF(ISNUMBER(MATCH(B501,Lists!$D$3:$D$11,0)),1,0)","v":0},{"$f":"IF(ISNUMBER(MATCH(B501,Lists!$F$3:$F$14,0)),1,0)","v":0},-1,"",0,null,0,0,0,0,0,0]
["","",null,null,null,null,null,null,null,null,null,{"$f":"IF(ISNUMBER(MATCH(B502,Lists!$D$3:$D$11,0)),1,0)","v":0},{"$f":"IF(ISNUMBER(MATCH(B502,Lists!$F$3:$F$14,0)),1,0)","v":0},-1,"",0,null,0,0,0,0,0,0]
["","",null,null,null,null,null,null,null,null,null,{"$f":"IF(ISNUMBER(MATCH(B503,Lists!$D$3:$D$11,0)),1,0)","v":0},{"$f":"IF(ISNUMBER(MATCH(B503,Lists!$F$3:$F$14,0)),1,0)","v":0},-1,"",0,null,0,0,0,0,0,0]
["","",null,null,null,null,null,null,null,null,null,{"$f":"IF(ISNUMBER(MATCH(B504,Lists!$D$3:$D$11,0)),1,0)","v":0},{"$f":"IF(ISNUMBER(MATCH(B504,Lists!$F$3:$F$14,0)),1,0)","v":0},-1,"",0,null,0,0,0,0,0,0]
["","",null,null,null,null,null,null,null,null,null,{"$f":"IF(ISNUMBER(MATCH(B505,Lists!$D$3:$D$11,0)),1,0)","v":0},{"$f":"IF(ISNUMBER(MATCH(B505,Lists!$F$3:$F$14,0)),1,0)","v":0},-1,"",0,null,0,0,0,0,0,0]
["","",null,null,null,null,null,null,null,null,null,{"$f":"IF(ISNUMBER(MATCH(B506,Lists!$D$3:$D$11,0)),1,0)","v":0},{"$f":"IF(ISNUMBER(MATCH(B506,Lists!$F$3:$F$14,0)),1,0)","v":0},-1,"",0,null,0,0,0,0,0,0]
["","",null,null,null,null,null,null,null,null,null,{"$f":"IF(ISNUMBER(MATCH(B507,Lists!$D$3:$D$11,0)),1,0)","v":0},{"$f":"IF(ISNUMBER(MATCH(B507,Lists!$F$3:$F$14,0)),1,0)","v":0},-1,"",0,null,0,0,0,0,0,0]
["","",null,null,null,null,null,null,null,null,null,{"$f":"IF(ISNUMBER(MATCH(B508,Lists!$D$3:$D$11,0)),1,0)","v":0},{"$f":"IF(ISNUMBER(MATCH(B508,Lists!$F$3:$F$14,0)),1,0)","v":0},-1,"",0,null,0,0,0,0,0,0]
["","",null,null,null,null,null,null,null,null,null,{"$f":"IF(ISNUMBER(MATCH(B509,Lists!$D$3:$D$11,0)),1,0)","v":0},{"$f":"IF(ISNUMBER(MATCH(B509,Lists!$F$3:$F$14,0)),1,0)","v":0},-1,"",0,null,0,0,0,0,0,0]
["","",null,null,null,null,null,null,null,null,null,{"$f":"IF(ISNUMBER(MATCH(B510,Lists!$D$3:$D$11,0)),1,0)","v":0},{"$f":"IF(ISNUMBER(MATCH(B510,Lists!$F$3:$F$14,0)),1,0)","v":0},-1,"",0,null,0,0,0,0,0,0]
["","",null,null,null,null,null,null,null,null,null,{"$f":"IF(ISNUMBER(MATCH(B511,Lists!$D$3:$D$11,0)),1,0)","v":0},{"$f":"IF(ISNUMBER(MATCH(B511,Lists!$F$3:$F$14,0)),1,0)","v":0},-1,"",0,null,0,0,0,0,0,0]
[null,null,null,null,null,null,null,null,null,null,null,{"$f":"IF(ISNUMBER(MATCH(B512,Lists!$D$3:$D$11,0)),1,0)","v":0},{"$f":"IF(ISNUMBER(MATCH(B512,Lists!$F$3:$F$14,0)),1,0)","v":0},-1,"",0,null,0,0,0,0,0,0]
[null,null,null,null,null,null,null,null,null,null,null,{"$f":"IF(ISNUMBER(MATCH(B513,Lists!$D$3:$D$11,0)),1,0)","v":0},{"$f":"IF(ISNUMBER(MATCH(B513,Lists!$F$3:$F$14,0)),1,0)","v":0},-1,"",0,null,0,0,0,0,0,0]
[null,null,null,null,null,null,null,null,null,null,null,{"$f":"IF(ISNUMBER(MATCH(B514,Lists!$D$3:$D$11,0)),1,0)","v":0},{"$f":"IF(ISNUMBER(MATCH(B514,Lists!$F$3:$F$14,0)),1,0)","v":0},-1,"",0,null,0,0,0,0,0,0]
[null,null,null,null,null,null,null,null,null,null,null,{"$f":"IF(ISNUMBER(MATCH(B515,Lists!$D$3:$D$11,0)),1,0)","v":0},{"$f":"IF(ISNUMBER(MATCH(B515,Lists!$F$3:$F$14,0)),1,0)","v":0},-1,"",0,null,0,0,0,0,0,0]
[null,"",null,null,null,null,null,null,null,null,null,{"$f":"IF(ISNUMBER(MATCH(B516,Lists!$D$3:$D$11,0)),1,0)","v":0},{"$f":"IF(ISNUMBER(MATCH(B516,Lists!$F$3:$F$14,0)),1,0)","v":0},-1,"",0,null,0,0,0,0,0,0]
[null,"",null,null,null,null,null,null,null,null,null,{"$f":"IF(ISNUMBER(MATCH(B517,Lists!$D$3:$D$11,0)),1,0)","v":0},{"$f":"IF(ISNUMBER(MATCH(B517,Lists!$F$3:$F$14,0)),1,0)","v":0},-1,"",0,null,0,0,0,0,0,0]
[null,"",null,null,null,null,null,null,null,null,null,{"$f":"IF(ISNUMBER(MATCH(B518,Lists!$D$3:$D$11,0)),1,0)","v":0},{"$f":"IF(ISNUMBER(MATCH(B518,Lists!$F$3:$F$14,0)),1,0)","v":0},-1,"",0,null,0,0,0,0,0,0]
[null,"",null,null,null,null,null,null,null,null,null,{"$f":"IF(ISNUMBER(MATCH(B519,Lists!$D$3:$D$11,0)),1,0)","v":0},{"$f":"IF(ISNUMBER(MATCH(B519,Lists!$F$3:$F$14,0)),1,0)","v":0},-1,"",0,null,0,0,0,0,0,0]
[null,"",null,null,null,null,null,null,null,null,null,{"$f":"IF(ISNUMBER(MATCH(B520,Lists!$D$3:$D$11,0)),1,0)","v":0},{"$f":"IF(ISNUMBER(MATCH(B520,Lists!$F$3:$F$14,0)),1,0)","v":0},-1,"",0,null,0,0,0,0,0,0]
[null,"",null,null,null,null,null,null,null,null,null,{"$f":"IF(ISNUMBER(MATCH(B521,Lists!$D$3:$D$11,0)),1,0)","v":0},{"$f":"IF(ISNUMBER(MATCH(B521,Lists!$F$3:$F$14,0)),1,0)","v":0},-1,"",0,null,0,0,0,0,0,0]
[null,"",null,null,null,null,null,null,null,null,null,{"$f":"IF(ISNUMBER(MATCH(B522,Lists!$D$3:$D$11,0)),1,0)","v":0},{"$f":"IF(ISNUMBER(MATCH(B522,Lists!$F$3:$F$14,0)),1,0)","v":0},-1,"",0,null,0,0,0,0,0,0]
["","",null,null,null,null,null,null,null,null,null,{"$f":"IF(ISNUMBER(MATCH(B523,Lists!$D$3:$D$11,0)),1,0)","v":0},{"$f":"IF(ISNUMBER(MATCH(B523,Lists!$F$3:$F$14,0)),1,0)","v":0},-1,"",0,null,0,0,0,0,0,0]
["","",null,null,null,null,null,null,null,null,null,{"$f":"IF(ISNUMBER(MATCH(B524,Lists!$D$3:$D$11,0)),1,0)","v":0},{"$f":"IF(ISNUMBER(MATCH(B524,Lists!$F$3:$F$14,0)),1,0)","v":0},-1,"",0,null,{"$f":"IFERROR(IF( VLOOKUP($B524,CheckData,3,FALSE)=1,IF($E524=\"n\",1,0),0),0)","v":0},{"$f":"IFERROR(IF( VLOOKUP($B524,CheckData,4,FALSE)=1,IF($F524=\"n\",1,0),0),0)","v":0},{"$f":"IFERROR(IF( VLOOKUP($B524,CheckData,5,FALSE)=1,IF($G524=\"n\",1,0),0),0)","v":0},{"$f":"IFERROR(IF( OR($D524=\"y\",AND(VLOOKUP($B524,CheckData,6,FALSE)=1, $C524=\"n\")),IF($H524=\"n\",1,0),0),0)","v":0},{"$f":"IFERROR(IF( VLOOKUP($B524,CheckData,7,FALSE)=1,IF($I524=\"n\",1,0),0),0)","v":0},{"$f":"IFERROR(IF(AND( VLOOKUP($B524,CheckData,8,FALSE)=1, $C524=\"y\"),IF(AND($J524=\"n\",AND($D524=\"n\",$H524=\"n\")),1,0),0),0)","v":0}]
["","",null,null,null,null,null,null,null,null,null,{"$f":"IF(ISNUMBER(MATCH(B525,Lists!$D$3:$D$11,0)),1,0)","v":0},{"$f":"IF(ISNUMBER(MATCH(B525,Lists!$F$3:$F$14,0)),1,0)","v":0},-1,"",{"$f":"SUM(Q525:W525)","v":0},null,0,0,0,0,0,0]
["","",null,null,null,null,null,null,null,null,null,{"$f":"IF(ISNUMBER(MATCH(B526,Lists!$D$3:$D$11,0)),1,0)","v":0},{"$f":"IF(ISNUMBER(MATCH(B526,Lists!$F$3:$F$14,0)),1,0)","v":0},-1,"",0,null,0,0,0,0,0,0]
["","",null,null,null,null,null,null,null,null,null,{"$f":"IF(ISNUMBER(MATCH(B527,Lists!$D$3:$D$11,0)),1,0)","v":0},{"$f":"IF(ISNUMBER(MATCH(B527,Lists!$F$3:$F$14,0)),1,0)","v":0},-1,"",0,null,0,0,0,0,0,0]
["","",null,null,null,null,null,null,null,null,null,{"$f":"IF(ISNUMBER(MATCH(B528,Lists!$D$3:$D$11,0)),1,0)","v":0},{"$f":"IF(ISNUMBER(MATCH(B528,Lists!$F$3:$F$14,0)),1,0)","v":0},-1,"",0,null,0,0,0,0,0,0]
["","",null,null,null,null,null,null,null,null,null,{"$f":"IF(ISNUMBER(MATCH(B529,Lists!$D$3:$D$11,0)),1,0)","v":0},{"$f":"IF(ISNUMBER(MATCH(B529,Lists!$F$3:$F$14,0)),1,0)","v":0},-1,"",0,null,0,0,0,0,0,0]
["","",null,null,null,null,null,null,null,null,null,{"$f":"IF(ISNUMBER(MATCH(B530,Lists!$D$3:$D$11,0)),1,0)","v":0},{"$f":"IF(ISNUMBER(MATCH(B530,Lists!$F$3:$F$14,0)),1,0)","v":0},-1,"",0,null,0,0,0,0,0,0]
["","",null,null,null,null,null,null,null,null,null,{"$f":"IF(ISNUMBER(MATCH(B531,Lists!$D$3:$D$11,0)),1,0)","v":0},{"$f":"IF(ISNUMBER(MATCH(B531,Lists!$F$3:$F$14,0)),1,0)","v":0},-1,"",0,null,0,0,0,0,0,0]
["","",null,null,null,null,null,null,null,null,null,{"$f":"IF(ISNUMBER(MATCH(B532,Lists!$D$3:$D$11,0)),1,0)","v":0},{"$f":"IF(ISNUMBER(MATCH(B532,Lists!$F$3:$F$14,0)),1,0)","v":0},-1,{"$f":"IFERROR(VLOOKUP(B532,VehicleLookUp,2,FALSE),\"\")","v":""},0,null,0,0,0,0,0,0]
["","",null,null,null,null,null,null,null,null,null,{"$f":"IF(ISNUMBER(MATCH(B533,Lists!$D$3:$D$11,0)),1,0)","v":0},{"$f":"IF(ISNUMBER(MATCH(B533,Lists!$F$3:$F$14,0)),1,0)","v":0},{"$f":"IF(COUNTBLANK(A533:J533)=10,-1,10-((2-COUNTBLANK(A533:B533))+COUNTIF(C533:J533,\"y\")+COUNTIF(C533:J533,\"n\")))","v":-1},"",0,null,0,0,0,0,0,0]
["","",null,null,null,null,null,null,null,null,null,{"$f":"IF(ISNUMBER(MATCH(B534,Lists!$D$3:$D$11,0)),1,0)","v":0},{"$f":"IF(ISNUMBER(MATCH(B534,Lists!$F$3:$F$14,0)),1,0)","v":0},-1,"",0,null,0,0,0,0,0,0]
["","",null,null,null,null,null,null,null,null,null,{"$f":"IF(ISNUMBER(MATCH(B535,Lists!$D$3:$D$11,0)),1,0)","v":0},{"$f":"IF(ISNUMBER(MATCH(B535,Lists!$F$3:$F$14,0)),1,0)","v":0},-1,"",0,null,0,0,0,0,0,0]
["","",null,null,null,null,null,null,null,null,null,{"$f":"IF(ISNUMBER(MATCH(B536,Lists!$D$3:$D$11,0)),1,0)","v":0},{"$f":"IF(ISNUMBER(MATCH(B536,Lists!$F$3:$F$14,0)),1,0)","v":0},-1,"",0,null,0,0,0,0,0,0]
["","",null,null,null,null,null,null,null,null,null,{"$f":"IF(ISNUMBER(MATCH(B537,Lists!$D$3:$D$11,0)),1,0)","v":0},{"$f":"IF(ISNUMBER(MATCH(B537,Lists!$F$3:$F$14,0)),1,0)","v":0},-1,"",0,null,0,0,0,0,0,0]
["","",null,null,null,null,null,null,null,null,null,{"$f":"IF(ISNUMBER(MATCH(B538,Lists!$D$3:$D$11,0)),1,0)","v":0},{"$f":"IF(ISNUMBER(MATCH(B538,Lists!$F$3:$F$14,0)),1,0)","v":0},-1,"",0,null,0,0,0,0,0,0]
["","",null,null,null,null,null,null,null,null,null,{"$f":"IF(ISNUMBER(MATCH(B539,Lists!$D$3:$D$11,0)),1,0)","v":0},{"$f":"IF(ISNUMBER(MATCH(B539,Lists!$F$3:$F$14,0)),1,0)","v":0},-1,"",0,null,0,0,0,0,0,0]
["","",null,null,null,null,null,null,null,null,null,{"$f":"IF(ISNUMBER(MATCH(B540,Lists!$D$3:$D$11,0)),1,0)","v":0},{"$f":"IF(ISNUMBER(MATCH(B540,Lists!$F$3:$F$14,0)),1,0)","v":0},-1,"",0,null,0,0,0,0,0,0]
["","",null,null,null,null,null,null,null,null,null,{"$f":"IF(ISNUMBER(MATCH(B541,Lists!$D$3:$D$11,0)),1,0)","v":0},{"$f":"IF(ISNUMBER(MATCH(B541,Lists!$F$3:$F$14,0)),1,0)","v":0},-1,"",0,null,0,0,0,0,0,0]
["","",null,null,null,null,null,null,null,null,null,{"$f":"IF(ISNUMBER(MATCH(B542,Lists!$D$3:$D$11,0)),1,0)","v":0},{"$f":"IF(ISNUMBER(MATCH(B542,Lists!$F$3:$F$14,0)),1,0)","v":0},-1,"",0,null,0,0,0,0,0,0]
["","",null,null,null,null,null,null,null,null,null,{"$f":"IF(ISNUMBER(MATCH(B543,Lists!$D$3:$D$11,0)),1,0)","v":0},{"$f":"IF(ISNUMBER(MATCH(B543,Lists!$F$3:$F$14,0)),1,0)","v":0},-1,"",0,null,0,0,0,0,0,0]
["","",null,null,null,null,null,null,null,null,null,{"$f":"IF(ISNUMBER(MATCH(B544,Lists!$D$3:$D$11,0)),1,0)","v":0},{"$f":"IF(ISNUMBER(MATCH(B544,Lists!$F$3:$F$14,0)),1,0)","v":0},-1,"",0,null,0,0,0,0,0,0]
["","",null,null,null,null,null,null,null,null,null,{"$f":"IF(ISNUMBER(MATCH(B545,Lists!$D$3:$D$11,0)),1,0)","v":0},{"$f":"IF(ISNUMBER(MATCH(B545,Lists!$F$3:$F$14,0)),1,0)","v":0},-1,"",0,null,0,0,0,0,0,0]
["","",null,null,null,null,null,null,null,null,null,{"$f":"IF(ISNUMBER(MATCH(B546,Lists!$D$3:$D$11,0)),1,0)","v":0},{"$f":"IF(ISNUMBER(MATCH(B546,Lists!$F$3:$F$14,0)),1,0)","v":0},-1,"",0,null,0,0,0,0,0,0]
["","",null,null,null,null,null,null,null,null,null,{"$f":"IF(ISNUMBER(MATCH(B547,Lists!$D$3:$D$11,0)),1,0)","v":0},{"$f":"IF(ISNUMBER(MATCH(B547,Lists!$F$3:$F$14,0)),1,0)","v":0},-1,"",0,null,0,0,0,0,0,0]
["","",null,null,null,null,null,null,null,null,null,{"$f":"IF(ISNUMBER(MATCH(B548,Lists!$D$3:$D$11,0)),1,0)","v":0},{"$f":"IF(ISNUMBER(MATCH(B548,Lists!$F$3:$F$14,0)),1,0)","v":0},-1,"",0,null,0,0,0,0,0,0]
["","",null,null,null,null,null,null,null,null,null,{"$f":"IF(ISNUMBER(MATCH(B549,Lists!$D$3:$D$11,0)),1,0)","v":0},{"$f":"IF(ISNUMBER(MATCH(B549,Lists!$F$3:$F$14,0)),1,0)","v":0},-1,"",0,null,0,0,0,0,0,0]
["","",null,null,null,null,null,null,null,null,null,{"$f":"IF(ISNUMBER(MATCH(B550,Lists!$D$3:$D$11,0)),1,0)","v":0},{"$f":"IF(ISNUMBER(MATCH(B550,Lists!$F$3:$F$14,0)),1,0)","v":0},-1,"",0,null,0,0,0,0,0,0]
["","",null,null,null,null,null,null,null,null,null,{"$f":"IF(ISNUMBER(MATCH(B551,Lists!$D$3:$D$11,0)),1,0)","v":0},{"$f":"IF(ISNUMBER(MATCH(B551,Lists!$F$3:$F$14,0)),1,0)","v":0},-1,"",0,null,0,0,0,0,0,0]
["","",null,null,null,null,null,null,null,null,null,{"$f":"IF(ISNUMBER(MATCH(B552,Lists!$D$3:$D$11,0)),1,0)","v":0},{"$f":"IF(ISNUMBER(MATCH(B552,Lists!$F$3:$F$14,0)),1,0)","v":0},-1,"",0,null,0,0,0,0,0,0]
["","",null,null,null,null,null,null,null,null,null,{"$f":"IF(ISNUMBER(MATCH(B553,Lists!$D$3:$D$11,0)),1,0)","v":0},{"$f":"IF(ISNUMBER(MATCH(B553,Lists!$F$3:$F$14,0)),1,0)","v":0},-1,"",0,null,0,0,0,0,0,0]
["","",null,null,null,null,null,null,null,null,null,{"$f":"IF(ISNUMBER(MATCH(B554,Lists!$D$3:$D$11,0)),1,0)","v":0},{"$f":"IF(ISNUMBER(MATCH(B554,Lists!$F$3:$F$14,0)),1,0)","v":0},-1,"",0,null,0,0,0,0,0,0]
["","",null,null,null,null,null,null,null,null,null,{"$f":"IF(ISNUMBER(MATCH(B555,Lists!$D$3:$D$11,0)),1,0)","v":0},{"$f":"IF(ISNUMBER(MATCH(B555,Lists!$F$3:$F$14,0)),1,0)","v":0},-1,"",0,null,0,0,0,0,0,0]
["","",null,null,null,null,null,null,null,null,null,{"$f":"IF(ISNUMBER(MATCH(B556,Lists!$D$3:$D$11,0)),1,0)","v":0},{"$f":"IF(ISNUMBER(MATCH(B556,Lists!$F$3:$F$14,0)),1,0)","v":0},-1,"",0,null,0,0,0,0,0,0]
["","",null,null,null,null,null,null,null,null,null,{"$f":"IF(ISNUMBER(MATCH(B557,Lists!$D$3:$D$11,0)),1,0)","v":0},{"$f":"IF(ISNUMBER(MATCH(B557,Lists!$F$3:$F$14,0)),1,0)","v":0},-1,"",0,null,0,0,0,0,0,0]
["","",null,null,null,null,null,null,null,null,null,{"$f":"IF(ISNUMBER(MATCH(B558,Lists!$D$3:$D$11,0)),1,0)","v":0},{"$f":"IF(ISNUMBER(MATCH(B558,Lists!$F$3:$F$14,0)),1,0)","v":0},-1,"",0,null,0,0,0,0,0,0]
["","",null,null,null,null,null,null,null,null,null,{"$f":"IF(ISNUMBER(MATCH(B559,Lists!$D$3:$D$11,0)),1,0)","v":0},{"$f":"IF(ISNUMBER(MATCH(B559,Lists!$F$3:$F$14,0)),1,0)","v":0},-1,"",0,null,0,0,0,0,0,0]
["","",null,null,null,null,null,null,null,null,null,{"$f":"IF(ISNUMBER(MATCH(B560,Lists!$D$3:$D$11,0)),1,0)","v":0},{"$f":"IF(ISNUMBER(MATCH(B560,Lists!$F$3:$F$14,0)),1,0)","v":0},-1,"",0,null,0,0,0,0,0,0]
["","",null,null,null,null,null,null,null,null,null,{"$f":"IF(ISNUMBER(MATCH(B561,Lists!$D$3:$D$11,0)),1,0)","v":0},{"$f":"IF(ISNUMBER(MATCH(B561,Lists!$F$3:$F$14,0)),1,0)","v":0},-1,"",0,null,0,0,0,0,0,0]
["","",null,null,null,null,null,null,null,null,null,{"$f":"IF(ISNUMBER(MATCH(B562,Lists!$D$3:$D$11,0)),1,0)","v":0},{"$f":"IF(ISNUMBER(MATCH(B562,Lists!$F$3:$F$14,0)),1,0)","v":0},-1,"",0,null,0,0,0,0,0,0]
["","",null,null,null,null,null,null,null,null,null,{"$f":"IF(ISNUMBER(MATCH(B563,Lists!$D$3:$D$11,0)),1,0)","v":0},{"$f":"IF(ISNUMBER(MATCH(B563,Lists!$F$3:$F$14,0)),1,0)","v":0},-1,"",0,null,0,0,0,0,0,0]
["","",null,null,null,null,null,null,null,null,null,{"$f":"IF(ISNUMBER(MATCH(B564,Lists!$D$3:$D$11,0)),1,0)","v":0},{"$f":"IF(ISNUMBER(MATCH(B564,Lists!$F$3:$F$14,0)),1,0)","v":0},-1,"",0,null,0,0,0,0,0,0]
["","",null,null,null,null,null,null,null,null,null,{"$f":"IF(ISNUMBER(MATCH(B565,Lists!$D$3:$D$11,0)),1,0)","v":0},{"$f":"IF(ISNUMBER(MATCH(B565,Lists!$F$3:$F$14,0)),1,0)","v":0},-1,"",0,null,0,0,0,0,0,0]
["","",null,null,null,null,null,null,null,null,null,{"$f":"IF(ISNUMBER(MATCH(B566,Lists!$D$3:$D$11,0)),1,0)","v":0},{"$f":"IF(ISNUMBER(MATCH(B566,Lists!$F$3:$F$14,0)),1,0)","v":0},-1,"",0,null,0,0,0,0,0,0]
["","",null,null,null,null,null,null,null,null,null,{"$f":"IF(ISNUMBER(MATCH(B567,Lists!$D$3:$D$11,0)),1,0)","v":0},{"$f":"IF(ISNUMBER(MATCH(B567,Lists!$F$3:$F$14,0)),1,0)","v":0},-1,"",0,null,0,0,0,0,0,0]
["","",null,null,null,null,null,null,null,null,null,{"$f":"IF(ISNUMBER(MATCH(B568,Lists!$D$3:$D$11,0)),1,0)","v":0},{"$f":"IF(ISNUMBER(MATCH(B568,Lists!$F$3:$F$14,0)),1,0)","v":0},-1,"",0,null,0,0,0,0,0,0]
["","",null,null,null,null,null,null,null,null,null,{"$f":"IF(ISNUMBER(MATCH(B569,Lists!$D$3:$D$11,0)),1,0)","v":0},{"$f":"IF(ISNUMBER(MATCH(B569,Lists!$F$3:$F$14,0)),1,0)","v":0},-1,"",0,null,0,0,0,0,0,0]
["","",null,null,null,null,null,null,null,null,null,{"$f":"IF(ISNUMBER(MATCH(B570,Lists!$D$3:$D$11,0)),1,0)","v":0},{"$f":"IF(ISNUMBER(MATCH(B570,Lists!$F$3:$F$14,0)),1,0)","v":0},-1,"",0,null,0,0,0,0,0,0]
["","",null,null,null,null,null,null,null,null,null,{"$f":"IF(ISNUMBER(MATCH(B571,Lists!$D$3:$D$11,0)),1,0)","v":0},{"$f":"IF(ISNUMBER(MATCH(B571,Lists!$F$3:$F$14,0)),1,0)","v":0},-1,"",0,null,0,0,0,0,0,0]
["","",null,null,null,null,null,null,null,null,null,{"$f":"IF(ISNUMBER(MATCH(B572,Lists!$D$3:$D$11,0)),1,0)","v":0},{"$f":"IF(ISNUMBER(MATCH(B572,Lists!$F$3:$F$14,0)),1,0)","v":0},-1,"",0,null,0,0,0,0,0,0]
["","",null,null,null,null,null,null,null,null,null,{"$f":"IF(ISNUMBER(MATCH(B573,Lists!$D$3:$D$11,0)),1,0)","v":0},{"$f":"IF(ISNUMBER(MATCH(B573,Lists!$F$3:$F$14,0)),1,0)","v":0},-1,"",0,null,0,0,0,0,0,0]
["","",null,null,null,null,null,null,null,null,null,{"$f":"IF(ISNUMBER(MATCH(B574,Lists!$D$3:$D$11,0)),1,0)","v":0},{"$f":"IF(ISNUMBER(MATCH(B574,Lists!$F$3:$F$14,0)),1,0)","v":0},-1,"",0,null,0,0,0,0,0,0]
["","",null,null,null,null,null,null,null,null,null,{"$f":"IF(ISNUMBER(MATCH(B575,Lists!$D$3:$D$11,0)),1,0)","v":0},{"$f":"IF(ISNUMBER(MATCH(B575,Lists!$F$3:$F$14,0)),1,0)","v":0},-1,"",0,null,0,0,0,0,0,0]
["","",null,null,null,null,null,null,null,null,null,{"$f":"IF(ISNUMBER(MATCH(B576,Lists!$D$3:$D$11,0)),1,0)","v":0},{"$f":"IF(ISNUMBER(MATCH(B576,Lists!$F$3:$F$14,0)),1,0)","v":0},-1,"",0,null,0,0,0,0,0,0]
["","",null,null,null,null,null,null,null,null,null,{"$f":"IF(ISNUMBER(MATCH(B577,Lists!$D$3:$D$11,0)),1,0)","v":0},{"$f":"IF(ISNUMBER(MATCH(B577,Lists!$F$3:$F$14,0)),1,0)","v":0},-1,"",0,null,0,0,0,0,0,0]
["","",null,null,null,null,null,null,null,null,null,{"$f":"IF(ISNUMBER(MATCH(B578,Lists!$D$3:$D$11,0)),1,0)","v":0},{"$f":"IF(ISNUMBER(MATCH(B578,Lists!$F$3:$F$14,0)),1,0)","v":0},-1,"",0,null,0,0,0,0,0,0]
["","",null,null,null,null,null,null,null,null,null,{"$f":"IF(ISNUMBER(MATCH(B579,Lists!$D$3:$D$11,0)),1,0)","v":0},{"$f":"IF(ISNUMBER(MATCH(B579,Lists!$F$3:$F$14,0)),1,0)","v":0},-1,"",0,null,0,0,0,0,0,0]
["","",null,null,null,null,null,null,null,null,null,{"$f":"IF(ISNUMBER(MATCH(B580,Lists!$D$3:$D$11,0)),1,0)","v":0},{"$f":"IF(ISNUMBER(MATCH(B580,Lists!$F$3:$F$14,0)),1,0)","v":0},-1,"",0,null,0,0,0,0,0,0]
["","",null,null,null,null,null,null,null,null,null,{"$f":"IF(ISNUMBER(MATCH(B581,Lists!$D$3:$D$11,0)),1,0)","v":0},{"$f":"IF(ISNUMBER(MATCH(B581,Lists!$F$3:$F$14,0)),1,0)","v":0},-1,"",0,null,0,0,0,0,0,0]
["","",null,null,null,null,null,null,null,null,null,{"$f":"IF(ISNUMBER(MATCH(B582,Lists!$D$3:$D$11,0)),1,0)","v":0},{"$f":"IF(ISNUMBER(MATCH(B582,Lists!$F$3:$F$14,0)),1,0)","v":0},-1,"",0,null,0,0,0,0,0,0]
["","",null,null,null,null,null,null,null,null,null,{"$f":"IF(ISNUMBER(MATCH(B583,Lists!$D$3:$D$11,0)),1,0)","v":0},{"$f":"IF(ISNUMBER(MATCH(B583,Lists!$F$3:$F$14,0)),1,0)","v":0},-1,"",0,null,0,0,0,0,0,0]
["","",null,null,null,null,null,null,null,null,null,{"$f":"IF(ISNUMBER(MATCH(B584,Lists!$D$3:$D$11,0)),1,0)","v":0},{"$f":"IF(ISNUMBER(MATCH(B584,Lists!$F$3:$F$14,0)),1,0)","v":0},-1,"",0,null,0,0,0,0,0,0]
["","",null,null,null,null,null,null,null,null,null,{"$f":"IF(ISNUMBER(MATCH(B585,Lists!$D$3:$D$11,0)),1,0)","v":0},{"$f":"IF(ISNUMBER(MATCH(B585,Lists!$F$3:$F$14,0)),1,0)","v":0},-1,"",0,null,0,0,0,0,0,0]
["","",null,null,null,null,null,null,null,null,null,{"$f":"IF(ISNUMBER(MATCH(B586,Lists!$D$3:$D$11,0)),1,0)","v":0},{"$f":"IF(ISNUMBER(MATCH(B586,Lists!$F$3:$F$14,0)),1,0)","v":0},-1,"",0,null,0,0,0,0,0,0]
["","",null,null,null,null,null,null,null,null,null,{"$f":"IF(ISNUMBER(MATCH(B587,Lists!$D$3:$D$11,0)),1,0)","v":0},{"$f":"IF(ISNUMBER(MATCH(B587,Lists!$F$3:$F$14,0)),1,0)","v":0},-1,"",0,null,0,0,0,0,0,0]
["","",null,null,null,null,null,null,null,null,null,{"$f":"IF(ISNUMBER(MATCH(B588,Lists!$D$3:$D$11,0)),1,0)","v":0},{"$f":"IF(ISNUMBER(MATCH(B588,Lists!$F$3:$F$14,0)),1,0)","v":0},-1,"",0,null,{"$f":"IFERROR(IF( VLOOKUP($B588,CheckData,3,FALSE)=1,IF($E588=\"n\",1,0),0),0)","v":0},{"$f":"IFERROR(IF( VLOOKUP($B588,CheckData,4,FALSE)=1,IF($F588=\"n\",1,0),0),0)","v":0},{"$f":"IFERROR(IF( VLOOKUP($B588,CheckData,5,FALSE)=1,IF($G588=\"n\",1,0),0),0)","v":0},{"$f":"IFERROR(IF( OR($D588=\"y\",AND(VLOOKUP($B588,CheckData,6,FALSE)=1, $C588=\"n\")),IF($H588=\"n\",1,0),0),0)","v":0},{"$f":"IFERROR(IF( VLOOKUP($B588,CheckData,7,FALSE)=1,IF($I588=\"n\",1,0),0),0)","v":0},{"$f":"IFERROR(IF(AND( VLOOKUP($B588,CheckData,8,FALSE)=1, $C588=\"y\"),IF(AND($J588=\"n\",AND($D588=\"n\",$H588=\"n\")),1,0),0),0)","v":0}]
["","",null,null,null,null,null,null,null,null,null,{"$f":"IF(ISNUMBER(MATCH(B589,Lists!$D$3:$D$11,0)),1,0)","v":0},{"$f":"IF(ISNUMBER(MATCH(B589,Lists!$F$3:$F$14,0)),1,0)","v":0},-1,"",{"$f":"SUM(Q589:W589)","v":0},null,0,0,0,0,0,0]
["","",null,null,null,null,null,null,null,null,null,{"$f":"IF(ISNUMBER(MATCH(B590,Lists!$D$3:$D$11,0)),1,0)","v":0},{"$f":"IF(ISNUMBER(MATCH(B590,Lists!$F$3:$F$14,0)),1,0)","v":0},-1,"",0,null,0,0,0,0,0,0]
["","",null,null,null,null,null,null,null,null,null,{"$f":"IF(ISNUMBER(MATCH(B591,Lists!$D$3:$D$11,0)),1,0)","v":0},{"$f":"IF(ISNUMBER(MATCH(B591,Lists!$F$3:$F$14,0)),1,0)","v":0},-1,"",0,null,0,0,0,0,0,0]
["","",null,null,null,null,null,null,null,null,null,{"$f":"IF(ISNUMBER(MATCH(B592,Lists!$D$3:$D$11,0)),1,0)","v":0},{"$f":"IF(ISNUMBER(MATCH(B592,Lists!$F$3:$F$14,0)),1,0)","v":0},-1,"",0,null,0,0,0,0,0,0]
["","",null,null,null,null,null,null,null,null,null,{"$f":"IF(ISNUMBER(MATCH(B593,Lists!$D$3:$D$11,0)),1,0)","v":0},{"$f":"IF(ISNUMBER(MATCH(B593,Lists!$F$3:$F$14,0)),1,0)","v":0},-1,"",0,null,0,0,0,0,0,0]
["","",null,null,null,null,null,null,null,null,null,{"$f":"IF(ISNUMBER(MATCH(B594,Lists!$D$3:$D$11,0)),1,0)","v":0},{"$f":"IF(ISNUMBER(MATCH(B594,Lists!$F$3:$F$14,0)),1,0)","v":0},-1,"",0,null,0,0,0,0,0,0]
["","",null,null,null,null,null,null,null,null,null,{"$f":"IF(ISNUMBER(MATCH(B595,Lists!$D$3:$D$11,0)),1,0)","v":0},{"$f":"IF(ISNUMBER(MATCH(B595,Lists!$F$3:$F$14,0)),1,0)","v":0},-1,"",0,null,0,0,0,0,0,0]
["","",null,null,null,null,null,null,null,null,null,{"$f":"IF(ISNUMBER(MATCH(B596,Lists!$D$3:$D$11,0)),1,0)","v":0},{"$f":"IF(ISNUMBER(MATCH(B596,Lists!$F$3:$F$14,0)),1,0)","v":0},-1,{"$f":"IFERROR(VLOOKUP(B596,VehicleLookUp,2,FALSE),\"\")","v":""},0,null,0,0,0,0,0,0]
["","",null,null,null,null,null,null,null,null,null,{"$f":"IF(ISNUMBER(MATCH(B597,Lists!$D$3:$D$11,0)),1,0)","v":0},{"$f":"IF(ISNUMBER(MATCH(B597,Lists!$F$3:$F$14,0)),1,0)","v":0},{"$f":"IF(COUNTBLANK(A597:J597)=10,-1,10-((2-COUNTBLANK(A597:B597))+COUNTIF(C597:J597,\"y\")+COUNTIF(C597:J597,\"n\")))","v":-1},"",0,null,0,0,0,0,0,0]
["","",null,null,null,null,null,null,null,null,null,{"$f":"IF(ISNUMBER(MATCH(B598,Lists!$D$3:$D$11,0)),1,0)","v":0},{"$f":"IF(ISNUMBER(MATCH(B598,Lists!$F$3:$F$14,0)),1,0)","v":0},-1,"",0,null,0,0,0,0,0,0]
["","",null,null,null,null,null,null,null,null,null,{"$f":"IF(ISNUMBER(MATCH(B599,Lists!$D$3:$D$11,0)),1,0)","v":0},{"$f":"IF(ISNUMBER(MATCH(B599,Lists!$F$3:$F$14,0)),1,0)","v":0},-1,"",0,null,0,0,0,0,0,0]
["","",null,null,null,null,null,null,null,null,null,{"$f":"IF(ISNUMBER(MATCH(B600,Lists!$D$3:$D$11,0)),1,0)","v":0},{"$f":"IF(ISNUMBER(MATCH(B600,Lists!$F$3:$F$14,0)),1,0)","v":0},-1,"",0,null,0,0,0,0,0,0]
["","",null,null,null,null,null,null,null,null,null,{"$f":"IF(ISNUMBER(MATCH(B601,Lists!$D$3:$D$11,0)),1,0)","v":0},{"$f":"IF(ISNUMBER(MATCH(B601,Lists!$F$3:$F$14,0)),1,0)","v":0},-1,"",0,null,0,0,0,0,0,0]
["","",null,null,null,null,null,null,null,null,null,{"$f":"IF(ISNUMBER(MATCH(B602,Lists!$D$3:$D$11,0)),1,0)","v":0},{"$f":"IF(ISNUMBER(MATCH(B602,Lists!$F$3:$F$14,0)),1,0)","v":0},-1,"",0,null,0,0,0,0,0,0]
["","",null,null,null,null,null,null,null,null,null,{"$f":"IF(ISNUMBER(MATCH(B603,Lists!$D$3:$D$11,0)),1,0)","v":0},{"$f":"IF(ISNUMBER(MATCH(B603,Lists!$F$3:$F$14,0)),1,0)","v":0},-1,"",0,null,0,0,0,0,0,0]
["","",null,null,null,null,null,null,null,null,null,{"$f":"IF(ISNUMBER(MATCH(B604,Lists!$D$3:$D$11,0)),1,0)","v":0},{"$f":"IF(ISNUMBER(MATCH(B604,Lists!$F$3:$F$14,0)),1,0)","v":0},-1,"",0,null,0,0,0,0,0,0]
["","",null,null,null,null,null,null,null,null,null,{"$f":"IF(ISNUMBER(MATCH(B605,Lists!$D$3:$D$11,0)),1,0)","v":0},{"$f":"IF(ISNUMBER(MATCH(B605,Lists!$F$3:$F$14,0)),1,0)","v":0},-1,"",0,null,0,0,0,0,0,0]
["","",null,null,null,null,null,null,null,null,null,{"$f":"IF(ISNUMBER(MATCH(B606,Lists!$D$3:$D$11,0)),1,0)","v":0},{"$f":"IF(ISNUMBER(MATCH(B606,Lists!$F$3:$F$14,0)),1,0)","v":0},-1,"",0,null,0,0,0,0,0,0]
["","",null,null,null,null,null,null,null,null,null,{"$f":"IF(ISNUMBER(MATCH(B607,Lists!$D$3:$D$11,0)),1,0)","v":0},{"$f":"IF(ISNUMBER(MATCH(B607,Lists!$F$3:$F$14,0)),1,0)","v":0},-1,"",0,null,0,0,0,0,0,0]
["","",null,null,null,null,null,null,null,null,null,{"$f":"IF(ISNUMBER(MATCH(B608,Lists!$D$3:$D$11,0)),1,0)","v":0},{"$f":"IF(ISNUMBER(MATCH(B608,Lists!$F$3:$F$14,0)),1,0)","v":0},-1,"",0,null,0,0,0,0,0,0]
["","",null,null,null,null,null,null,null,null,null,{"$f":"IF(ISNUMBER(MATCH(B609,Lists!$D$3:$D$11,0)),1,0)","v":0},{"$f":"IF(ISNUMBER(MATCH(B609,Lists!$F$3:$F$14,0)),1,0)","v":0},-1,"",0,null,0,0,0,0,0,0]
["","",null,null,null,null,null,null,null,null,null,{"$f":"IF(ISNUMBER(MATCH(B610,Lists!$D$3:$D$11,0)),1,0)","v":0},{"$f":"IF(ISNUMBER(MATCH(B610,Lists!$F$3:$F$14,0)),1,0)","v":0},-1,"",0,null,0,0,0,0,0,0]
["","",null,null,null,null,null,null,null,null,null,{"$f":"IF(ISNUMBER(MATCH(B611,Lists!$D$3:$D$11,0)),1,0)","v":0},{"$f":"IF(ISNUMBER(MATCH(B611,Lists!$F$3:$F$14,0)),1,0)","v":0},-1,"",0,null,0,0,0,0,0,0]
[null,null,null,null,null,null,null,null,null,null,null,{"$f":"IF(ISNUMBER(MATCH(B612,Lists!$D$3:$D$11,0)),1,0)","v":0},{"$f":"IF(ISNUMBER(MATCH(B612,Lists!$F$3:$F$14,0)),1,0)","v":0},-1,"",0,null,0,0,0,0,0,0]
[null,null,null,null,null,null,null,null,null,null,null,{"$f":"IF(ISNUMBER(MATCH(B613,Lists!$D$3:$D$11,0)),1,0)","v":0},{"$f":"IF(ISNUMBER(MATCH(B613,Lists!$F$3:$F$14,0)),1,0)","v":0},-1,"",0,null,0,0,0,0,0,0]
[null,null,null,null,null,null,null,null,null,null,null,{"$f":"IF(ISNUMBER(MATCH(B614,Lists!$D$3:$D$11,0)),1,0)","v":0},{"$f":"IF(ISNUMBER(MATCH(B614,Lists!$F$3:$F$14,0)),1,0)","v":0},-1,"",0,null,0,0,0,0,0,0]
[null,null,null,null,null,null,null,null,null,null,null,{"$f":"IF(ISNUMBER(MATCH(B615,Lists!$D$3:$D$11,0)),1,0)","v":0},{"$f":"IF(ISNUMBER(MATCH(B615,Lists!$F$3:$F$14,0)),1,0)","v":0},-1,"",0,null,0,0,0,0,0,0]
[null,"",null,null,null,null,null,null,null,null,null,{"$f":"IF(ISNUMBER(MATCH(B616,Lists!$D$3:$D$11,0)),1,0)","v":0},{"$f":"IF(ISNUMBER(MATCH(B616,Lists!$F$3:$F$14,0)),1,0)","v":0},-1,"",0,null,0,0,0,0,0,0]
[null,"",null,null,null,null,null,null,null,null,null,{"$f":"IF(ISNUMBER(MATCH(B617,Lists!$D$3:$D$11,0)),1,0)","v":0},{"$f":"IF(ISNUMBER(MATCH(B617,Lists!$F$3:$F$14,0)),1,0)","v":0},-1,"",0,null,0,0,0,0,0,0]
[null,"",null,null,null,null,null,null,null,null,null,{"$f":"IF(ISNUMBER(MATCH(B618,Lists!$D$3:$D$11,0)),1,0)","v":0},{"$f":"IF(ISNUMBER(MATCH(B618,Lists!$F$3:$F$14,0)),1,0)","v":0},-1,"",0,null,0,0,0,0,0,0]
[null,"",null,null,null,null,null,null,null,null,null,{"$f":"IF(ISNUMBER(MATCH(B619,Lists!$D$3:$D$11,0)),1,0)","v":0},{"$f":"IF(ISNUMBER(MATCH(B619,Lists!$F$3:$F$14,0)),1,0)","v":0},-1,"",0,null,0,0,0,0,0,0]
[null,"",null,null,null,null,null,null,null,null,null,{"$f":"IF(ISNUMBER(MATCH(B620,Lists!$D$3:$D$11,0)),1,0)","v":0},{"$f":"IF(ISNUMBER(MATCH(B620,Lists!$F$3:$F$14,0)),1,0)","v":0},-1,"",0,null,0,0,0,0,0,0]
[null,"",null,null,null,null,null,null,null,null,null,{"$f":"IF(ISNUMBER(MATCH(B621,Lists!$D$3:$D$11,0)),1,0)","v":0},{"$f":"IF(ISNUMBER(MATCH(B621,Lists!$F$3:$F$14,0)),1,0)","v":0},-1,"",0,null,0,0,0,0,0,0]
[null,"",null,null,null,null,null,null,null,null,null,{"$f":"IF(ISNUMBER(MATCH(B622,Lists!$D$3:$D$11,0)),1,0)","v":0},{"$f":"IF(ISNUMBER(MATCH(B622,Lists!$F$3:$F$14,0)),1,0)","v":0},-1,"",0,null,0,0,0,0,0,0]
["","",null,null,null,null,null,null,null,null,null,{"$f":"IF(ISNUMBER(MATCH(B623,Lists!$D$3:$D$11,0)),1,0)","v":0},{"$f":"IF(ISNUMBER(MATCH(B623,Lists!$F$3:$F$14,0)),1,0)","v":0},-1,"",0,null,0,0,0,0,0,0]
["","",null,null,null,null,null,null,null,null,null,{"$f":"IF(ISNUMBER(MATCH(B624,Lists!$D$3:$D$11,0)),1,0)","v":0},{"$f":"IF(ISNUMBER(MATCH(B624,Lists!$F$3:$F$14,0)),1,0)","v":0},-1,"",0,null,0,0,0,0,0,0]
["","",null,null,null,null,null,null,null,null,null,{"$f":"IF(ISNUMBER(MATCH(B625,Lists!$D$3:$D$11,0)),1,0)","v":0},{"$f":"IF(ISNUMBER(MATCH(B625,Lists!$F$3:$F$14,0)),1,0)","v":0},-1,"",0,null,0,0,0,0,0,0]
["","",null,null,null,null,null,null,null,null,null,{"$f":"IF(ISNUMBER(MATCH(B626,Lists!$D$3:$D$11,0)),1,0)","v":0},{"$f":"IF(ISNUMBER(MATCH(B626,Lists!$F$3:$F$14,0)),1,0)","v":0},-1,"",0,null,0,0,0,0,0,0]
["","",null,null,null,null,null,null,null,null,null,{"$f":"IF(ISNUMBER(MATCH(B627,Lists!$D$3:$D$11,0)),1,0)","v":0},{"$f":"IF(ISNUMBER(MATCH(B627,Lists!$F$3:$F$14,0)),1,0)","v":0},-1,"",0,null,0,0,0,0,0,0]
["","",null,null,null,null,null,null,null,null,null,{"$f":"IF(ISNUMBER(MATCH(B628,Lists!$D$3:$D$11,0)),1,0)","v":0},{"$f":"IF(ISNUMBER(MATCH(B628,Lists!$F$3:$F$14,0)),1,0)","v":0},-1,"",0,null,0,0,0,0,0,0]
["","",null,null,null,null,null,null,null,null,null,{"$f":"IF(ISNUMBER(MATCH(B629,Lists!$D$3:$D$11,0)),1,0)","v":0},{"$f":"IF(ISNUMBER(MATCH(B629,Lists!$F$3:$F$14,0)),1,0)","v":0},-1,"",0,null,0,0,0,0,0,0]
["","",null,null,null,null,null,null,null,null,null,{"$f":"IF(ISNUMBER(MATCH(B630,Lists!$D$3:$D$11,0)),1,0)","v":0},{"$f":"IF(ISNUMBER(MATCH(B630,Lists!$F$3:$F$14,0)),1,0)","v":0},-1,"",0,null,0,0,0,0,0,0]
["","",null,null,null,null,null,null,null,null,null,{"$f":"IF(ISNUMBER(MATCH(B631,Lists!$D$3:$D$11,0)),1,0)","v":0},{"$f":"IF(ISNUMBER(MATCH(B631,Lists!$F$3:$F$14,0)),1,0)","v":0},-1,"",0,null,0,0,0,0,0,0]
["","",null,null,null,null,null,null,null,null,null,{"$f":"IF(ISNUMBER(MATCH(B632,Lists!$D$3:$D$11,0)),1,0)","v":0},{"$f":"IF(ISNUMBER(MATCH(B632,Lists!$F$3:$F$14,0)),1,0)","v":0},-1,"",0,null,0,0,0,0,0,0]
["","",null,null,null,null,null,null,null,null,null,{"$f":"IF(ISNUMBER(MATCH(B633,Lists!$D$3:$D$11,0)),1,0)","v":0},{"$f":"IF(ISNUMBER(MATCH(B633,Lists!$F$3:$F$14,0)),1,0)","v":0},-1,"",0,null,0,0,0,0,0,0]
["","",null,null,null,null,null,null,null,null,null,{"$f":"IF(ISNUMBER(MATCH(B634,Lists!$D$3:$D$11,0)),1,0)","v":0},{"$f":"IF(ISNUMBER(MATCH(B634,Lists!$F$3:$F$14,0)),1,0)","v":0},-1,"",0,null,0,0,0,0,0,0]
["","",null,null,null,null,null,null,null,null,null,{"$f":"IF(ISNUMBER(MATCH(B635,Lists!$D$3:$D$11,0)),1,0)","v":0},{"$f":"IF(ISNUMBER(MATCH(B635,Lists!$F$3:$F$14,0)),1,0)","v":0},-1,"",0,null,0,0,0,0,0,0]
["","",null,null,null,null,null,null,null,null,null,{"$f":"IF(ISNUMBER(MATCH(B636,Lists!$D$3:$D$11,0)),1,0)","v":0},{"$f":"IF(ISNUMBER(MATCH(B636,Lists!$F$3:$F$14,0)),1,0)","v":0},-1,"",0,null,0,0,0,0,0,0]
["","",null,null,null,null,null,null,null,null,null,{"$f":"IF(ISNUMBER(MATCH(B637,Lists!$D$3:$D$11,0)),1,0)","v":0},{"$f":"IF(ISNUMBER(MATCH(B637,Lists!$F$3:$F$14,0)),1,0)","v":0},-1,"",0,null,0,0,0,0,0,0]
["","",null,null,null,null,null,null,null,null,null,{"$f":"IF(ISNUMBER(MATCH(B638,Lists!$D$3:$D$11,0)),1,0)","v":0},{"$f":"IF(ISNUMBER(MATCH(B638,Lists!$F$3:$F$14,0)),1,0)","v":0},-1,"",0,null,0,0,0,0,0,0]
["","",null,null,null,null,null,null,null,null,null,{"$f":"IF(ISNUMBER(MATCH(B639,Lists!$D$3:$D$11,0)),1,0)","v":0},{"$f":"IF(ISNUMBER(MATCH(B639,Lists!$F$3:$F$14,0)),1,0)","v":0},-1,"",0,null,0,0,0,0,0,0]
["","",null,null,null,null,null,null,null,null,null,{"$f":"IF(ISNUMBER(MATCH(B640,Lists!$D$3:$D$11,0)),1,0)","v":0},{"$f":"IF(ISNUMBER(MATCH(B640,Lists!$F$3:$F$14,0)),1,0)","v":0},-1,"",0,null,0,0,0,0,0,0]
["","",null,null,null,null,null,null,null,null,null,{"$f":"IF(ISNUMBER(MATCH(B641,Lists!$D$3:$D$11,0)),1,0)","v":0},{"$f":"IF(ISNUMBER(MATCH(B641,Lists!$F$3:$F$14,0)),1,0)","v":0},-1,"",0,null,0,0,0,0,0,0]
["","",null,null,null,null,null,null,null,null,null,{"$f":"IF(ISNUMBER(MATCH(B642,Lists!$D$3:$D$11,0)),1,0)","v":0},{"$f":"IF(ISNUMBER(MATCH(B642,Lists!$F$3:$F$14,0)),1,0)","v":0},-1,"",0,null,0,0,0,0,0,0]
["","",null,null,null,null,null,null,null,null,null,{"$f":"IF(ISNUMBER(MATCH(B643,Lists!$D$3:$D$11,0)),1,0)","v":0},{"$f":"IF(ISNUMBER(MATCH(B643,Lists!$F$3:$F$14,0)),1,0)","v":0},-1,"",0,null,0,0,0,0,0,0]
["","",null,null,null,null,null,null,null,null,null,{"$f":"IF(ISNUMBER(MATCH(B644,Lists!$D$3:$D$11,0)),1,0)","v":0},{"$f":"IF(ISNUMBER(MATCH(B644,Lists!$F$3:$F$14,0)),1,0)","v":0},-1,"",0,null,0,0,0,0,0,0]
["","",null,null,null,null,null,null,null,null,null,{"$f":"IF(ISNUMBER(MATCH(B645,Lists!$D$3:$D$11,0)),1,0)","v":0},{"$f":"IF(ISNUMBER(MATCH(B645,Lists!$F$3:$F$14,0)),1,0)","v":0},-1,"",0,null,0,0,0,0,0,0]
["","",null,null,null,null,null,null,null,null,null,{"$f":"IF(ISNUMBER(MATCH(B646,Lists!$D$3:$D$11,0)),1,0)","v":0},{"$f":"IF(ISNUMBER(MATCH(B646,Lists!$F$3:$F$14,0)),1,0)","v":0},-1,"",0,null,0,0,0,0,0,0]
["","",null,null,null,null,null,null,null,null,null,{"$f":"IF(ISNUMBER(MATCH(B647,Lists!$D$3:$D$11,0)),1,0)","v":0},{"$f":"IF(ISNUMBER(MATCH(B647,Lists!$F$3:$F$14,0)),1,0)","v":0},-1,"",0,null,0,0,0,0,0,0]
["","",null,null,null,null,null,null,null,null,null,{"$f":"IF(ISNUMBER(MATCH(B648,Lists!$D$3:$D$11,0)),1,0)","v":0},{"$f":"IF(ISNUMBER(MATCH(B648,Lists!$F$3:$F$14,0)),1,0)","v":0},-1,"",0,null,0,0,0,0,0,0]
["","",null,null,null,null,null,null,null,null,null,{"$f":"IF(ISNUMBER(MATCH(B649,Lists!$D$3:$D$11,0)),1,0)","v":0},{"$f":"IF(ISNUMBER(MATCH(B649,Lists!$F$3:$F$14,0)),1,0)","v":0},-1,"",0,null,0,0,0,0,0,0]
["","",null,null,null,null,null,null,null,null,null,{"$f":"IF(ISNUMBER(MATCH(B650,Lists!$D$3:$D$11,0)),1,0)","v":0},{"$f":"IF(ISNUMBER(MATCH(B650,Lists!$F$3:$F$14,0)),1,0)","v":0},-1,"",0,null,0,0,0,0,0,0]
["","",null,null,null,null,null,null,null,null,null,{"$f":"IF(ISNUMBER(MATCH(B651,Lists!$D$3:$D$11,0)),1,0)","v":0},{"$f":"IF(ISNUMBER(MATCH(B651,Lists!$F$3:$F$14,0)),1,0)","v":0},-1,"",0,null,0,0,0,0,0,0]
["","",null,null,null,null,null,null,null,null,null,{"$f":"IF(ISNUMBER(MATCH(B652,Lists!$D$3:$D$11,0)),1,0)","v":0},{"$f":"IF(ISNUMBER(MATCH(B652,Lists!$F$3:$F$14,0)),1,0)","v":0},-1,"",0,null,{"$f":"IFERROR(IF( VLOOKUP($B652,CheckData,3,FALSE)=1,IF($E652=\"n\",1,0),0),0)","v":0},{"$f":"IFERROR(IF( VLOOKUP($B652,CheckData,4,FALSE)=1,IF($F652=\"n\",1,0),0),0)","v":0},{"$f":"IFERROR(IF( VLOOKUP($B652,CheckData,5,FALSE)=1,IF($G652=\"n\",1,0),0),0)","v":0},{"$f":"IFERROR(IF( OR($D652=\"y\",AND(VLOOKUP($B652,CheckData,6,FALSE)=1, $C652=\"n\")),IF($H652=\"n\",1,0),0),0)","v":0},{"$f":"IFERROR(IF( VLOOKUP($B652,CheckData,7,FALSE)=1,IF($I652=\"n\",1,0),0),0)","v":0},{"$f":"IFERROR(IF(AND( VLOOKUP($B652,CheckData,8,FALSE)=1, $C652=\"y\"),IF(AND($J652=\"n\",AND($D652=\"n\",$H652=\"n\")),1,0),0),0)","v":0}]
["","",null,null,null,null,null,null,null,null,null,{"$f":"IF(ISNUMBER(MATCH(B653,Lists!$D$3:$D$11,0)),1,0)","v":0},{"$f":"IF(ISNUMBER(MATCH(B653,Lists!$F$3:$F$14,0)),1,0)","v":0},-1,"",{"$f":"SUM(Q653:W653)","v":0},null,0,0,0,0,0,0]
["","",null,null,null,null,null,null,null,null,null,{"$f":"IF(ISNUMBER(MATCH(B654,Lists!$D$3:$D$11,0)),1,0)","v":0},{"$f":"IF(ISNUMBER(MATCH(B654,Lists!$F$3:$F$14,0)),1,0)","v":0},-1,"",0,null,0,0,0,0,0,0]
["","",null,null,null,null,null,null,null,null,null,{"$f":"IF(ISNUMBER(MATCH(B655,Lists!$D$3:$D$11,0)),1,0)","v":0},{"$f":"IF(ISNUMBER(MATCH(B655,Lists!$F$3:$F$14,0)),1,0)","v":0},-1,"",0,null,0,0,0,0,0,0]
["","",null,null,null,null,null,null,null,null,null,{"$f":"IF(ISNUMBER(MATCH(B656,Lists!$D$3:$D$11,0)),1,0)","v":0},{"$f":"IF(ISNUMBER(MATCH(B656,Lists!$F$3:$F$14,0)),1,0)","v":0},-1,"",0,null,0,0,0,0,0,0]
["","",null,null,null,null,null,null,null,null,null,{"$f":"IF(ISNUMBER(MATCH(B657,Lists!$D$3:$D$11,0)),1,0)","v":0},{"$f":"IF(ISNUMBER(MATCH(B657,Lists!$F$3:$F$14,0)),1,0)","v":0},-1,"",0,null,0,0,0,0,0,0]
["","",null,null,null,null,null,null,null,null,null,{"$f":"IF(ISNUMBER(MATCH(B658,Lists!$D$3:$D$11,0)),1,0)","v":0},{"$f":"IF(ISNUMBER(MATCH(B658,Lists!$F$3:$F$14,0)),1,0)","v":0},-1,"",0,null,0,0,0,0,0,0]
["","",null,null,null,null,null,null,null,null,null,{"$f":"IF(ISNUMBER(MATCH(B659,Lists!$D$3:$D$11,0)),1,0)","v":0},{"$f":"IF(ISNUMBER(MATCH(B659,Lists!$F$3:$F$14,0)),1,0)","v":0},-1,"",0,null,0,0,0,0,0,0]
["","",null,null,null,null,null,null,null,null,null,{"$f":"IF(ISNUMBER(MATCH(B660,Lists!$D$3:$D$11,0)),1,0)","v":0},{"$f":"IF(ISNUMBER(MATCH(B660,Lists!$F$3:$F$14,0)),1,0)","v":0},-1,{"$f":"IFERROR(VLOOKUP(B660,VehicleLookUp,2,FALSE),\"\")","v":""},0,null,0,0,0,0,0,0]
["","",null,null,null,null,null,null,null,null,null,{"$f":"IF(ISNUMBER(MATCH(B661,Lists!$D$3:$D$11,0)),1,0)","v":0},{"$f":"IF(ISNUMBER(MATCH(B661,Lists!$F$3:$F$14,0)),1,0)","v":0},{"$f":"IF(COUNTBLANK(A661:J661)=10,-1,10-((2-COUNTBLANK(A661:B661))+COUNTIF(C661:J661,\"y\")+COUNTIF(C661:J661,\"n\")))","v":-1},"",0,null,0,0,0,0,0,0]
["","",null,null,null,null,null,null,null,null,null,{"$f":"IF(ISNUMBER(MATCH(B662,Lists!$D$3:$D$11,0)),1,0)","v":0},{"$f":"IF(ISNUMBER(MATCH(B662,Lists!$F$3:$F$14,0)),1,0)","v":0},-1,"",0,null,0,0,0,0,0,0]
["","",null,null,null,null,null,null,null,null,null,{"$f":"IF(ISNUMBER(MATCH(B663,Lists!$D$3:$D$11,0)),1,0)","v":0},{"$f":"IF(ISNUMBER(MATCH(B663,Lists!$F$3:$F$14,0)),1,0)","v":0},-1,"",0,null,0,0,0,0,0,0]
["","",null,null,null,null,null,null,null,null,null,{"$f":"IF(ISNUMBER(MATCH(B664,Lists!$D$3:$D$11,0)),1,0)","v":0},{"$f":"IF(ISNUMBER(MATCH(B664,Lists!$F$3:$F$14,0)),1,0)","v":0},-1,"",0,null,0,0,0,0,0,0]
["","",null,null,null,null,null,null,null,null,null,{"$f":"IF(ISNUMBER(MATCH(B665,Lists!$D$3:$D$11,0)),1,0)","v":0},{"$f":"IF(ISNUMBER(MATCH(B665,Lists!$F$3:$F$14,0)),1,0)","v":0},-1,"",0,null,0,0,0,0,0,0]
["","",null,null,null,null,null,null,null,null,null,{"$f":"IF(ISNUMBER(MATCH(B666,Lists!$D$3:$D$11,0)),1,0)","v":0},{"$f":"IF(ISNUMBER(MATCH(B666,Lists!$F$3:$F$14,0)),1,0)","v":0},-1,"",0,null,0,0,0,0,0,0]
["","",null,null,null,null,null,null,null,null,null,{"$f":"IF(ISNUMBER(MATCH(B667,Lists!$D$3:$D$11,0)),1,0)","v":0},{"$f":"IF(ISNUMBER(MATCH(B667,Lists!$F$3:$F$14,0)),1,0)","v":0},-1,"",0,null,0,0,0,0,0,0]
["","",null,null,null,null,null,null,null,null,null,{"$f":"IF(ISNUMBER(MATCH(B668,Lists!$D$3:$D$11,0)),1,0)","v":0},{"$f":"IF(ISNUMBER(MATCH(B668,Lists!$F$3:$F$14,0)),1,0)","v":0},-1,"",0,null,0,0,0,0,0,0]
["","",null,null,null,null,null,null,null,null,null,{"$f":"IF(ISNUMBER(MATCH(B669,Lists!$D$3:$D$11,0)),1,0)","v":0},{"$f":"IF(ISNUMBER(MATCH(B669,Lists!$F$3:$F$14,0)),1,0)","v":0},-1,"",0,null,0,0,0,0,0,0]
["","",null,null,null,null,null,null,null,null,null,{"$f":"IF(ISNUMBER(MATCH(B670,Lists!$D$3:$D$11,0)),1,0)","v":0},{"$f":"IF(ISNUMBER(MATCH(B670,Lists!$F$3:$F$14,0)),1,0)","v":0},-1,"",0,null,0,0,0,0,0,0]
["","",null,null,null,null,null,null,null,null,null,{"$f":"IF(ISNUMBER(MATCH(B671,Lists!$D$3:$D$11,0)),1,0)","v":0},{"$f":"IF(ISNUMBER(MATCH(B671,Lists!$F$3:$F$14,0)),1,0)","v":0},-1,"",0,null,0,0,0,0,0,0]
["","",null,null,null,null,null,null,null,null,null,{"$f":"IF(ISNUMBER(MATCH(B672,Lists!$D$3:$D$11,0)),1,0)","v":0},{"$f":"IF(ISNUMBER(MATCH(B672,Lists!$F$3:$F$14,0)),1,0)","v":0},-1,"",0,null,0,0,0,0,0,0]
["","",null,null,null,null,null,null,null,null,null,{"$f":"IF(ISNUMBER(MATCH(B673,Lists!$D$3:$D$11,0)),1,0)","v":0},{"$f":"IF(ISNUMBER(MATCH(B673,Lists!$F$3:$F$14,0)),1,0)","v":0},-1,"",0,null,0,0,0,0,0,0]
["","",null,null,null,null,null,null,null,null,null,{"$f":"IF(ISNUMBER(MATCH(B674,Lists!$D$3:$D$11,0)),1,0)","v":0},{"$f":"IF(ISNUMBER(MATCH(B674,Lists!$F$3:$F$14,0)),1,0)","v":0},-1,"",0,null,0,0,0,0,0,0]
["","",null,null,null,null,null,null,null,null,null,{"$f":"IF(ISNUMBER(MATCH(B675,Lists!$D$3:$D$11,0)),1,0)","v":0},{"$f":"IF(ISNUMBER(MATCH(B675,Lists!$F$3:$F$14,0)),1,0)","v":0},-1,"",0,null,0,0,0,0,0,0]
["","",null,null,null,null,null,null,null,null,null,{"$f":"IF(ISNUMBER(MATCH(B676,Lists!$D$3:$D$11,0)),1,0)","v":0},{"$f":"IF(ISNUMBER(MATCH(B676,Lists!$F$3:$F$14,0)),1,0)","v":0},-1,"",0,null,0,0,0,0,0,0]
["","",null,null,null,null,null,null,null,null,null,{"$f":"IF(ISNUMBER(MATCH(B677,Lists!$D$3:$D$11,0)),1,0)","v":0},{"$f":"IF(ISNUMBER(MATCH(B677,Lists!$F$3:$F$14,0)),1,0)","v":0},-1,"",0,null,0,0,0,0,0,0]
["","",null,null,null,null,null,null,null,null,null,{"$f":"IF(ISNUMBER(MATCH(B678,Lists!$D$3:$D$11,0)),1,0)","v":0},{"$f":"IF(ISNUMBER(MATCH(B678,Lists!$F$3:$F$14,0)),1,0)","v":0},-1,"",0,null,0,0,0,0,0,0]
["","",null,null,null,null,null,null,null,null,null,{"$f":"IF(ISNUMBER(MATCH(B679,Lists!$D$3:$D$11,0)),1,0)","v":0},{"$f":"IF(ISNUMBER(MATCH(B679,Lists!$F$3:$F$14,0)),1,0)","v":0},-1,"",0,null,0,0,0,0,0,0]
["","",null,null,null,null,null,null,null,null,null,{"$f":"IF(ISNUMBER(MATCH(B680,Lists!$D$3:$D$11,0)),1,0)","v":0},{"$f":"IF(ISNUMBER(MATCH(B680,Lists!$F$3:$F$14,0)),1,0)","v":0},-1,"",0,null,0,0,0,0,0,0]
["","",null,null,null,null,null,null,null,null,null,{"$f":"IF(ISNUMBER(MATCH(B681,Lists!$D$3:$D$11,0)),1,0)","v":0},{"$f":"IF(ISNUMBER(MATCH(B681,Lists!$F$3:$F$14,0)),1,0)","v":0},-1,"",0,null,0,0,0,0,0,0]
["","",null,null,null,null,null,null,null,null,null,{"$f":"IF(ISNUMBER(MATCH(B682,Lists!$D$3:$D$11,0)),1,0)","v":0},{"$f":"IF(ISNUMBER(MATCH(B682,Lists!$F$3:$F$14,0)),1,0)","v":0},-1,"",0,null,0,0,0,0,0,0]
["","",null,null,null,null,null,null,null,null,null,{"$f":"IF(ISNUMBER(MATCH(B683,Lists!$D$3:$D$11,0)),1,0)","v":0},{"$f":"IF(ISNUMBER(MATCH(B683,Lists!$F$3:$F$14,0)),1,0)","v":0},-1,"",0,null,0,0,0,0,0,0]
["","",null,null,null,null,null,null,null,null,null,{"$f":"IF(ISNUMBER(MATCH(B684,Lists!$D$3:$D$11,0)),1,0)","v":0},{"$f":"IF(ISNUMBER(MATCH(B684,Lists!$F$3:$F$14,0)),1,0)","v":0},-1,"",0,null,0,0,0,0,0,0]
["","",null,null,null,null,null,null,null,null,null,{"$f":"IF(ISNUMBER(MATCH(B685,Lists!$D$3:$D$11,0)),1,0)","v":0},{"$f":"IF(ISNUMBER(MATCH(B685,Lists!$F$3:$F$14,0)),1,0)","v":0},-1,"",0,null,0,0,0,0,0,0]
["","",null,null,null,null,null,null,null,null,null,{"$f":"IF(ISNUMBER(MATCH(B686,Lists!$D$3:$D$11,0)),1,0)","v":0},{"$f":"IF(ISNUMBER(MATCH(B686,Lists!$F$3:$F$14,0)),1,0)","v":0},-1,"",0,null,0,0,0,0,0,0]
["","",null,null,null,null,null,null,null,null,null,{"$f":"IF(ISNUMBER(MATCH(B687,Lists!$D$3:$D$11,0)),1,0)","v":0},{"$f":"IF(ISNUMBER(MATCH(B687,Lists!$F$3:$F$14,0)),1,0)","v":0},-1,"",0,null,0,0,0,0,0,0]
["","",null,null,null,null,null,null,null,null,null,{"$f":"IF(ISNUMBER(MATCH(B688,Lists!$D$3:$D$11,0)),1,0)","v":0},{"$f":"IF(ISNUMBER(MATCH(B688,Lists!$F$3:$F$14,0)),1,0)","v":0},-1,"",0,null,0,0,0,0,0,0]
["","",null,null,null,null,null,null,null,null,null,{"$f":"IF(ISNUMBER(MATCH(B689,Lists!$D$3:$D$11,0)),1,0)","v":0},{"$f":"IF(ISNUMBER(MATCH(B689,Lists!$F$3:$F$14,0)),1,0)","v":0},-1,"",0,null,0,0,0,0,0,0]
["","",null,null,null,null,null,null,null,null,null,{"$f":"IF(ISNUMBER(MATCH(B690,Lists!$D$3:$D$11,0)),1,0)","v":0},{"$f":"IF(ISNUMBER(MATCH(B690,Lists!$F$3:$F$14,0)),1,0)","v":0},-1,"",0,null,0,0,0,0,0,0]
["","",null,null,null,null,null,null,null,null,null,{"$f":"IF(ISNUMBER(MATCH(B691,Lists!$D$3:$D$11,0)),1,0)","v":0},{"$f":"IF(ISNUMBER(MATCH(B691,Lists!$F$3:$F$14,0)),1,0)","v":0},-1,"",0,null,0,0,0,0,0,0]
["","",null,null,null,null,null,null,null,null,null,{"$f":"IF(ISNUMBER(MATCH(B692,Lists!$D$3:$D$11,0)),1,0)","v":0},{"$f":"IF(ISNUMBER(MATCH(B692,Lists!$F$3:$F$14,0)),1,0)","v":0},-1,"",0,null,0,0,0,0,0,0]
["","",null,null,null,null,null,null,null,null,null,{"$f":"IF(ISNUMBER(MATCH(B693,Lists!$D$3:$D$11,0)),1,0)","v":0},{"$f":"IF(ISNUMBER(MATCH(B693,Lists!$F$3:$F$14,0)),1,0)","v":0},-1,"",0,null,0,0,0,0,0,0]
["","",null,null,null,null,null,null,null,null,null,{"$f":"IF(ISNUMBER(MATCH(B694,Lists!$D$3:$D$11,0)),1,0)","v":0},{"$f":"IF(ISNUMBER(MATCH(B694,Lists!$F$3:$F$14,0)),1,0)","v":0},-1,"",0,null,0,0,0,0,0,0]
["","",null,null,null,null,null,null,null,null,null,{"$f":"IF(ISNUMBER(MATCH(B695,Lists!$D$3:$D$11,0)),1,0)","v":0},{"$f":"IF(ISNUMBER(MATCH(B695,Lists!$F$3:$F$14,0)),1,0)","v":0},-1,"",0,null,0,0,0,0,0,0]
["","",null,null,null,null,null,null,null,null,null,{"$f":"IF(ISNUMBER(MATCH(B696,Lists!$D$3:$D$11,0)),1,0)","v":0},{"$f":"IF(ISNUMBER(MATCH(B696,Lists!$F$3:$F$14,0)),1,0)","v":0},-1,"",0,null,0,0,0,0,0,0]
["","",null,null,null,null,null,null,null,null,null,{"$f":"IF(ISNUMBER(MATCH(B697,Lists!$D$3:$D$11,0)),1,0)","v":0},{"$f":"IF(ISNUMBER(MATCH(B697,Lists!$F$3:$F$14,0)),1,0)","v":0},-1,"",0,null,0,0,0,0,0,0]
["","",null,null,null,null,null,null,null,null,null,{"$f":"IF(ISNUMBER(MATCH(B698,Lists!$D$3:$D$11,0)),1,0)","v":0},{"$f":"IF(ISNUMBER(MATCH(B698,Lists!$F$3:$F$14,0)),1,0)","v":0},-1,"",0,null,0,0,0,0,0,0]
["","",null,null,null,null,null,null,null,null,null,{"$f":"IF(ISNUMBER(MATCH(B699,Lists!$D$3:$D$11,0)),1,0)","v":0},{"$f":"IF(ISNUMBER(MATCH(B699,Lists!$F$3:$F$14,0)),1,0)","v":0},-1,"",0,null,0,0,0,0,0,0]
["","",null,null,null,null,null,null,null,null,null,{"$f":"IF(ISNUMBER(MATCH(B700,Lists!$D$3:$D$11,0)),1,0)","v":0},{"$f":"IF(ISNUMBER(MATCH(B700,Lists!$F$3:$F$14,0)),1,0)","v":0},-1,"",0,null,0,0,0,0,0,0]
["","",null,null,null,null,null,null,null,null,null,{"$f":"IF(ISNUMBER(MATCH(B701,Lists!$D$3:$D$11,0)),1,0)","v":0},{"$f":"IF(ISNUMBER(MATCH(B701,Lists!$F$3:$F$14,0)),1,0)","v":0},-1,"",0,null,0,0,0,0,0,0]
["","",null,null,null,null,null,null,null,null,null,{"$f":"IF(ISNUMBER(MATCH(B702,Lists!$D$3:$D$11,0)),1,0)","v":0},{"$f":"IF(ISNUMBER(MATCH(B702,Lists!$F$3:$F$14,0)),1,0)","v":0},-1,"",0,null,0,0,0,0,0,0]
["","",null,null,null,null,null,null,null,null,null,{"$f":"IF(ISNUMBER(MATCH(B703,Lists!$D$3:$D$11,0)),1,0)","v":0},{"$f":"IF(ISNUMBER(MATCH(B703,Lists!$F$3:$F$14,0)),1,0)","v":0},-1,"",0,null,0,0,0,0,0,0]
["","",null,null,null,null,null,null,null,null,null,{"$f":"IF(ISNUMBER(MATCH(B704,Lists!$D$3:$D$11,0)),1,0)","v":0},{"$f":"IF(ISNUMBER(MATCH(B704,Lists!$F$3:$F$14,0)),1,0)","v":0},-1,"",0,null,0,0,0,0,0,0]
["","",null,null,null,null,null,null,null,null,null,{"$f":"IF(ISNUMBER(MATCH(B705,Lists!$D$3:$D$11,0)),1,0)","v":0},{"$f":"IF(ISNUMBER(MATCH(B705,Lists!$F$3:$F$14,0)),1,0)","v":0},-1,"",0,null,0,0,0,0,0,0]
["","",null,null,null,null,null,null,null,null,null,{"$f":"IF(ISNUMBER(MATCH(B706,Lists!$D$3:$D$11,0)),1,0)","v":0},{"$f":"IF(ISNUMBER(MATCH(B706,Lists!$F$3:$F$14,0)),1,0)","v":0},-1,"",0,null,0,0,0,0,0,0]
["","",null,null,null,null,null,null,null,null,null,{"$f":"IF(ISNUMBER(MATCH(B707,Lists!$D$3:$D$11,0)),1,0)","v":0},{"$f":"IF(ISNUMBER(MATCH(B707,Lists!$F$3:$F$14,0)),1,0)","v":0},-1,"",0,null,0,0,0,0,0,0]
["","",null,null,null,null,null,null,null,null,null,{"$f":"IF(ISNUMBER(MATCH(B708,Lists!$D$3:$D$11,0)),1,0)","v":0},{"$f":"IF(ISNUMBER(MATCH(B708,Lists!$F$3:$F$14,0)),1,0)","v":0},-1,"",0,null,0,0,0,0,0,0]
["","",null,null,null,null,null,null,null,null,null,{"$f":"IF(ISNUMBER(MATCH(B709,Lists!$D$3:$D$11,0)),1,0)","v":0},{"$f":"IF(ISNUMBER(MATCH(B709,Lists!$F$3:$F$14,0)),1,0)","v":0},-1,"",0,null,0,0,0,0,0,0]
["","",null,null,null,null,null,null,null,null,null,{"$f":"IF(ISNUMBER(MATCH(B710,Lists!$D$3:$D$11,0)),1,0)","v":0},{"$f":"IF(ISNUMBER(MATCH(B710,Lists!$F$3:$F$14,0)),1,0)","v":0},-1,"",0,null,0,0,0,0,0,0]
["","",null,null,null,null,null,null,null,null,null,{"$f":"IF(ISNUMBER(MATCH(B711,Lists!$D$3:$D$11,0)),1,0)","v":0},{"$f":"IF(ISNUMBER(MATCH(B711,Lists!$F$3:$F$14,0)),1,0)","v":0},-1,"",0,null,0,0,0,0,0,0]
[null,null,null,null,null,null,null,null,null,null,null,{"$f":"IF(ISNUMBER(MATCH(B712,Lists!$D$3:$D$11,0)),1,0)","v":0},{"$f":"IF(ISNUMBER(MATCH(B712,Lists!$F$3:$F$14,0)),1,0)","v":0},-1,"",0,null,0,0,0,0,0,0]
[null,null,null,null,null,null,null,null,null,null,null,{"$f":"IF(ISNUMBER(MATCH(B713,Lists!$D$3:$D$11,0)),1,0)","v":0},{"$f":"IF(ISNUMBER(MATCH(B713,Lists!$F$3:$F$14,0)),1,0)","v":0},-1,"",0,null,0,0,0,0,0,0]
[null,null,null,null,null,null,null,null,null,null,null,{"$f":"IF(ISNUMBER(MATCH(B714,Lists!$D$3:$D$11,0)),1,0)","v":0},{"$f":"IF(ISNUMBER(MATCH(B714,Lists!$F$3:$F$14,0)),1,0)","v":0},-1,"",0,null,0,0,0,0,0,0]
[null,null,null,null,null,null,null,null,null,null,null,{"$f":"IF(ISNUMBER(MATCH(B715,Lists!$D$3:$D$11,0)),1,0)","v":0},{"$f":"IF(ISNUMBER(MATCH(B715,Lists!$F$3:$F$14,0)),1,0)","v":0},-1,"",0,null,0,0,0,0,0,0]
[null,"",null,null,null,null,null,null,null,null,null,{"$f":"IF(ISNUMBER(MATCH(B716,Lists!$D$3:$D$11,0)),1,0)","v":0},{"$f":"IF(ISNUMBER(MATCH(B716,Lists!$F$3:$F$14,0)),1,0)","v":0},-1,"",0,null,{"$f":"IFERROR(IF( VLOOKUP($B716,CheckData,3,FALSE)=1,IF($E716=\"n\",1,0),0),0)","v":0},{"$f":"IFERROR(IF( VLOOKUP($B716,CheckData,4,FALSE)=1,IF($F716=\"n\",1,0),0),0)","v":0},{"$f":"IFERROR(IF( VLOOKUP($B716,CheckData,5,FALSE)=1,IF($G716=\"n\",1,0),0),0)","v":0},{"$f":"IFERROR(IF( OR($D716=\"y\",AND(VLOOKUP($B716,CheckData,6,FALSE)=1, $C716=\"n\")),IF($H716=\"n\",1,0),0),0)","v":0},{"$f":"IFERROR(IF( VLOOKUP($B716,CheckData,7,FALSE)=1,IF($I716=\"n\",1,0),0),0)","v":0},{"$f":"IFERROR(IF(AND( VLOOKUP($B716,CheckData,8,FALSE)=1, $C716=\"y\"),IF(AND($J716=\"n\",AND($D716=\"n\",$H716=\"n\")),1,0),0),0)","v":0}]
[null,"",null,null,null,null,null,null,null,null,null,{"$f":"IF(ISNUMBER(MATCH(B717,Lists!$D$3:$D$11,0)),1,0)","v":0},{"$f":"IF(ISNUMBER(MATCH(B717,Lists!$F$3:$F$14,0)),1,0)","v":0},-1,"",{"$f":"SUM(Q717:W717)","v":0},null,0,0,0,0,0,0]
[null,"",null,null,null,null,null,null,null,null,null,{"$f":"IF(ISNUMBER(MATCH(B718,Lists!$D$3:$D$11,0)),1,0)","v":0},{"$f":"IF(ISNUMBER(MATCH(B718,Lists!$F$3:$F$14,0)),1,0)","v":0},-1,"",0,null,0,0,0,0,0,0]
[null,"",null,null,null,null,null,null,null,null,null,{"$f":"IF(ISNUMBER(MATCH(B719,Lists!$D$3:$D$11,0)),1,0)","v":0},{"$f":"IF(ISNUMBER(MATCH(B719,Lists!$F$3:$F$14,0)),1,0)","v":0},-1,"",0,null,0,0,0,0,0,0]
[null,"",null,null,null,null,null,null,null,null,null,{"$f":"IF(ISNUMBER(MATCH(B720,Lists!$D$3:$D$11,0)),1,0)","v":0},{"$f":"IF(ISNUMBER(MATCH(B720,Lists!$F$3:$F$14,0)),1,0)","v":0},-1,"",0,null,0,0,0,0,0,0]
[null,"",null,null,null,null,null,null,null,null,null,{"$f":"IF(ISNUMBER(MATCH(B721,Lists!$D$3:$D$11,0)),1,0)","v":0},{"$f":"IF(ISNUMBER(MATCH(B721,Lists!$F$3:$F$14,0)),1,0)","v":0},-1,"",0,null,0,0,0,0,0,0]
[null,"",null,null,null,null,null,null,null,null,null,{"$f":"IF(ISNUMBER(MATCH(B722,Lists!$D$3:$D$11,0)),1,0)","v":0},{"$f":"IF(ISNUMBER(MATCH(B722,Lists!$F$3:$F$14,0)),1,0)","v":0},-1,"",0,null,0,0,0,0,0,0]
["","",null,null,null,null,null,null,null,null,null,{"$f":"IF(ISNUMBER(MATCH(B723,Lists!$D$3:$D$11,0)),1,0)","v":0},{"$f":"IF(ISNUMBER(MATCH(B723,Lists!$F$3:$F$14,0)),1,0)","v":0},-1,"",0,null,0,0,0,0,0,0]
["","",null,null,null,null,null,null,null,null,null,{"$f":"IF(ISNUMBER(MATCH(B724,Lists!$D$3:$D$11,0)),1,0)","v":0},{"$f":"IF(ISNUMBER(MATCH(B724,Lists!$F$3:$F$14,0)),1,0)","v":0},-1,{"$f":"IFERROR(VLOOKUP(B724,VehicleLookUp,2,FALSE),\"\")","v":""},0,null,0,0,0,0,0,0]
["","",null,null,null,null,null,null,null,null,null,{"$f":"IF(ISNUMBER(MATCH(B725,Lists!$D$3:$D$11,0)),1,0)","v":0},{"$f":"IF(ISNUMBER(MATCH(B725,Lists!$F$3:$F$14,0)),1,0)","v":0},{"$f":"IF(COUNTBLANK(A725:J725)=10,-1,10-((2-COUNTBLANK(A725:B725))+COUNTIF(C725:J725,\"y\")+COUNTIF(C725:J725,\"n\")))","v":-1},"",0,null,0,0,0,0,0,0]
["","",null,null,null,null,null,null,null,null,null,{"$f":"IF(ISNUMBER(MATCH(B726,Lists!$D$3:$D$11,0)),1,0)","v":0},{"$f":"IF(ISNUMBER(MATCH(B726,Lists!$F$3:$F$14,0)),1,0)","v":0},-1,"",0,null,0,0,0,0,0,0]
["","",null,null,null,null,null,null,null,null,null,{"$f":"IF(ISNUMBER(MATCH(B727,Lists!$D$3:$D$11,0)),1,0)","v":0},{"$f":"IF(ISNUMBER(MATCH(B727,Lists!$F$3:$F$14,0)),1,0)","v":0},-1,"",0,null,0,0,0,0,0,0]
["","",null,null,null,null,null,null,null,null,null,{"$f":"IF(ISNUMBER(MATCH(B728,Lists!$D$3:$D$11,0)),1,0)","v":0},{"$f":"IF(ISNUMBER(MATCH(B728,Lists!$F$3:$F$14,0)),1,0)","v":0},-1,"",0,null,0,0,0,0,0,0]
["","",null,null,null,null,null,null,null,null,null,{"$f":"IF(ISNUMBER(MATCH(B729,Lists!$D$3:$D$11,0)),1,0)","v":0},{"$f":"IF(ISNUMBER(MATCH(B729,Lists!$F$3:$F$14,0)),1,0)","v":0},-1,"",0,null,0,0,0,0,0,0]
["","",null,null,null,null,null,null,null,null,null,{"$f":"IF(ISNUMBER(MATCH(B730,Lists!$D$3:$D$11,0)),1,0)","v":0},{"$f":"IF(ISNUMBER(MATCH(B730,Lists!$F$3:$F$14,0)),1,0)","v":0},-1,"",0,null,0,0,0,0,0,0]
["","",null,null,null,null,null,null,null,null,null,{"$f":"IF(ISNUMBER(MATCH(B731,Lists!$D$3:$D$11,0)),1,0)","v":0},{"$f":"IF(ISNUMBER(MATCH(B731,Lists!$F$3:$F$14,0)),1,0)","v":0},-1,"",0,null,0,0,0,0,0,0]
["","",null,null,null,null,null,null,null,null,null,{"$f":"IF(ISNUMBER(MATCH(B732,Lists!$D$3:$D$11,0)),1,0)","v":0},{"$f":"IF(ISNUMBER(MATCH(B732,Lists!$F$3:$F$14,0)),1,0)","v":0},-1,"",0,null,0,0,0,0,0,0]
["","",null,null,null,null,null,null,null,null,null,{"$f":"IF(ISNUMBER(MATCH(B733,Lists!$D$3:$D$11,0)),1,0)","v":0},{"$f":"IF(ISNUMBER(MATCH(B733,Lists!$F$3:$F$14,0)),1,0)","v":0},-1,"",0,null,0,0,0,0,0,0]
["","",null,null,null,null,null,null,null,null,null,{"$f":"IF(ISNUMBER(MATCH(B734,Lists!$D$3:$D$11,0)),1,0)","v":0},{"$f":"IF(ISNUMBER(MATCH(B734,Lists!$F$3:$F$14,0)),1,0)","v":0},-1,"",0,null,0,0,0,0,0,0]
["","",null,null,null,null,null,null,null,null,null,{"$f":"IF(ISNUMBER(MATCH(B735,Lists!$D$3:$D$11,0)),1,0)","v":0},{"$f":"IF(ISNUMBER(MATCH(B735,Lists!$F$3:$F$14,0)),1,0)","v":0},-1,"",0,null,0,0,0,0,0,0]
["","",null,null,null,null,null,null,null,null,null,{"$f":"IF(ISNUMBER(MATCH(B736,Lists!$D$3:$D$11,0)),1,0)","v":0},{"$f":"IF(ISNUMBER(MATCH(B736,Lists!$F$3:$F$14,0)),1,0)","v":0},-1,"",0,null,0,0,0,0,0,0]
["","",null,null,null,null,null,null,null,null,null,{"$f":"IF(ISNUMBER(MATCH(B737,Lists!$D$3:$D$11,0)),1,0)","v":0},{"$f":"IF(ISNUMBER(MATCH(B737,Lists!$F$3:$F$14,0)),1,0)","v":0},-1,"",0,null,0,0,0,0,0,0]
["","",null,null,null,null,null,null,null,null,null,{"$f":"IF(ISNUMBER(MATCH(B738,Lists!$D$3:$D$11,0)),1,0)","v":0},{"$f":"IF(ISNUMBER(MATCH(B738,Lists!$F$3:$F$14,0)),1,0)","v":0},-1,"",0,null,0,0,0,0,0,0]
["","",null,null,null,null,null,null,null,null,null,{"$f":"IF(ISNUMBER(MATCH(B739,Lists!$D$3:$D$11,0)),1,0)","v":0},{"$f":"IF(ISNUMBER(MATCH(B739,Lists!$F$3:$F$14,0)),1,0)","v":0},-1,"",0,null,0,0,0,0,0,0]
["","",null,null,null,null,null,null,null,null,null,{"$f":"IF(ISNUMBER(MATCH(B740,Lists!$D$3:$D$11,0)),1,0)","v":0},{"$f":"IF(ISNUMBER(MATCH(B740,Lists!$F$3:$F$14,0)),1,0)","v":0},-1,"",0,null,0,0,0,0,0,0]
["","",null,null,null,null,null,null,null,null,null,{"$f":"IF(ISNUMBER(MATCH(B741,Lists!$D$3:$D$11,0)),1,0)","v":0},{"$f":"IF(ISNUMBER(MATCH(B741,Lists!$F$3:$F$14,0)),1,0)","v":0},-1,"",0,null,0,0,0,0,0,0]
["","",null,null,null,null,null,null,null,null,null,{"$f":"IF(ISNUMBER(MATCH(B742,Lists!$D$3:$D$11,0)),1,0)","v":0},{"$f":"IF(ISNUMBER(MATCH(B742,Lists!$F$3:$F$14,0)),1,0)","v":0},-1,"",0,null,0,0,0,0,0,0]
["","",null,null,null,null,null,null,null,null,null,{"$f":"IF(ISNUMBER(MATCH(B743,Lists!$D$3:$D$11,0)),1,0)","v":0},{"$f":"IF(ISNUMBER(MATCH(B743,Lists!$F$3:$F$14,0)),1,0)","v":0},-1,"",0,null,0,0,0,0,0,0]
["","",null,null,null,null,null,null,null,null,null,{"$f":"IF(ISNUMBER(MATCH(B744,Lists!$D$3:$D$11,0)),1,0)","v":0},{"$f":"IF(ISNUMBER(MATCH(B744,Lists!$F$3:$F$14,0)),1,0)","v":0},-1,"",0,null,0,0,0,0,0,0]
["","",null,null,null,null,null,null,null,null,null,{"$f":"IF(ISNUMBER(MATCH(B745,Lists!$D$3:$D$11,0)),1,0)","v":0},{"$f":"IF(ISNUMBER(MATCH(B745,Lists!$F$3:$F$14,0)),1,0)","v":0},-1,"",0,null,0,0,0,0,0,0]
["","",null,null,null,null,null,null,null,null,null,{"$f":"IF(ISNUMBER(MATCH(B746,Lists!$D$3:$D$11,0)),1,0)","v":0},{"$f":"IF(ISNUMBER(MATCH(B746,Lists!$F$3:$F$14,0)),1,0)","v":0},-1,"",0,null,0,0,0,0,0,0]
["","",null,null,null,null,null,null,null,null,null,{"$f":"IF(ISNUMBER(MATCH(B747,Lists!$D$3:$D$11,0)),1,0)","v":0},{"$f":"IF(ISNUMBER(MATCH(B747,Lists!$F$3:$F$14,0)),1,0)","v":0},-1,"",0,null,0,0,0,0,0,0]
["","",null,null,null,null,null,null,null,null,null,{"$f":"IF(ISNUMBER(MATCH(B748,Lists!$D$3:$D$11,0)),1,0)","v":0},{"$f":"IF(ISNUMBER(MATCH(B748,Lists!$F$3:$F$14,0)),1,0)","v":0},-1,"",0,null,0,0,0,0,0,0]
["","",null,null,null,null,null,null,null,null,null,{"$f":"IF(ISNUMBER(MATCH(B749,Lists!$D$3:$D$11,0)),1,0)","v":0},{"$f":"IF(ISNUMBER(MATCH(B749,Lists!$F$3:$F$14,0)),1,0)","v":0},-1,"",0,null,0,0,0,0,0,0]
["","",null,null,null,null,null,null,null,null,null,{"$f":"IF(ISNUMBER(MATCH(B750,Lists!$D$3:$D$11,0)),1,0)","v":0},{"$f":"IF(ISNUMBER(MATCH(B750,Lists!$F$3:$F$14,0)),1,0)","v":0},-1,"",0,null,0,0,0,0,0,0]
["","",null,null,null,null,null,null,null,null,null,{"$f":"IF(ISNUMBER(MATCH(B751,Lists!$D$3:$D$11,0)),1,0)","v":0},{"$f":"IF(ISNUMBER(MATCH(B751,Lists!$F$3:$F$14,0)),1,0)","v":0},-1,"",0,null,0,0,0,0,0,0]
["","",null,null,null,null,null,null,null,null,null,{"$f":"IF(ISNUMBER(MATCH(B752,Lists!$D$3:$D$11,0)),1,0)","v":0},{"$f":"IF(ISNUMBER(MATCH(B752,Lists!$F$3:$F$14,0)),1,0)","v":0},-1,"",0,null,0,0,0,0,0,0]
["","",null,null,null,null,null,null,null,null,null,{"$f":"IF(ISNUMBER(MATCH(B753,Lists!$D$3:$D$11,0)),1,0)","v":0},{"$f":"IF(ISNUMBER(MATCH(B753,Lists!$F$3:$F$14,0)),1,0)","v":0},-1,"",0,null,0,0,0,0,0,0]
["","",null,null,null,null,null,null,null,null,null,{"$f":"IF(ISNUMBER(MATCH(B754,Lists!$D$3:$D$11,0)),1,0)","v":0},{"$f":"IF(ISNUMBER(MATCH(B754,Lists!$F$3:$F$14,0)),1,0)","v":0},-1,"",0,null,0,0,0,0,0,0]
["","",null,null,null,null,null,null,null,null,null,{"$f":"IF(ISNUMBER(MATCH(B755,Lists!$D$3:$D$11,0)),1,0)","v":0},{"$f":"IF(ISNUMBER(MATCH(B755,Lists!$F$3:$F$14,0)),1,0)","v":0},-1,"",0,null,0,0,0,0,0,0]
["","",null,null,null,null,null,null,null,null,null,{"$f":"IF(ISNUMBER(MATCH(B756,Lists!$D$3:$D$11,0)),1,0)","v":0},{"$f":"IF(ISNUMBER(MATCH(B756,Lists!$F$3:$F$14,0)),1,0)","v":0},-1,"",0,null,0,0,0,0,0,0]
["","",null,null,null,null,null,null,null,null,null,{"$f":"IF(ISNUMBER(MATCH(B757,Lists!$D$3:$D$11,0)),1,0)","v":0},{"$f":"IF(ISNUMBER(MATCH(B757,Lists!$F$3:$F$14,0)),1,0)","v":0},-1,"",0,null,0,0,0,0,0,0]
["","",null,null,null,null,null,null,null,null,null,{"$f":"IF(ISNUMBER(MATCH(B758,Lists!$D$3:$D$11,0)),1,0)","v":0},{"$f":"IF(ISNUMBER(MATCH(B758,Lists!$F$3:$F$14,0)),1,0)","v":0},-1,"",0,null,0,0,0,0,0,0]
["","",null,null,null,null,null,null,null,null,null,{"$f":"IF(ISNUMBER(MATCH(B759,Lists!$D$3:$D$11,0)),1,0)","v":0},{"$f":"IF(ISNUMBER(MATCH(B759,Lists!$F$3:$F$14,0)),1,0)","v":0},-1,"",0,null,0,0,0,0,0,0]
["","",null,null,null,null,null,null,null,null,null,{"$f":"IF(ISNUMBER(MATCH(B760,Lists!$D$3:$D$11,0)),1,0)","v":0},{"$f":"IF(ISNUMBER(MATCH(B760,Lists!$F$3:$F$14,0)),1,0)","v":0},-1,"",0,null,0,0,0,0,0,0]
["","",null,null,null,null,null,null,null,null,null,{"$f":"IF(ISNUMBER(MATCH(B761,Lists!$D$3:$D$11,0)),1,0)","v":0},{"$f":"IF(ISNUMBER(MATCH(B761,Lists!$F$3:$F$14,0)),1,0)","v":0},-1,"",0,null,0,0,0,0,0,0]
["","",null,null,null,null,null,null,null,null,null,{"$f":"IF(ISNUMBER(MATCH(B762,Lists!$D$3:$D$11,0)),1,0)","v":0},{"$f":"IF(ISNUMBER(MATCH(B762,Lists!$F$3:$F$14,0)),1,0)","v":0},-1,"",0,null,0,0,0,0,0,0]
["","",null,null,null,null,null,null,null,null,null,{"$f":"IF(ISNUMBER(MATCH(B763,Lists!$D$3:$D$11,0)),1,0)","v":0},{"$f":"IF(ISNUMBER(MATCH(B763,Lists!$F$3:$F$14,0)),1,0)","v":0},-1,"",0,null,0,0,0,0,0,0]
["","",null,null,null,null,null,null,null,null,null,{"$f":"IF(ISNUMBER(MATCH(B764,Lists!$D$3:$D$11,0)),1,0)","v":0},{"$f":"IF(ISNUMBER(MATCH(B764,Lists!$F$3:$F$14,0)),1,0)","v":0},-1,"",0,null,0,0,0,0,0,0]
["","",null,null,null,null,null,null,null,null,null,{"$f":"IF(ISNUMBER(MATCH(B765,Lists!$D$3:$D$11,0)),1,0)","v":0},{"$f":"IF(ISNUMBER(MATCH(B765,Lists!$F$3:$F$14,0)),1,0)","v":0},-1,"",0,null,0,0,0,0,0,0]
["","",null,null,null,null,null,null,null,null,null,{"$f":"IF(ISNUMBER(MATCH(B766,Lists!$D$3:$D$11,0)),1,0)","v":0},{"$f":"IF(ISNUMBER(MATCH(B766,Lists!$F$3:$F$14,0)),1,0)","v":0},-1,"",0,null,0,0,0,0,0,0]
["","",null,null,null,null,null,null,null,null,null,{"$f":"IF(ISNUMBER(MATCH(B767,Lists!$D$3:$D$11,0)),1,0)","v":0},{"$f":"IF(ISNUMBER(MATCH(B767,Lists!$F$3:$F$14,0)),1,0)","v":0},-1,"",0,null,0,0,0,0,0,0]
["","",null,null,null,null,null,null,null,null,null,{"$f":"IF(ISNUMBER(MATCH(B768,Lists!$D$3:$D$11,0)),1,0)","v":0},{"$f":"IF(ISNUMBER(MATCH(B768,Lists!$F$3:$F$14,0)),1,0)","v":0},-1,"",0,null,0,0,0,0,0,0]
["","",null,null,null,null,null,null,null,null,null,{"$f":"IF(ISNUMBER(MATCH(B769,Lists!$D$3:$D$11,0)),1,0)","v":0},{"$f":"IF(ISNUMBER(MATCH(B769,Lists!$F$3:$F$14,0)),1,0)","v":0},-1,"",0,null,0,0,0,0,0,0]
["","",null,null,null,null,null,null,null,null,null,{"$f":"IF(ISNUMBER(MATCH(B770,Lists!$D$3:$D$11,0)),1,0)","v":0},{"$f":"IF(ISNUMBER(MATCH(B770,Lists!$F$3:$F$14,0)),1,0)","v":0},-1,"",0,null,0,0,0,0,0,0]
["","",null,null,null,null,null,null,null,null,null,{"$f":"IF(ISNUMBER(MATCH(B771,Lists!$D$3:$D$11,0)),1,0)","v":0},{"$f":"IF(ISNUMBER(MATCH(B771,Lists!$F$3:$F$14,0)),1,0)","v":0},-1,"",0,null,0,0,0,0,0,0]
["","",null,null,null,null,null,null,null,null,null,{"$f":"IF(ISNUMBER(MATCH(B772,Lists!$D$3:$D$11,0)),1,0)","v":0},{"$f":"IF(ISNUMBER(MATCH(B772,Lists!$F$3:$F$14,0)),1,0)","v":0},-1,"",0,null,0,0,0,0,0,0]
["","",null,null,null,null,null,null,null,null,null,{"$f":"IF(ISNUMBER(MATCH(B773,Lists!$D$3:$D$11,0)),1,0)","v":0},{"$f":"IF(ISNUMBER(MATCH(B773,Lists!$F$3:$F$14,0)),1,0)","v":0},-1,"",0,null,0,0,0,0,0,0]
["","",null,null,null,null,null,null,null,null,null,{"$f":"IF(ISNUMBER(MATCH(B774,Lists!$D$3:$D$11,0)),1,0)","v":0},{"$f":"IF(ISNUMBER(MATCH(B774,Lists!$F$3:$F$14,0)),1,0)","v":0},-1,"",0,null,0,0,0,0,0,0]
["","",null,null,null,null,null,null,null,null,null,{"$f":"IF(ISNUMBER(MATCH(B775,Lists!$D$3:$D$11,0)),1,0)","v":0},{"$f":"IF(ISNUMBER(MATCH(B775,Lists!$F$3:$F$14,0)),1,0)","v":0},-1,"",0,null,0,0,0,0,0,0]
["","",null,null,null,null,null,null,null,null,null,{"$f":"IF(ISNUMBER(MATCH(B776,Lists!$D$3:$D$11,0)),1,0)","v":0},{"$f":"IF(ISNUMBER(MATCH(B776,Lists!$F$3:$F$14,0)),1,0)","v":0},-1,"",0,null,0,0,0,0,0,0]
["","",null,null,null,null,null,null,null,null,null,{"$f":"IF(ISNUMBER(MATCH(B777,Lists!$D$3:$D$11,0)),1,0)","v":0},{"$f":"IF(ISNUMBER(MATCH(B777,Lists!$F$3:$F$14,0)),1,0)","v":0},-1,"",0,null,0,0,0,0,0,0]
["","",null,null,null,null,null,null,null,null,null,{"$f":"IF(ISNUMBER(MATCH(B778,Lists!$D$3:$D$11,0)),1,0)","v":0},{"$f":"IF(ISNUMBER(MATCH(B778,Lists!$F$3:$F$14,0)),1,0)","v":0},-1,"",0,null,0,0,0,0,0,0]
["","",null,null,null,null,null,null,null,null,null,{"$f":"IF(ISNUMBER(MATCH(B779,Lists!$D$3:$D$11,0)),1,0)","v":0},{"$f":"IF(ISNUMBER(MATCH(B779,Lists!$F$3:$F$14,0)),1,0)","v":0},-1,"",0,null,0,0,0,0,0,0]
["","",null,null,null,null,null,null,null,null,null,{"$f":"IF(ISNUMBER(MATCH(B780,Lists!$D$3:$D$11,0)),1,0)","v":0},{"$f":"IF(ISNUMBER(MATCH(B780,Lists!$F$3:$F$14,0)),1,0)","v":0},-1,"",0,null,{"$f":"IFERROR(IF( VLOOKUP($B780,CheckData,3,FALSE)=1,IF($E780=\"n\",1,0),0),0)","v":0},{"$f":"IFERROR(IF( VLOOKUP($B780,CheckData,4,FALSE)=1,IF($F780=\"n\",1,0),0),0)","v":0},{"$f":"IFERROR(IF( VLOOKUP($B780,CheckData,5,FALSE)=1,IF($G780=\"n\",1,0),0),0)","v":0},{"$f":"IFERROR(IF( OR($D780=\"y\",AND(VLOOKUP($B780,CheckData,6,FALSE)=1, $C780=\"n\")),IF($H780=\"n\",1,0),0),0)","v":0},{"$f":"IFERROR(IF( VLOOKUP($B780,CheckData,7,FALSE)=1,IF($I780=\"n\",1,0),0),0)","v":0},{"$f":"IFERROR(IF(AND( VLOOKUP($B780,CheckData,8,FALSE)=1, $C780=\"y\"),IF(AND($J780=\"n\",AND($D780=\"n\",$H780=\"n\")),1,0),0),0)","v":0}]
["","",null,null,null,null,null,null,null,null,null,{"$f":"IF(ISNUMBER(MATCH(B781,Lists!$D$3:$D$11,0)),1,0)","v":0},{"$f":"IF(ISNUMBER(MATCH(B781,Lists!$F$3:$F$14,0)),1,0)","v":0},-1,"",{"$f":"SUM(Q781:W781)","v":0},null,0,0,0,0,0,0]
["","",null,null,null,null,null,null,null,null,null,{"$f":"IF(ISNUMBER(MATCH(B782,Lists!$D$3:$D$11,0)),1,0)","v":0},{"$f":"IF(ISNUMBER(MATCH(B782,Lists!$F$3:$F$14,0)),1,0)","v":0},-1,"",0,null,0,0,0,0,0,0]
["","",null,null,null,null,null,null,null,null,null,{"$f":"IF(ISNUMBER(MATCH(B783,Lists!$D$3:$D$11,0)),1,0)","v":0},{"$f":"IF(ISNUMBER(MATCH(B783,Lists!$F$3:$F$14,0)),1,0)","v":0},-1,"",0,null,0,0,0,0,0,0]
["","",null,null,null,null,null,null,null,null,null,{"$f":"IF(ISNUMBER(MATCH(B784,Lists!$D$3:$D$11,0)),1,0)","v":0},{"$f":"IF(ISNUMBER(MATCH(B784,Lists!$F$3:$F$14,0)),1,0)","v":0},-1,"",0,null,0,0,0,0,0,0]
["","",null,null,null,null,null,null,null,null,null,{"$f":"IF(ISNUMBER(MATCH(B785,Lists!$D$3:$D$11,0)),1,0)","v":0},{"$f":"IF(ISNUMBER(MATCH(B785,Lists!$F$3:$F$14,0)),1,0)","v":0},-1,"",0,null,0,0,0,0,0,0]
["","",null,null,null,null,null,null,null,null,null,{"$f":"IF(ISNUMBER(MATCH(B786,Lists!$D$3:$D$11,0)),1,0)","v":0},{"$f":"IF(ISNUMBER(MATCH(B786,Lists!$F$3:$F$14,0)),1,0)","v":0},-1,"",0,null,0,0,0,0,0,0]
["","",null,null,null,null,null,null,null,null,null,{"$f":"IF(ISNUMBER(MATCH(B787,Lists!$D$3:$D$11,0)),1,0)","v":0},{"$f":"IF(ISNUMBER(MATCH(B787,Lists!$F$3:$F$14,0)),1,0)","v":0},-1,"",0,null,0,0,0,0,0,0]
["","",null,null,null,null,null,null,null,null,null,{"$f":"IF(ISNUMBER(MATCH(B788,Lists!$D$3:$D$11,0)),1,0)","v":0},{"$f":"IF(ISNUMBER(MATCH(B788,Lists!$F$3:$F$14,0)),1,0)","v":0},-1,{"$f":"IFERROR(VLOOKUP(B788,VehicleLookUp,2,FALSE),\"\")","v":""},0,null,0,0,0,0,0,0]
["","",null,null,null,null,null,null,null,null,null,{"$f":"IF(ISNUMBER(MATCH(B789,Lists!$D$3:$D$11,0)),1,0)","v":0},{"$f":"IF(ISNUMBER(MATCH(B789,Lists!$F$3:$F$14,0)),1,0)","v":0},{"$f":"IF(COUNTBLANK(A789:J789)=10,-1,10-((2-COUNTBLANK(A789:B789))+COUNTIF(C789:J789,\"y\")+COUNTIF(C789:J789,\"n\")))","v":-1},"",0,null,0,0,0,0,0,0]
["","",null,null,null,null,null,null,null,null,null,{"$f":"IF(ISNUMBER(MATCH(B790,Lists!$D$3:$D$11,0)),1,0)","v":0},{"$f":"IF(ISNUMBER(MATCH(B790,Lists!$F$3:$F$14,0)),1,0)","v":0},-1,"",0,null,0,0,0,0,0,0]
["","",null,null,null,null,null,null,null,null,null,{"$f":"IF(ISNUMBER(MATCH(B791,Lists!$D$3:$D$11,0)),1,0)","v":0},{"$f":"IF(ISNUMBER(MATCH(B791,Lists!$F$3:$F$14,0)),1,0)","v":0},-1,"",0,null,0,0,0,0,0,0]
["","",null,null,null,null,null,null,null,null,null,{"$f":"IF(ISNUMBER(MATCH(B792,Lists!$D$3:$D$11,0)),1,0)","v":0},{"$f":"IF(ISNUMBER(MATCH(B792,Lists!$F$3:$F$14,0)),1,0)","v":0},-1,"",0,null,0,0,0,0,0,0]
["","",null,null,null,null,null,null,null,null,null,{"$f":"IF(ISNUMBER(MATCH(B793,Lists!$D$3:$D$11,0)),1,0)","v":0},{"$f":"IF(ISNUMBER(MATCH(B793,Lists!$F$3:$F$14,0)),1,0)","v":0},-1,"",0,null,0,0,0,0,0,0]
["","",null,null,null,null,null,null,null,null,null,{"$f":"IF(ISNUMBER(MATCH(B794,Lists!$D$3:$D$11,0)),1,0)","v":0},{"$f":"IF(ISNUMBER(MATCH(B794,Lists!$F$3:$F$14,0)),1,0)","v":0},-1,"",0,null,0,0,0,0,0,0]
["","",null,null,null,null,null,null,null,null,null,{"$f":"IF(ISNUMBER(MATCH(B795,Lists!$D$3:$D$11,0)),1,0)","v":0},{"$f":"IF(ISNUMBER(MATCH(B795,Lists!$F$3:$F$14,0)),1,0)","v":0},-1,"",0,null,0,0,0,0,0,0]
["","",null,null,null,null,null,null,null,null,null,{"$f":"IF(ISNUMBER(MATCH(B796,Lists!$D$3:$D$11,0)),1,0)","v":0},{"$f":"IF(ISNUMBER(MATCH(B796,Lists!$F$3:$F$14,0)),1,0)","v":0},-1,"",0,null,0,0,0,0,0,0]
["","",null,null,null,null,null,null,null,null,null,{"$f":"IF(ISNUMBER(MATCH(B797,Lists!$D$3:$D$11,0)),1,0)","v":0},{"$f":"IF(ISNUMBER(MATCH(B797,Lists!$F$3:$F$14,0)),1,0)","v":0},-1,"",0,null,0,0,0,0,0,0]
["","",null,null,null,null,null,null,null,null,null,{"$f":"IF(ISNUMBER(MATCH(B798,Lists!$D$3:$D$11,0)),1,0)","v":0},{"$f":"IF(ISNUMBER(MATCH(B798,Lists!$F$3:$F$14,0)),1,0)","v":0},-1,"",0,null,0,0,0,0,0,0]
["","",null,null,null,null,null,null,null,null,null,{"$f":"IF(ISNUMBER(MATCH(B799,Lists!$D$3:$D$11,0)),1,0)","v":0},{"$f":"IF(ISNUMBER(MATCH(B799,Lists!$F$3:$F$14,0)),1,0)","v":0},-1,"",0,null,0,0,0,0,0,0]
["","",null,null,null,null,null,null,null,null,null,{"$f":"IF(ISNUMBER(MATCH(B800,Lists!$D$3:$D$11,0)),1,0)","v":0},{"$f":"IF(ISNUMBER(MATCH(B800,Lists!$F$3:$F$14,0)),1,0)","v":0},-1,"",0,null,0,0,0,0,0,0]
["","",null,null,null,null,null,null,null,null,null,{"$f":"IF(ISNUMBER(MATCH(B801,Lists!$D$3:$D$11,0)),1,0)","v":0},{"$f":"IF(ISNUMBER(MATCH(B801,Lists!$F$3:$F$14,0)),1,0)","v":0},-1,"",0,null,0,0,0,0,0,0]
["","",null,null,null,null,null,null,null,null,null,{"$f":"IF(ISNUMBER(MATCH(B802,Lists!$D$3:$D$11,0)),1,0)","v":0},{"$f":"IF(ISNUMBER(MATCH(B802,Lists!$F$3:$F$14,0)),1,0)","v":0},-1,"",0,null,0,0,0,0,0,0]
["","",null,null,null,null,null,null,null,null,null,{"$f":"IF(ISNUMBER(MATCH(B803,Lists!$D$3:$D$11,0)),1,0)","v":0},{"$f":"IF(ISNUMBER(MATCH(B803,Lists!$F$3:$F$14,0)),1,0)","v":0},-1,"",0,null,0,0,0,0,0,0]
["","",null,null,null,null,null,null,null,null,null,{"$f":"IF(ISNUMBER(MATCH(B804,Lists!$D$3:$D$11,0)),1,0)","v":0},{"$f":"IF(ISNUMBER(MATCH(B804,Lists!$F$3:$F$14,0)),1,0)","v":0},-1,"",0,null,0,0,0,0,0,0]
["","",null,null,null,null,null,null,null,null,null,{"$f":"IF(ISNUMBER(MATCH(B805,Lists!$D$3:$D$11,0)),1,0)","v":0},{"$f":"IF(ISNUMBER(MATCH(B805,Lists!$F$3:$F$14,0)),1,0)","v":0},-1,"",0,null,0,0,0,0,0,0]
["","",null,null,null,null,null,null,null,null,null,{"$f":"IF(ISNUMBER(MATCH(B806,Lists!$D$3:$D$11,0)),1,0)","v":0},{"$f":"IF(ISNUMBER(MATCH(B806,Lists!$F$3:$F$14,0)),1,0)","v":0},-1,"",0,null,0,0,0,0,0,0]
["","",null,null,null,null,null,null,null,null,null,{"$f":"IF(ISNUMBER(MATCH(B807,Lists!$D$3:$D$11,0)),1,0)","v":0},{"$f":"IF(ISNUMBER(MATCH(B807,Lists!$F$3:$F$14,0)),1,0)","v":0},-1,"",0,null,0,0,0,0,0,0]
["","",null,null,null,null,null,null,null,null,null,{"$f":"IF(ISNUMBER(MATCH(B808,Lists!$D$3:$D$11,0)),1,0)","v":0},{"$f":"IF(ISNUMBER(MATCH(B808,Lists!$F$3:$F$14,0)),1,0)","v":0},-1,"",0,null,0,0,0,0,0,0]
["","",null,null,null,null,null,null,null,null,null,{"$f":"IF(ISNUMBER(MATCH(B809,Lists!$D$3:$D$11,0)),1,0)","v":0},{"$f":"IF(ISNUMBER(MATCH(B809,Lists!$F$3:$F$14,0)),1,0)","v":0},-1,"",0,null,0,0,0,0,0,0]
["","",null,null,null,null,null,null,null,null,null,{"$f":"IF(ISNUMBER(MATCH(B810,Lists!$D$3:$D$11,0)),1,0)","v":0},{"$f":"IF(ISNUMBER(MATCH(B810,Lists!$F$3:$F$14,0)),1,0)","v":0},-1,"",0,null,0,0,0,0,0,0]
["","",null,null,null,null,null,null,null,null,null,{"$f":"IF(ISNUMBER(MATCH(B811,Lists!$D$3:$D$11,0)),1,0)","v":0},{"$f":"IF(ISNUMBER(MATCH(B811,Lists!$F$3:$F$14,0)),1,0)","v":0},-1,"",0,null,0,0,0,0,0,0]
[null,null,null,null,null,null,null,null,null,null,null,{"$f":"IF(ISNUMBER(MATCH(B812,Lists!$D$3:$D$11,0)),1,0)","v":0},{"$f":"IF(ISNUMBER(MATCH(B812,Lists!$F$3:$F$14,0)),1,0)","v":0},-1,"",0,null,0,0,0,0,0,0]
[null,null,null,null,null,null,null,null,null,null,null,{"$f":"IF(ISNUMBER(MATCH(B813,Lists!$D$3:$D$11,0)),1,0)","v":0},{"$f":"IF(ISNUMBER(MATCH(B813,Lists!$F$3:$F$14,0)),1,0)","v":0},-1,"",0,null,0,0,0,0,0,0]
[null,null,null,null,null,null,null,null,null,null,null,{"$f":"IF(ISNUMBER(MATCH(B814,Lists!$D$3:$D$11,0)),1,0)","v":0},{"$f":"IF(ISNUMBER(MATCH(B814,Lists!$F$3:$F$14,0)),1,0)","v":0},-1,"",0,null,0,0,0,0,0,0]
[null,null,null,null,null,null,null,null,null,null,null,{"$f":"IF(ISNUMBER(MATCH(B815,Lists!$D$3:$D$11,0)),1,0)","v":0},{"$f":"IF(ISNUMBER(MATCH(B815,Lists!$F$3:$F$14,0)),1,0)","v":0},-1,"",0,null,0,0,0,0,0,0]
[null,"",null,null,null,null,null,null,null,null,null,{"$f":"IF(ISNUMBER(MATCH(B816,Lists!$D$3:$D$11,0)),1,0)","v":0},{"$f":"IF(ISNUMBER(MATCH(B816,Lists!$F$3:$F$14,0)),1,0)","v":0},-1,"",0,null,0,0,0,0,0,0]
[null,"",null,null,null,null,null,null,null,null,null,{"$f":"IF(ISNUMBER(MATCH(B817,Lists!$D$3:$D$11,0)),1,0)","v":0},{"$f":"IF(ISNUMBER(MATCH(B817,Lists!$F$3:$F$14,0)),1,0)","v":0},-1,"",0,null,0,0,0,0,0,0]
[null,"",null,null,null,null,null,null,null,null,null,{"$f":"IF(ISNUMBER(MATCH(B818,Lists!$D$3:$D$11,0)),1,0)","v":0},{"$f":"IF(ISNUMBER(MATCH(B818,Lists!$F$3:$F$14,0)),1,0)","v":0},-1,"",0,null,0,0,0,0,0,0]
[null,"",null,null,null,null,null,null,null,null,null,{"$f":"IF(ISNUMBER(MATCH(B819,Lists!$D$3:$D$11,0)),1,0)","v":0},{"$f":"IF(ISNUMBER(MATCH(B819,Lists!$F$3:$F$14,0)),1,0)","v":0},-1,"",0,null,0,0,0,0,0,0]
[null,"",null,null,null,null,null,null,null,null,null,{"$f":"IF(ISNUMBER(MATCH(B820,Lists!$D$3:$D$11,0)),1,0)","v":0},{"$f":"IF(ISNUMBER(MATCH(B820,Lists!$F$3:$F$14,0)),1,0)","v":0},-1,"",0,null,0,0,0,0,0,0]
[null,"",null,null,null,null,null,null,null,null,null,{"$f":"IF(ISNUMBER(MATCH(B821,Lists!$D$3:$D$11,0)),1,0)","v":0},{"$f":"IF(ISNUMBER(MATCH(B821,Lists!$F$3:$F$14,0)),1,0)","v":0},-1,"",0,null,0,0,0,0,0,0]
[null,"",null,null,null,null,null,null,null,null,null,{"$f":"IF(ISNUMBER(MATCH(B822,Lists!$D$3:$D$11,0)),1,0)","v":0},{"$f":"IF(ISNUMBER(MATCH(B822,Lists!$F$3:$F$14,0)),1,0)","v":0},-1,"",0,null,0,0,0,0,0,0]
["","",null,null,null,null,null,null,null,null,null,{"$f":"IF(ISNUMBER(MATCH(B823,Lists!$D$3:$D$11,0)),1,0)","v":0},{"$f":"IF(ISNUMBER(MATCH(B823,Lists!$F$3:$F$14,0)),1,0)","v":0},-1,"",0,null,0,0,0,0,0,0]
["","",null,null,null,null,null,null,null,null,null,{"$f":"IF(ISNUMBER(MATCH(B824,Lists!$D$3:$D$11,0)),1,0)","v":0},{"$f":"IF(ISNUMBER(MATCH(B824,Lists!$F$3:$F$14,0)),1,0)","v":0},-1,"",0,null,0,0,0,0,0,0]
["","",null,null,null,null,null,null,null,null,null,{"$f":"IF(ISNUMBER(MATCH(B825,Lists!$D$3:$D$11,0)),1,0)","v":0},{"$f":"IF(ISNUMBER(MATCH(B825,Lists!$F$3:$F$14,0)),1,0)","v":0},-1,"",0,null,0,0,0,0,0,0]
["","",null,null,null,null,null,null,null,null,null,{"$f":"IF(ISNUMBER(MATCH(B826,Lists!$D$3:$D$11,0)),1,0)","v":0},{"$f":"IF(ISNUMBER(MATCH(B826,Lists!$F$3:$F$14,0)),1,0)","v":0},-1,"",0,null,0,0,0,0,0,0]
["","",null,null,null,null,null,null,null,null,null,{"$f":"IF(ISNUMBER(MATCH(B827,Lists!$D$3:$D$11,0)),1,0)","v":0},{"$f":"IF(ISNUMBER(MATCH(B827,Lists!$F$3:$F$14,0)),1,0)","v":0},-1,"",0,null,0,0,0,0,0,0]
["","",null,null,null,null,null,null,null,null,null,{"$f":"IF(ISNUMBER(MATCH(B828,Lists!$D$3:$D$11,0)),1,0)","v":0},{"$f":"IF(ISNUMBER(MATCH(B828,Lists!$F$3:$F$14,0)),1,0)","v":0},-1,"",0,null,0,0,0,0,0,0]
["","",null,null,null,null,null,null,null,null,null,{"$f":"IF(ISNUMBER(MATCH(B829,Lists!$D$3:$D$11,0)),1,0)","v":0},{"$f":"IF(ISNUMBER(MATCH(B829,Lists!$F$3:$F$14,0)),1,0)","v":0},-1,"",0,null,0,0,0,0,0,0]
["","",null,null,null,null,null,null,null,null,null,{"$f":"IF(ISNUMBER(MATCH(B830,Lists!$D$3:$D$11,0)),1,0)","v":0},{"$f":"IF(ISNUMBER(MATCH(B830,Lists!$F$3:$F$14,0)),1,0)","v":0},-1,"",0,null,0,0,0,0,0,0]
["","",null,null,null,null,null,null,null,null,null,{"$f":"IF(ISNUMBER(MATCH(B831,Lists!$D$3:$D$11,0)),1,0)","v":0},{"$f":"IF(ISNUMBER(MATCH(B831,Lists!$F$3:$F$14,0)),1,0)","v":0},-1,"",0,null,0,0,0,0,0,0]
["","",null,null,null,null,null,null,null,null,null,{"$f":"IF(ISNUMBER(MATCH(B832,Lists!$D$3:$D$11,0)),1,0)","v":0},{"$f":"IF(ISNUMBER(MATCH(B832,Lists!$F$3:$F$14,0)),1,0)","v":0},-1,"",0,null,0,0,0,0,0,0]
["","",null,null,null,null,null,null,null,null,null,{"$f":"IF(ISNUMBER(MATCH(B833,Lists!$D$3:$D$11,0)),1,0)","v":0},{"$f":"IF(ISNUMBER(MATCH(B833,Lists!$F$3:$F$14,0)),1,0)","v":0},-1,"",0,null,0,0,0,0,0,0]
["","",null,null,null,null,null,null,null,null,null,{"$f":"IF(ISNUMBER(MATCH(B834,Lists!$D$3:$D$11,0)),1,0)","v":0},{"$f":"IF(ISNUMBER(MATCH(B834,Lists!$F$3:$F$14,0)),1,0)","v":0},-1,"",0,null,0,0,0,0,0,0]
["","",null,null,null,null,null,null,null,null,null,{"$f":"IF(ISNUMBER(MATCH(B835,Lists!$D$3:$D$11,0)),1,0)","v":0},{"$f":"IF(ISNUMBER(MATCH(B835,Lists!$F$3:$F$14,0)),1,0)","v":0},-1,"",0,null,0,0,0,0,0,0]
["","",null,null,null,null,null,null,null,null,null,{"$f":"IF(ISNUMBER(MATCH(B836,Lists!$D$3:$D$11,0)),1,0)","v":0},{"$f":"IF(ISNUMBER(MATCH(B836,Lists!$F$3:$F$14,0)),1,0)","v":0},-1,"",0,null,0,0,0,0,0,0]
["","",null,null,null,null,null,null,null,null,null,{"$f":"IF(ISNUMBER(MATCH(B837,Lists!$D$3:$D$11,0)),1,0)","v":0},{"$f":"IF(ISNUMBER(MATCH(B837,Lists!$F$3:$F$14,0)),1,0)","v":0},-1,"",0,null,0,0,0,0,0,0]
["","",null,null,null,null,null,null,null,null,null,{"$f":"IF(ISNUMBER(MATCH(B838,Lists!$D$3:$D$11,0)),1,0)","v":0},{"$f":"IF(ISNUMBER(MATCH(B838,Lists!$F$3:$F$14,0)),1,0)","v":0},-1,"",0,null,0,0,0,0,0,0]
["","",null,null,null,null,null,null,null,null,null,{"$f":"IF(ISNUMBER(MATCH(B839,Lists!$D$3:$D$11,0)),1,0)","v":0},{"$f":"IF(ISNUMBER(MATCH(B839,Lists!$F$3:$F$14,0)),1,0)","v":0},-1,"",0,null,0,0,0,0,0,0]
["","",null,null,null,null,null,null,null,null,null,{"$f":"IF(ISNUMBER(MATCH(B840,Lists!$D$3:$D$11,0)),1,0)","v":0},{"$f":"IF(ISNUMBER(MATCH(B840,Lists!$F$3:$F$14,0)),1,0)","v":0},-1,"",0,null,0,0,0,0,0,0]
["","",null,null,null,null,null,null,null,null,null,{"$f":"IF(ISNUMBER(MATCH(B841,Lists!$D$3:$D$11,0)),1,0)","v":0},{"$f":"IF(ISNUMBER(MATCH(B841,Lists!$F$3:$F$14,0)),1,0)","v":0},-1,"",0,null,0,0,0,0,0,0]
["","",null,null,null,null,null,null,null,null,null,{"$f":"IF(ISNUMBER(MATCH(B842,Lists!$D$3:$D$11,0)),1,0)","v":0},{"$f":"IF(ISNUMBER(MATCH(B842,Lists!$F$3:$F$14,0)),1,0)","v":0},-1,"",0,null,0,0,0,0,0,0]
["","",null,null,null,null,null,null,null,null,null,{"$f":"IF(ISNUMBER(MATCH(B843,Lists!$D$3:$D$11,0)),1,0)","v":0},{"$f":"IF(ISNUMBER(MATCH(B843,Lists!$F$3:$F$14,0)),1,0)","v":0},-1,"",0,null,0,0,0,0,0,0]
["","",null,null,null,null,null,null,null,null,null,{"$f":"IF(ISNUMBER(MATCH(B844,Lists!$D$3:$D$11,0)),1,0)","v":0},{"$f":"IF(ISNUMBER(MATCH(B844,Lists!$F$3:$F$14,0)),1,0)","v":0},-1,"",0,null,{"$f":"IFERROR(IF( VLOOKUP($B844,CheckData,3,FALSE)=1,IF($E844=\"n\",1,0),0),0)","v":0},{"$f":"IFERROR(IF( VLOOKUP($B844,CheckData,4,FALSE)=1,IF($F844=\"n\",1,0),0),0)","v":0},{"$f":"IFERROR(IF( VLOOKUP($B844,CheckData,5,FALSE)=1,IF($G844=\"n\",1,0),0),0)","v":0},{"$f":"IFERROR(IF( OR($D844=\"y\",AND(VLOOKUP($B844,CheckData,6,FALSE)=1, $C844=\"n\")),IF($H844=\"n\",1,0),0),0)","v":0},{"$f":"IFERROR(IF( VLOOKUP($B844,CheckData,7,FALSE)=1,IF($I844=\"n\",1,0),0),0)","v":0},{"$f":"IFERROR(IF(AND( VLOOKUP($B844,CheckData,8,FALSE)=1, $C844=\"y\"),IF(AND($J844=\"n\",AND($D844=\"n\",$H844=\"n\")),1,0),0),0)","v":0}]
["","",null,null,null,null,null,null,null,null,null,{"$f":"IF(ISNUMBER(MATCH(B845,Lists!$D$3:$D$11,0)),1,0)","v":0},{"$f":"IF(ISNUMBER(MATCH(B845,Lists!$F$3:$F$14,0)),1,0)","v":0},-1,"",{"$f":"SUM(Q845:W845)","v":0},null,0,0,0,0,0,0]
["","",null,null,null,null,null,null,null,null,null,{"$f":"IF(ISNUMBER(MATCH(B846,Lists!$D$3:$D$11,0)),1,0)","v":0},{"$f":"IF(ISNUMBER(MATCH(B846,Lists!$F$3:$F$14,0)),1,0)","v":0},-1,"",0,null,0,0,0,0,0,0]
["","",null,null,null,null,null,null,null,null,null,{"$f":"IF(ISNUMBER(MATCH(B847,Lists!$D$3:$D$11,0)),1,0)","v":0},{"$f":"IF(ISNUMBER(MATCH(B847,Lists!$F$3:$F$14,0)),1,0)","v":0},-1,"",0,null,0,0,0,0,0,0]
["","",null,null,null,null,null,null,null,null,null,{"$f":"IF(ISNUMBER(MATCH(B848,Lists!$D$3:$D$11,0)),1,0)","v":0},{"$f":"IF(ISNUMBER(MATCH(B848,Lists!$F$3:$F$14,0)),1,0)","v":0},-1,"",0,null,0,0,0,0,0,0]
["","",null,null,null,null,null,null,null,null,null,{"$f":"IF(ISNUMBER(MATCH(B849,Lists!$D$3:$D$11,0)),1,0)","v":0},{"$f":"IF(ISNUMBER(MATCH(B849,Lists!$F$3:$F$14,0)),1,0)","v":0},-1,"",0,null,0,0,0,0,0,0]
["","",null,null,null,null,null,null,null,null,null,{"$f":"IF(ISNUMBER(MATCH(B850,Lists!$D$3:$D$11,0)),1,0)","v":0},{"$f":"IF(ISNUMBER(MATCH(B850,Lists!$F$3:$F$14,0)),1,0)","v":0},-1,"",0,null,0,0,0,0,0,0]
["","",null,null,null,null,null,null,null,null,null,{"$f":"IF(ISNUMBER(MATCH(B851,Lists!$D$3:$D$11,0)),1,0)","v":0},{"$f":"IF(ISNUMBER(MATCH(B851,Lists!$F$3:$F$14,0)),1,0)","v":0},-1,"",0,null,0,0,0,0,0,0]
["","",null,null,null,null,null,null,null,null,null,{"$f":"IF(ISNUMBER(MATCH(B852,Lists!$D$3:$D$11,0)),1,0)","v":0},{"$f":"IF(ISNUMBER(MATCH(B852,Lists!$F$3:$F$14,0)),1,0)","v":0},-1,{"$f":"IFERROR(VLOOKUP(B852,VehicleLookUp,2,FALSE),\"\")","v":""},0,null,0,0,0,0,0,0]
["","",null,null,null,null,null,null,null,null,null,{"$f":"IF(ISNUMBER(MATCH(B853,Lists!$D$3:$D$11,0)),1,0)","v":0},{"$f":"IF(ISNUMBER(MATCH(B853,Lists!$F$3:$F$14,0)),1,0)","v":0},{"$f":"IF(COUNTBLANK(A853:J853)=10,-1,10-((2-COUNTBLANK(A853:B853))+COUNTIF(C853:J853,\"y\")+COUNTIF(C853:J853,\"n\")))","v":-1},"",0,null,0,0,0,0,0,0]
["","",null,null,null,null,null,null,null,null,null,{"$f":"IF(ISNUMBER(MATCH(B854,Lists!$D$3:$D$11,0)),1,0)","v":0},{"$f":"IF(ISNUMBER(MATCH(B854,Lists!$F$3:$F$14,0)),1,0)","v":0},-1,"",0,null,0,0,0,0,0,0]
["","",null,null,null,null,null,null,null,null,null,{"$f":"IF(ISNUMBER(MATCH(B855,Lists!$D$3:$D$11,0)),1,0)","v":0},{"$f":"IF(ISNUMBER(MATCH(B855,Lists!$F$3:$F$14,0)),1,0)","v":0},-1,"",0,null,0,0,0,0,0,0]
["","",null,null,null,null,null,null,null,null,null,{"$f":"IF(ISNUMBER(MATCH(B856,Lists!$D$3:$D$11,0)),1,0)","v":0},{"$f":"IF(ISNUMBER(MATCH(B856,Lists!$F$3:$F$14,0)),1,0)","v":0},-1,"",0,null,0,0,0,0,0,0]
["","",null,null,null,null,null,null,null,null,null,{"$f":"IF(ISNUMBER(MATCH(B857,Lists!$D$3:$D$11,0)),1,0)","v":0},{"$f":"IF(ISNUMBER(MATCH(B857,Lists!$F$3:$F$14,0)),1,0)","v":0},-1,"",0,null,0,0,0,0,0,0]
["","",null,null,null,null,null,null,null,null,null,{"$f":"IF(ISNUMBER(MATCH(B858,Lists!$D$3:$D$11,0)),1,0)","v":0},{"$f":"IF(ISNUMBER(MATCH(B858,Lists!$F$3:$F$14,0)),1,0)","v":0},-1,"",0,null,0,0,0,0,0,0]
["","",null,null,null,null,null,null,null,null,null,{"$f":"IF(ISNUMBER(MATCH(B859,Lists!$D$3:$D$11,0)),1,0)","v":0},{"$f":"IF(ISNUMBER(MATCH(B859,Lists!$F$3:$F$14,0)),1,0)","v":0},-1,"",0,null,0,0,0,0,0,0]
["","",null,null,null,null,null,null,null,null,null,{"$f":"IF(ISNUMBER(MATCH(B860,Lists!$D$3:$D$11,0)),1,0)","v":0},{"$f":"IF(ISNUMBER(MATCH(B860,Lists!$F$3:$F$14,0)),1,0)","v":0},-1,"",0,null,0,0,0,0,0,0]
["","",null,null,null,null,null,null,null,null,null,{"$f":"IF(ISNUMBER(MATCH(B861,Lists!$D$3:$D$11,0)),1,0)","v":0},{"$f":"IF(ISNUMBER(MATCH(B861,Lists!$F$3:$F$14,0)),1,0)","v":0},-1,"",0,null,0,0,0,0,0,0]
["","",null,null,null,null,null,null,null,null,null,{"$f":"IF(ISNUMBER(MATCH(B862,Lists!$D$3:$D$11,0)),1,0)","v":0},{"$f":"IF(ISNUMBER(MATCH(B862,Lists!$F$3:$F$14,0)),1,0)","v":0},-1,"",0,null,0,0,0,0,0,0]
["","",null,null,null,null,null,null,null,null,null,{"$f":"IF(ISNUMBER(MATCH(B863,Lists!$D$3:$D$11,0)),1,0)","v":0},{"$f":"IF(ISNUMBER(MATCH(B863,Lists!$F$3:$F$14,0)),1,0)","v":0},-1,"",0,null,0,0,0,0,0,0]
["","",null,null,null,null,null,null,null,null,null,{"$f":"IF(ISNUMBER(MATCH(B864,Lists!$D$3:$D$11,0)),1,0)","v":0},{"$f":"IF(ISNUMBER(MATCH(B864,Lists!$F$3:$F$14,0)),1,0)","v":0},-1,"",0,null,0,0,0,0,0,0]
["","",null,null,null,null,null,null,null,null,null,{"$f":"IF(ISNUMBER(MATCH(B865,Lists!$D$3:$D$11,0)),1,0)","v":0},{"$f":"IF(ISNUMBER(MATCH(B865,Lists!$F$3:$F$14,0)),1,0)","v":0},-1,"",0,null,0,0,0,0,0,0]
["","",null,null,null,null,null,null,null,null,null,{"$f":"IF(ISNUMBER(MATCH(B866,Lists!$D$3:$D$11,0)),1,0)","v":0},{"$f":"IF(ISNUMBER(MATCH(B866,Lists!$F$3:$F$14,0)),1,0)","v":0},-1,"",0,null,0,0,0,0,0,0]
["","",null,null,null,null,null,null,null,null,null,{"$f":"IF(ISNUMBER(MATCH(B867,Lists!$D$3:$D$11,0)),1,0)","v":0},{"$f":"IF(ISNUMBER(MATCH(B867,Lists!$F$3:$F$14,0)),1,0)","v":0},-1,"",0,null,0,0,0,0,0,0]
["","",null,null,null,null,null,null,null,null,null,{"$f":"IF(ISNUMBER(MATCH(B868,Lists!$D$3:$D$11,0)),1,0)","v":0},{"$f":"IF(ISNUMBER(MATCH(B868,Lists!$F$3:$F$14,0)),1,0)","v":0},-1,"",0,null,0,0,0,0,0,0]
["","",null,null,null,null,null,null,null,null,null,{"$f":"IF(ISNUMBER(MATCH(B869,Lists!$D$3:$D$11,0)),1,0)","v":0},{"$f":"IF(ISNUMBER(MATCH(B869,Lists!$F$3:$F$14,0)),1,0)","v":0},-1,"",0,null,0,0,0,0,0,0]
["","",null,null,null,null,null,null,null,null,null,{"$f":"IF(ISNUMBER(MATCH(B870,Lists!$D$3:$D$11,0)),1,0)","v":0},{"$f":"IF(ISNUMBER(MATCH(B870,Lists!$F$3:$F$14,0)),1,0)","v":0},-1,"",0,null,0,0,0,0,0,0]
["","",null,null,null,null,null,null,null,null,null,{"$f":"IF(ISNUMBER(MATCH(B871,Lists!$D$3:$D$11,0)),1,0)","v":0},{"$f":"IF(ISNUMBER(MATCH(B871,Lists!$F$3:$F$14,0)),1,0)","v":0},-1,"",0,null,0,0,0,0,0,0]
["","",null,null,null,null,null,null,null,null,null,{"$f":"IF(ISNUMBER(MATCH(B872,Lists!$D$3:$D$11,0)),1,0)","v":0},{"$f":"IF(ISNUMBER(MATCH(B872,Lists!$F$3:$F$14,0)),1,0)","v":0},-1,"",0,null,0,0,0,0,0,0]
["","",null,null,null,null,null,null,null,null,null,{"$f":"IF(ISNUMBER(MATCH(B873,Lists!$D$3:$D$11,0)),1,0)","v":0},{"$f":"IF(ISNUMBER(MATCH(B873,Lists!$F$3:$F$14,0)),1,0)","v":0},-1,"",0,null,0,0,0,0,0,0]
["","",null,null,null,null,null,null,null,null,null,{"$f":"IF(ISNUMBER(MATCH(B874,Lists!$D$3:$D$11,0)),1,0)","v":0},{"$f":"IF(ISNUMBER(MATCH(B874,Lists!$F$3:$F$14,0)),1,0)","v":0},-1,"",0,null,0,0,0,0,0,0]
["","",null,null,null,null,null,null,null,null,null,{"$f":"IF(ISNUMBER(MATCH(B875,Lists!$D$3:$D$11,0)),1,0)","v":0},{"$f":"IF(ISNUMBER(MATCH(B875,Lists!$F$3:$F$14,0)),1,0)","v":0},-1,"",0,null,0,0,0,0,0,0]
["","",null,null,null,null,null,null,null,null,null,{"$f":"IF(ISNUMBER(MATCH(B876,Lists!$D$3:$D$11,0)),1,0)","v":0},{"$f":"IF(ISNUMBER(MATCH(B876,Lists!$F$3:$F$14,0)),1,0)","v":0},-1,"",0,null,0,0,0,0,0,0]
["","",null,null,null,null,null,null,null,null,null,{"$f":"IF(ISNUMBER(MATCH(B877,Lists!$D$3:$D$11,0)),1,0)","v":0},{"$f":"IF(ISNUMBER(MATCH(B877,Lists!$F$3:$F$14,0)),1,0)","v":0},-1,"",0,null,0,0,0,0,0,0]
["","",null,null,null,null,null,null,null,null,null,{"$f":"IF(ISNUMBER(MATCH(B878,Lists!$D$3:$D$11,0)),1,0)","v":0},{"$f":"IF(ISNUMBER(MATCH(B878,Lists!$F$3:$F$14,0)),1,0)","v":0},-1,"",0,null,0,0,0,0,0,0]
["","",null,null,null,null,null,null,null,null,null,{"$f":"IF(ISNUMBER(MATCH(B879,Lists!$D$3:$D$11,0)),1,0)","v":0},{"$f":"IF(ISNUMBER(MATCH(B879,Lists!$F$3:$F$14,0)),1,0)","v":0},-1,"",0,null,0,0,0,0,0,0]
["","",null,null,null,null,null,null,null,null,null,{"$f":"IF(ISNUMBER(MATCH(B880,Lists!$D$3:$D$11,0)),1,0)","v":0},{"$f":"IF(ISNUMBER(MATCH(B880,Lists!$F$3:$F$14,0)),1,0)","v":0},-1,"",0,null,0,0,0,0,0,0]
["","",null,null,null,null,null,null,null,null,null,{"$f":"IF(ISNUMBER(MATCH(B881,Lists!$D$3:$D$11,0)),1,0)","v":0},{"$f":"IF(ISNUMBER(MATCH(B881,Lists!$F$3:$F$14,0)),1,0)","v":0},-1,"",0,null,0,0,0,0,0,0]
["","",null,null,null,null,null,null,null,null,null,{"$f":"IF(ISNUMBER(MATCH(B882,Lists!$D$3:$D$11,0)),1,0)","v":0},{"$f":"IF(ISNUMBER(MATCH(B882,Lists!$F$3:$F$14,0)),1,0)","v":0},-1,"",0,null,0,0,0,0,0,0]
["","",null,null,null,null,null,null,null,null,null,{"$f":"IF(ISNUMBER(MATCH(B883,Lists!$D$3:$D$11,0)),1,0)","v":0},{"$f":"IF(ISNUMBER(MATCH(B883,Lists!$F$3:$F$14,0)),1,0)","v":0},-1,"",0,null,0,0,0,0,0,0]
["","",null,null,null,null,null,null,null,null,null,{"$f":"IF(ISNUMBER(MATCH(B884,Lists!$D$3:$D$11,0)),1,0)","v":0},{"$f":"IF(ISNUMBER(MATCH(B884,Lists!$F$3:$F$14,0)),1,0)","v":0},-1,"",0,null,0,0,0,0,0,0]
["","",null,null,null,null,null,null,null,null,null,{"$f":"IF(ISNUMBER(MATCH(B885,Lists!$D$3:$D$11,0)),1,0)","v":0},{"$f":"IF(ISNUMBER(MATCH(B885,Lists!$F$3:$F$14,0)),1,0)","v":0},-1,"",0,null,0,0,0,0,0,0]
["","",null,null,null,null,null,null,null,null,null,{"$f":"IF(ISNUMBER(MATCH(B886,Lists!$D$3:$D$11,0)),1,0)","v":0},{"$f":"IF(ISNUMBER(MATCH(B886,Lists!$F$3:$F$14,0)),1,0)","v":0},-1,"",0,null,0,0,0,0,0,0]
["","",null,null,null,null,null,null,null,null,null,{"$f":"IF(ISNUMBER(MATCH(B887,Lists!$D$3:$D$11,0)),1,0)","v":0},{"$f":"IF(ISNUMBER(MATCH(B887,Lists!$F$3:$F$14,0)),1,0)","v":0},-1,"",0,null,0,0,0,0,0,0]
["","",null,null,null,null,null,null,null,null,null,{"$f":"IF(ISNUMBER(MATCH(B888,Lists!$D$3:$D$11,0)),1,0)","v":0},{"$f":"IF(ISNUMBER(MATCH(B888,Lists!$F$3:$F$14,0)),1,0)","v":0},-1,"",0,null,0,0,0,0,0,0]
["","",null,null,null,null,null,null,null,null,null,{"$f":"IF(ISNUMBER(MATCH(B889,Lists!$D$3:$D$11,0)),1,0)","v":0},{"$f":"IF(ISNUMBER(MATCH(B889,Lists!$F$3:$F$14,0)),1,0)","v":0},-1,"",0,null,0,0,0,0,0,0]
["","",null,null,null,null,null,null,null,null,null,{"$f":"IF(ISNUMBER(MATCH(B890,Lists!$D$3:$D$11,0)),1,0)","v":0},{"$f":"IF(ISNUMBER(MATCH(B890,Lists!$F$3:$F$14,0)),1,0)","v":0},-1,"",0,null,0,0,0,0,0,0]
["","",null,null,null,null,null,null,null,null,null,{"$f":"IF(ISNUMBER(MATCH(B891,Lists!$D$3:$D$11,0)),1,0)","v":0},{"$f":"IF(ISNUMBER(MATCH(B891,Lists!$F$3:$F$14,0)),1,0)","v":0},-1,"",0,null,0,0,0,0,0,0]
["","",null,null,null,null,null,null,null,null,null,{"$f":"IF(ISNUMBER(MATCH(B892,Lists!$D$3:$D$11,0)),1,0)","v":0},{"$f":"IF(ISNUMBER(MATCH(B892,Lists!$F$3:$F$14,0)),1,0)","v":0},-1,"",0,null,0,0,0,0,0,0]
["","",null,null,null,null,null,null,null,null,null,{"$f":"IF(ISNUMBER(MATCH(B893,Lists!$D$3:$D$11,0)),1,0)","v":0},{"$f":"IF(ISNUMBER(MATCH(B893,Lists!$F$3:$F$14,0)),1,0)","v":0},-1,"",0,null,0,0,0,0,0,0]
["","",null,null,null,null,null,null,null,null,null,{"$f":"IF(ISNUMBER(MATCH(B894,Lists!$D$3:$D$11,0)),1,0)","v":0},{"$f":"IF(ISNUMBER(MATCH(B894,Lists!$F$3:$F$14,0)),1,0)","v":0},-1,"",0,null,0,0,0,0,0,0]
["","",null,null,null,null,null,null,null,null,null,{"$f":"IF(ISNUMBER(MATCH(B895,Lists!$D$3:$D$11,0)),1,0)","v":0},{"$f":"IF(ISNUMBER(MATCH(B895,Lists!$F$3:$F$14,0)),1,0)","v":0},-1,"",0,null,0,0,0,0,0,0]
["","",null,null,null,null,null,null,null,null,null,{"$f":"IF(ISNUMBER(MATCH(B896,Lists!$D$3:$D$11,0)),1,0)","v":0},{"$f":"IF(ISNUMBER(MATCH(B896,Lists!$F$3:$F$14,0)),1,0)","v":0},-1,"",0,null,0,0,0,0,0,0]
["","",null,null,null,null,null,null,null,null,null,{"$f":"IF(ISNUMBER(MATCH(B897,Lists!$D$3:$D$11,0)),1,0)","v":0},{"$f":"IF(ISNUMBER(MATCH(B897,Lists!$F$3:$F$14,0)),1,0)","v":0},-1,"",0,null,0,0,0,0,0,0]
["","",null,null,null,null,null,null,null,null,null,{"$f":"IF(ISNUMBER(MATCH(B898,Lists!$D$3:$D$11,0)),1,0)","v":0},{"$f":"IF(ISNUMBER(MATCH(B898,Lists!$F$3:$F$14,0)),1,0)","v":0},-1,"",0,null,0,0,0,0,0,0]
["","",null,null,null,null,null,null,null,null,null,{"$f":"IF(ISNUMBER(MATCH(B899,Lists!$D$3:$D$11,0)),1,0)","v":0},{"$f":"IF(ISNUMBER(MATCH(B899,Lists!$F$3:$F$14,0)),1,0)","v":0},-1,"",0,null,0,0,0,0,0,0]
["","",null,null,null,null,null,null,null,null,null,{"$f":"IF(ISNUMBER(MATCH(B900,Lists!$D$3:$D$11,0)),1,0)","v":0},{"$f":"IF(ISNUMBER(MATCH(B900,Lists!$F$3:$F$14,0)),1,0)","v":0},-1,"",0,null,0,0,0,0,0,0]
["","",null,null,null,null,null,null,null,null,null,{"$f":"IF(ISNUMBER(MATCH(B901,Lists!$D$3:$D$11,0)),1,0)","v":0},{"$f":"IF(ISNUMBER(MATCH(B901,Lists!$F$3:$F$14,0)),1,0)","v":0},-1,"",0,null,0,0,0,0,0,0]
["","",null,null,null,null,null,null,null,null,null,{"$f":"IF(ISNUMBER(MATCH(B902,Lists!$D$3:$D$11,0)),1,0)","v":0},{"$f":"IF(ISNUMBER(MATCH(B902,Lists!$F$3:$F$14,0)),1,0)","v":0},-1,"",0,null,0,0,0,0,0,0]
["","",null,null,null,null,null,null,null,null,null,{"$f":"IF(ISNUMBER(MATCH(B903,Lists!$D$3:$D$11,0)),1,0)","v":0},{"$f":"IF(ISNUMBER(MATCH(B903,Lists!$F$3:$F$14,0)),1,0)","v":0},-1,"",0,null,0,0,0,0,0,0]
["","",null,null,null,null,null,null,null,null,null,{"$f":"IF(ISNUMBER(MATCH(B904,Lists!$D$3:$D$11,0)),1,0)","v":0},{"$f":"IF(ISNUMBER(MATCH(B904,Lists!$F$3:$F$14,0)),1,0)","v":0},-1,"",0,null,0,0,0,0,0,0]
["","",null,null,null,null,null,null,null,null,null,{"$f":"IF(ISNUMBER(MATCH(B905,Lists!$D$3:$D$11,0)),1,0)","v":0},{"$f":"IF(ISNUMBER(MATCH(B905,Lists!$F$3:$F$14,0)),1,0)","v":0},-1,"",0,null,0,0,0,0,0,0]
["","",null,null,null,null,null,null,null,null,null,{"$f":"IF(ISNUMBER(MATCH(B906,Lists!$D$3:$D$11,0)),1,0)","v":0},{"$f":"IF(ISNUMBER(MATCH(B906,Lists!$F$3:$F$14,0)),1,0)","v":0},-1,"",0,null,0,0,0,0,0,0]
["","",null,null,null,null,null,null,null,null,null,{"$f":"IF(ISNUMBER(MATCH(B907,Lists!$D$3:$D$11,0)),1,0)","v":0},{"$f":"IF(ISNUMBER(MATCH(B907,Lists!$F$3:$F$14,0)),1,0)","v":0},-1,"",0,null,0,0,0,0,0,0]
["","",null,null,null,null,null,null,null,null,null,{"$f":"IF(ISNUMBER(MATCH(B908,Lists!$D$3:$D$11,0)),1,0)","v":0},{"$f":"IF(ISNUMBER(MATCH(B908,Lists!$F$3:$F$14,0)),1,0)","v":0},-1,"",0,null,{"$f":"IFERROR(IF( VLOOKUP($B908,CheckData,3,FALSE)=1,IF($E908=\"n\",1,0),0),0)","v":0},{"$f":"IFERROR(IF( VLOOKUP($B908,CheckData,4,FALSE)=1,IF($F908=\"n\",1,0),0),0)","v":0},{"$f":"IFERROR(IF( VLOOKUP($B908,CheckData,5,FALSE)=1,IF($G908=\"n\",1,0),0),0)","v":0},{"$f":"IFERROR(IF( OR($D908=\"y\",AND(VLOOKUP($B908,CheckData,6,FALSE)=1, $C908=\"n\")),IF($H908=\"n\",1,0),0),0)","v":0},{"$f":"IFERROR(IF( VLOOKUP($B908,CheckData,7,FALSE)=1,IF($I908=\"n\",1,0),0),0)","v":0},{"$f":"IFERROR(IF(AND( VLOOKUP($B908,CheckData,8,FALSE)=1, $C908=\"y\"),IF(AND($J908=\"n\",AND($D908=\"n\",$H908=\"n\")),1,0),0),0)","v":0}]
["","",null,null,null,null,null,null,null,null,null,{"$f":"IF(ISNUMBER(MATCH(B909,Lists!$D$3:$D$11,0)),1,0)","v":0},{"$f":"IF(ISNUMBER(MATCH(B909,Lists!$F$3:$F$14,0)),1,0)","v":0},-1,"",{"$f":"SUM(Q909:W909)","v":0},null,0,0,0,0,0,0]
["","",null,null,null,null,null,null,null,null,null,{"$f":"IF(ISNUMBER(MATCH(B910,Lists!$D$3:$D$11,0)),1,0)","v":0},{"$f":"IF(ISNUMBER(MATCH(B910,Lists!$F$3:$F$14,0)),1,0)","v":0},-1,"",0,null,0,0,0,0,0,0]
["","",null,null,null,null,null,null,null,null,null,{"$f":"IF(ISNUMBER(MATCH(B911,Lists!$D$3:$D$11,0)),1,0)","v":0},{"$f":"IF(ISNUMBER(MATCH(B911,Lists!$F$3:$F$14,0)),1,0)","v":0},-1,"",0,null,0,0,0,0,0,0]
[null,null,null,null,null,null,null,null,null,null,null,{"$f":"IF(ISNUMBER(MATCH(B912,Lists!$D$3:$D$11,0)),1,0)","v":0},{"$f":"IF(ISNUMBER(MATCH(B912,Lists!$F$3:$F$14,0)),1,0)","v":0},-1,"",0,null,0,0,0,0,0,0]
[null,null,null,null,null,null,null,null,null,null,null,{"$f":"IF(ISNUMBER(MATCH(B913,Lists!$D$3:$D$11,0)),1,0)","v":0},{"$f":"IF(ISNUMBER(MATCH(B913,Lists!$F$3:$F$14,0)),1,0)","v":0},-1,"",0,null,0,0,0,0,0,0]
[null,null,null,null,null,null,null,null,null,null,null,{"$f":"IF(ISNUMBER(MATCH(B914,Lists!$D$3:$D$11,0)),1,0)","v":0},{"$f":"IF(ISNUMBER(MATCH(B914,Lists!$F$3:$F$14,0)),1,0)","v":0},-1,"",0,null,0,0,0,0,0,0]
[null,null,null,null,null,null,null,null,null,null,null,{"$f":"IF(ISNUMBER(MATCH(B915,Lists!$D$3:$D$11,0)),1,0)","v":0},{"$f":"IF(ISNUMBER(MATCH(B915,Lists!$F$3:$F$14,0)),1,0)","v":0},-1,"",0,null,0,0,0,0,0,0]
[null,"",null,null,null,null,null,null,null,null,null,{"$f":"IF(ISNUMBER(MATCH(B916,Lists!$D$3:$D$11,0)),1,0)","v":0},{"$f":"IF(ISNUMBER(MATCH(B916,Lists!$F$3:$F$14,0)),1,0)","v":0},-1,{"$f":"IFERROR(VLOOKUP(B916,VehicleLookUp,2,FALSE),\"\")","v":""},0,null,0,0,0,0,0,0]
[null,"",null,null,null,null,null,null,null,null,null,{"$f":"IF(ISNUMBER(MATCH(B917,Lists!$D$3:$D$11,0)),1,0)","v":0},{"$f":"IF(ISNUMBER(MATCH(B917,Lists!$F$3:$F$14,0)),1,0)","v":0},{"$f":"IF(COUNTBLANK(A917:J917)=10,-1,10-((2-COUNTBLANK(A917:B917))+COUNTIF(C917:J917,\"y\")+COUNTIF(C917:J917,\"n\")))","v":-1},"",0,null,0,0,0,0,0,0]
[null,"",null,null,null,null,null,null,null,null,null,{"$f":"IF(ISNUMBER(MATCH(B918,Lists!$D$3:$D$11,0)),1,0)","v":0},{"$f":"IF(ISNUMBER(MATCH(B918,Lists!$F$3:$F$14,0)),1,0)","v":0},-1,"",0,null,0,0,0,0,0,0]
[null,"",null,null,null,null,null,null,null,null,null,{"$f":"IF(ISNUMBER(MATCH(B919,Lists!$D$3:$D$11,0)),1,0)","v":0},{"$f":"IF(ISNUMBER(MATCH(B919,Lists!$F$3:$F$14,0)),1,0)","v":0},-1,"",0,null,0,0,0,0,0,0]
[null,"",null,null,null,null,null,null,null,null,null,{"$f":"IF(ISNUMBER(MATCH(B920,Lists!$D$3:$D$11,0)),1,0)","v":0},{"$f":"IF(ISNUMBER(MATCH(B920,Lists!$F$3:$F$14,0)),1,0)","v":0},-1,"",0,null,0,0,0,0,0,0]
[null,"",null,null,null,null,null,null,null,null,null,{"$f":"IF(ISNUMBER(MATCH(B921,Lists!$D$3:$D$11,0)),1,0)","v":0},{"$f":"IF(ISNUMBER(MATCH(B921,Lists!$F$3:$F$14,0)),1,0)","v":0},-1,"",0,null,0,0,0,0,0,0]
[null,"",null,null,null,null,null,null,null,null,null,{"$f":"IF(ISNUMBER(MATCH(B922,Lists!$D$3:$D$11,0)),1,0)","v":0},{"$f":"IF(ISNUMBER(MATCH(B922,Lists!$F$3:$F$14,0)),1,0)","v":0},-1,"",0,null,0,0,0,0,0,0]
["","",null,null,null,null,null,null,null,null,null,{"$f":"IF(ISNUMBER(MATCH(B923,Lists!$D$3:$D$11,0)),1,0)","v":0},{"$f":"IF(ISNUMBER(MATCH(B923,Lists!$F$3:$F$14,0)),1,0)","v":0},-1,"",0,null,0,0,0,0,0,0]
["","",null,null,null,null,null,null,null,null,null,{"$f":"IF(ISNUMBER(MATCH(B924,Lists!$D$3:$D$11,0)),1,0)","v":0},{"$f":"IF(ISNUMBER(MATCH(B924,Lists!$F$3:$F$14,0)),1,0)","v":0},-1,"",0,null,0,0,0,0,0,0]
["","",null,null,null,null,null,null,null,null,null,{"$f":"IF(ISNUMBER(MATCH(B925,Lists!$D$3:$D$11,0)),1,0)","v":0},{"$f":"IF(ISNUMBER(MATCH(B925,Lists!$F$3:$F$14,0)),1,0)","v":0},-1,"",0,null,0,0,0,0,0,0]
["","",null,null,null,null,null,null,null,null,null,{"$f":"IF(ISNUMBER(MATCH(B926,Lists!$D$3:$D$11,0)),1,0)","v":0},{"$f":"IF(ISNUMBER(MATCH(B926,Lists!$F$3:$F$14,0)),1,0)","v":0},-1,"",0,null,0,0,0,0,0,0]
["","",null,null,null,null,null,null,null,null,null,{"$f":"IF(ISNUMBER(MATCH(B927,Lists!$D$3:$D$11,0)),1,0)","v":0},{"$f":"IF(ISNUMBER(MATCH(B927,Lists!$F$3:$F$14,0)),1,0)","v":0},-1,"",0,null,0,0,0,0,0,0]
["","",null,null,null,null,null,null,null,null,null,{"$f":"IF(ISNUMBER(MATCH(B928,Lists!$D$3:$D$11,0)),1,0)","v":0},{"$f":"IF(ISNUMBER(MATCH(B928,Lists!$F$3:$F$14,0)),1,0)","v":0},-1,"",0,null,0,0,0,0,0,0]
["","",null,null,null,null,null,null,null,null,null,{"$f":"IF(ISNUMBER(MATCH(B929,Lists!$D$3:$D$11,0)),1,0)","v":0},{"$f":"IF(ISNUMBER(MATCH(B929,Lists!$F$3:$F$14,0)),1,0)","v":0},-1,"",0,null,0,0,0,0,0,0]
["","",null,null,null,null,null,null,null,null,null,{"$f":"IF(ISNUMBER(MATCH(B930,Lists!$D$3:$D$11,0)),1,0)","v":0},{"$f":"IF(ISNUMBER(MATCH(B930,Lists!$F$3:$F$14,0)),1,0)","v":0},-1,"",0,null,0,0,0,0,0,0]
["","",null,null,null,null,null,null,null,null,null,{"$f":"IF(ISNUMBER(MATCH(B931,Lists!$D$3:$D$11,0)),1,0)","v":0},{"$f":"IF(ISNUMBER(MATCH(B931,Lists!$F$3:$F$14,0)),1,0)","v":0},-1,"",0,null,0,0,0,0,0,0]
["","",null,null,null,null,null,null,null,null,null,{"$f":"IF(ISNUMBER(MATCH(B932,Lists!$D$3:$D$11,0)),1,0)","v":0},{"$f":"IF(ISNUMBER(MATCH(B932,Lists!$F$3:$F$14,0)),1,0)","v":0},-1,"",0,null,0,0,0,0,0,0]
["","",null,null,null,null,null,null,null,null,null,{"$f":"IF(ISNUMBER(MATCH(B933,Lists!$D$3:$D$11,0)),1,0)","v":0},{"$f":"IF(ISNUMBER(MATCH(B933,Lists!$F$3:$F$14,0)),1,0)","v":0},-1,"",0,null,0,0,0,0,0,0]
["","",null,null,null,null,null,null,null,null,null,{"$f":"IF(ISNUMBER(MATCH(B934,Lists!$D$3:$D$11,0)),1,0)","v":0},{"$f":"IF(ISNUMBER(MATCH(B934,Lists!$F$3:$F$14,0)),1,0)","v":0},-1,"",0,null,0,0,0,0,0,0]
["","",null,null,null,null,null,null,null,null,null,{"$f":"IF(ISNUMBER(MATCH(B935,Lists!$D$3:$D$11,0)),1,0)","v":0},{"$f":"IF(ISNUMBER(MATCH(B935,Lists!$F$3:$F$14,0)),1,0)","v":0},-1,"",0,null,0,0,0,0,0,0]
["","",null,null,null,null,null,null,null,null,null,{"$f":"IF(ISNUMBER(MATCH(B936,Lists!$D$3:$D$11,0)),1,0)","v":0},{"$f":"IF(ISNUMBER(MATCH(B936,Lists!$F$3:$F$14,0)),1,0)","v":0},-1,"",0,null,0,0,0,0,0,0]
["","",null,null,null,null,null,null,null,null,null,{"$f":"IF(ISNUMBER(MATCH(B937,Lists!$D$3:$D$11,0)),1,0)","v":0},{"$f":"IF(ISNUMBER(MATCH(B937,Lists!$F$3:$F$14,0)),1,0)","v":0},-1,"",0,null,0,0,0,0,0,0]
["","",null,null,null,null,null,null,null,null,null,{"$f":"IF(ISNUMBER(MATCH(B938,Lists!$D$3:$D$11,0)),1,0)","v":0},{"$f":"IF(ISNUMBER(MATCH(B938,Lists!$F$3:$F$14,0)),1,0)","v":0},-1,"",0,null,0,0,0,0,0,0]
["","",null,null,null,null,null,null,null,null,null,{"$f":"IF(ISNUMBER(MATCH(B939,Lists!$D$3:$D$11,0)),1,0)","v":0},{"$f":"IF(ISNUMBER(MATCH(B939,Lists!$F$3:$F$14,0)),1,0)","v":0},-1,"",0,null,0,0,0,0,0,0]
["","",null,null,null,null,null,null,null,null,null,{"$f":"IF(ISNUMBER(MATCH(B940,Lists!$D$3:$D$11,0)),1,0)","v":0},{"$f":"IF(ISNUMBER(MATCH(B940,Lists!$F$3:$F$14,0)),1,0)","v":0},-1,"",0,null,0,0,0,0,0,0]
["","",null,null,null,null,null,null,null,null,null,{"$f":"IF(ISNUMBER(MATCH(B941,Lists!$D$3:$D$11,0)),1,0)","v":0},{"$f":"IF(ISNUMBER(MATCH(B941,Lists!$F$3:$F$14,0)),1,0)","v":0},-1,"",0,null,0,0,0,0,0,0]
["","",null,null,null,null,null,null,null,null,null,{"$f":"IF(ISNUMBER(MATCH(B942,Lists!$D$3:$D$11,0)),1,0)","v":0},{"$f":"IF(ISNUMBER(MATCH(B942,Lists!$F$3:$F$14,0)),1,0)","v":0},-1,"",0,null,0,0,0,0,0,0]
["","",null,null,null,null,null,null,null,null,null,{"$f":"IF(ISNUMBER(MATCH(B943,Lists!$D$3:$D$11,0)),1,0)","v":0},{"$f":"IF(ISNUMBER(MATCH(B943,Lists!$F$3:$F$14,0)),1,0)","v":0},-1,"",0,null,0,0,0,0,0,0]
["","",null,null,null,null,null,null,null,null,null,{"$f":"IF(ISNUMBER(MATCH(B944,Lists!$D$3:$D$11,0)),1,0)","v":0},{"$f":"IF(ISNUMBER(MATCH(B944,Lists!$F$3:$F$14,0)),1,0)","v":0},-1,"",0,null,0,0,0,0,0,0]
["","",null,null,null,null,null,null,null,null,null,{"$f":"IF(ISNUMBER(MATCH(B945,Lists!$D$3:$D$11,0)),1,0)","v":0},{"$f":"IF(ISNUMBER(MATCH(B945,Lists!$F$3:$F$14,0)),1,0)","v":0},-1,"",0,null,0,0,0,0,0,0]
["","",null,null,null,null,null,null,null,null,null,{"$f":"IF(ISNUMBER(MATCH(B946,Lists!$D$3:$D$11,0)),1,0)","v":0},{"$f":"IF(ISNUMBER(MATCH(B946,Lists!$F$3:$F$14,0)),1,0)","v":0},-1,"",0,null,0,0,0,0,0,0]
["","",null,null,null,null,null,null,null,null,null,{"$f":"IF(ISNUMBER(MATCH(B947,Lists!$D$3:$D$11,0)),1,0)","v":0},{"$f":"IF(ISNUMBER(MATCH(B947,Lists!$F$3:$F$14,0)),1,0)","v":0},-1,"",0,null,0,0,0,0,0,0]
["","",null,null,null,null,null,null,null,null,null,{"$f":"IF(ISNUMBER(MATCH(B948,Lists!$D$3:$D$11,0)),1,0)","v":0},{"$f":"IF(ISNUMBER(MATCH(B948,Lists!$F$3:$F$14,0)),1,0)","v":0},-1,"",0,null,0,0,0,0,0,0]
["","",null,null,null,null,null,null,null,null,null,{"$f":"IF(ISNUMBER(MATCH(B949,Lists!$D$3:$D$11,0)),1,0)","v":0},{"$f":"IF(ISNUMBER(MATCH(B949,Lists!$F$3:$F$14,0)),1,0)","v":0},-1,"",0,null,0,0,0,0,0,0]
["","",null,null,null,null,null,null,null,null,null,{"$f":"IF(ISNUMBER(MATCH(B950,Lists!$D$3:$D$11,0)),1,0)","v":0},{"$f":"IF(ISNUMBER(MATCH(B950,Lists!$F$3:$F$14,0)),1,0)","v":0},-1,"",0,null,0,0,0,0,0,0]
["","",null,null,null,null,null,null,null,null,null,{"$f":"IF(ISNUMBER(MATCH(B951,Lists!$D$3:$D$11,0)),1,0)","v":0},{"$f":"IF(ISNUMBER(MATCH(B951,Lists!$F$3:$F$14,0)),1,0)","v":0},-1,"",0,null,0,0,0,0,0,0]
["","",null,null,null,null,null,null,null,null,null,{"$f":"IF(ISNUMBER(MATCH(B952,Lists!$D$3:$D$11,0)),1,0)","v":0},{"$f":"IF(ISNUMBER(MATCH(B952,Lists!$F$3:$F$14,0)),1,0)","v":0},-1,"",0,null,0,0,0,0,0,0]
["","",null,null,null,null,null,null,null,null,null,{"$f":"IF(ISNUMBER(MATCH(B953,Lists!$D$3:$D$11,0)),1,0)","v":0},{"$f":"IF(ISNUMBER(MATCH(B953,Lists!$F$3:$F$14,0)),1,0)","v":0},-1,"",0,null,0,0,0,0,0,0]
["","",null,null,null,null,null,null,null,null,null,{"$f":"IF(ISNUMBER(MATCH(B954,Lists!$D$3:$D$11,0)),1,0)","v":0},{"$f":"IF(ISNUMBER(MATCH(B954,Lists!$F$3:$F$14,0)),1,0)","v":0},-1,"",0,null,0,0,0,0,0,0]
["","",null,null,null,null,null,null,null,null,null,{"$f":"IF(ISNUMBER(MATCH(B955,Lists!$D$3:$D$11,0)),1,0)","v":0},{"$f":"IF(ISNUMBER(MATCH(B955,Lists!$F$3:$F$14,0)),1,0)","v":0},-1,"",0,null,0,0,0,0,0,0]
["","",null,null,null,null,null,null,null,null,null,{"$f":"IF(ISNUMBER(MATCH(B956,Lists!$D$3:$D$11,0)),1,0)","v":0},{"$f":"IF(ISNUMBER(MATCH(B956,Lists!$F$3:$F$14,0)),1,0)","v":0},-1,"",0,null,0,0,0,0,0,0]
["","",null,null,null,null,null,null,null,null,null,{"$f":"IF(ISNUMBER(MATCH(B957,Lists!$D$3:$D$11,0)),1,0)","v":0},{"$f":"IF(ISNUMBER(MATCH(B957,Lists!$F$3:$F$14,0)),1,0)","v":0},-1,"",0,null,0,0,0,0,0,0]
["","",null,null,null,null,null,null,null,null,null,{"$f":"IF(ISNUMBER(MATCH(B958,Lists!$D$3:$D$11,0)),1,0)","v":0},{"$f":"IF(ISNUMBER(MATCH(B958,Lists!$F$3:$F$14,0)),1,0)","v":0},-1,"",0,null,0,0,0,0,0,0]
["","",null,null,null,null,null,null,null,null,null,{"$f":"IF(ISNUMBER(MATCH(B959,Lists!$D$3:$D$11,0)),1,0)","v":0},{"$f":"IF(ISNUMBER(MATCH(B959,Lists!$F$3:$F$14,0)),1,0)","v":0},-1,"",0,null,0,0,0,0,0,0]
["","",null,null,null,null,null,null,null,null,null,{"$f":"IF(ISNUMBER(MATCH(B960,Lists!$D$3:$D$11,0)),1,0)","v":0},{"$f":"IF(ISNUMBER(MATCH(B960,Lists!$F$3:$F$14,0)),1,0)","v":0},-1,"",0,null,0,0,0,0,0,0]
["","",null,null,null,null,null,null,null,null,null,{"$f":"IF(ISNUMBER(MATCH(B961,Lists!$D$3:$D$11,0)),1,0)","v":0},{"$f":"IF(ISNUMBER(MATCH(B961,Lists!$F$3:$F$14,0)),1,0)","v":0},-1,"",0,null,0,0,0,0,0,0]
["","",null,null,null,null,null,null,null,null,null,{"$f":"IF(ISNUMBER(MATCH(B962,Lists!$D$3:$D$11,0)),1,0)","v":0},{"$f":"IF(ISNUMBER(MATCH(B962,Lists!$F$3:$F$14,0)),1,0)","v":0},-1,"",0,null,0,0,0,0,0,0]
["","",null,null,null,null,null,null,null,null,null,{"$f":"IF(ISNUMBER(MATCH(B963,Lists!$D$3:$D$11,0)),1,0)","v":0},{"$f":"IF(ISNUMBER(MATCH(B963,Lists!$F$3:$F$14,0)),1,0)","v":0},-1,"",0,null,0,0,0,0,0,0]
["","",null,null,null,null,null,null,null,null,null,{"$f":"IF(ISNUMBER(MATCH(B964,Lists!$D$3:$D$11,0)),1,0)","v":0},{"$f":"IF(ISNUMBER(MATCH(B964,Lists!$F$3:$F$14,0)),1,0)","v":0},-1,"",0,null,0,0,0,0,0,0]
["","",null,null,null,null,null,null,null,null,null,{"$f":"IF(ISNUMBER(MATCH(B965,Lists!$D$3:$D$11,0)),1,0)","v":0},{"$f":"IF(ISNUMBER(MATCH(B965,Lists!$F$3:$F$14,0)),1,0)","v":0},-1,"",0,null,0,0,0,0,0,0]
["","",null,null,null,null,null,null,null,null,null,{"$f":"IF(ISNUMBER(MATCH(B966,Lists!$D$3:$D$11,0)),1,0)","v":0},{"$f":"IF(ISNUMBER(MATCH(B966,Lists!$F$3:$F$14,0)),1,0)","v":0},-1,"",0,null,0,0,0,0,0,0]
["","",null,null,null,null,null,null,null,null,null,{"$f":"IF(ISNUMBER(MATCH(B967,Lists!$D$3:$D$11,0)),1,0)","v":0},{"$f":"IF(ISNUMBER(MATCH(B967,Lists!$F$3:$F$14,0)),1,0)","v":0},-1,"",0,null,0,0,0,0,0,0]
["","",null,null,null,null,null,null,null,null,null,{"$f":"IF(ISNUMBER(MATCH(B968,Lists!$D$3:$D$11,0)),1,0)","v":0},{"$f":"IF(ISNUMBER(MATCH(B968,Lists!$F$3:$F$14,0)),1,0)","v":0},-1,"",0,null,0,0,0,0,0,0]
["","",null,null,null,null,null,null,null,null,null,{"$f":"IF(ISNUMBER(MATCH(B969,Lists!$D$3:$D$11,0)),1,0)","v":0},{"$f":"IF(ISNUMBER(MATCH(B969,Lists!$F$3:$F$14,0)),1,0)","v":0},-1,"",0,null,0,0,0,0,0,0]
["","",null,null,null,null,null,null,null,null,null,{"$f":"IF(ISNUMBER(MATCH(B970,Lists!$D$3:$D$11,0)),1,0)","v":0},{"$f":"IF(ISNUMBER(MATCH(B970,Lists!$F$3:$F$14,0)),1,0)","v":0},-1,"",0,null,0,0,0,0,0,0]
["","",null,null,null,null,null,null,null,null,null,{"$f":"IF(ISNUMBER(MATCH(B971,Lists!$D$3:$D$11,0)),1,0)","v":0},{"$f":"IF(ISNUMBER(MATCH(B971,Lists!$F$3:$F$14,0)),1,0)","v":0},-1,"",0,null,0,0,0,0,0,0]
["","",null,null,null,null,null,null,null,null,null,{"$f":"IF(ISNUMBER(MATCH(B972,Lists!$D$3:$D$11,0)),1,0)","v":0},{"$f":"IF(ISNUMBER(MATCH(B972,Lists!$F$3:$F$14,0)),1,0)","v":0},-1,"",0,null,{"$f":"IFERROR(IF( VLOOKUP($B972,CheckData,3,FALSE)=1,IF($E972=\"n\",1,0),0),0)","v":0},{"$f":"IFERROR(IF( VLOOKUP($B972,CheckData,4,FALSE)=1,IF($F972=\"n\",1,0),0),0)","v":0},{"$f":"IFERROR(IF( VLOOKUP($B972,CheckData,5,FALSE)=1,IF($G972=\"n\",1,0),0),0)","v":0},{"$f":"IFERROR(IF( OR($D972=\"y\",AND(VLOOKUP($B972,CheckData,6,FALSE)=1, $C972=\"n\")),IF($H972=\"n\",1,0),0),0)","v":0},{"$f":"IFERROR(IF( VLOOKUP($B972,CheckData,7,FALSE)=1,IF($I972=\"n\",1,0),0),0)","v":0},{"$f":"IFERROR(IF(AND( VLOOKUP($B972,CheckData,8,FALSE)=1, $C972=\"y\"),IF(AND($J972=\"n\",AND($D972=\"n\",$H972=\"n\")),1,0),0),0)","v":0}]
["","",null,null,null,null,null,null,null,null,null,{"$f":"IF(ISNUMBER(MATCH(B973,Lists!$D$3:$D$11,0)),1,0)","v":0},{"$f":"IF(ISNUMBER(MATCH(B973,Lists!$F$3:$F$14,0)),1,0)","v":0},-1,"",{"$f":"SUM(Q973:W973)","v":0},null,0,0,0,0,0,0]
["","",null,null,null,null,null,null,null,null,null,{"$f":"IF(ISNUMBER(MATCH(B974,Lists!$D$3:$D$11,0)),1,0)","v":0},{"$f":"IF(ISNUMBER(MATCH(B974,Lists!$F$3:$F$14,0)),1,0)","v":0},-1,"",0,null,0,0,0,0,0,0]
["","",null,null,null,null,null,null,null,null,null,{"$f":"IF(ISNUMBER(MATCH(B975,Lists!$D$3:$D$11,0)),1,0)","v":0},{"$f":"IF(ISNUMBER(MATCH(B975,Lists!$F$3:$F$14,0)),1,0)","v":0},-1,"",0,null,0,0,0,0,0,0]
["","",null,null,null,null,null,null,null,null,null,{"$f":"IF(ISNUMBER(MATCH(B976,Lists!$D$3:$D$11,0)),1,0)","v":0},{"$f":"IF(ISNUMBER(MATCH(B976,Lists!$F$3:$F$14,0)),1,0)","v":0},-1,"",0,null,0,0,0,0,0,0]
["","",null,null,null,null,null,null,null,null,null,{"$f":"IF(ISNUMBER(MATCH(B977,Lists!$D$3:$D$11,0)),1,0)","v":0},{"$f":"IF(ISNUMBER(MATCH(B977,Lists!$F$3:$F$14,0)),1,0)","v":0},-1,"",0,null,0,0,0,0,0,0]
["","",null,null,null,null,null,null,null,null,null,{"$f":"IF(ISNUMBER(MATCH(B978,Lists!$D$3:$D$11,0)),1,0)","v":0},{"$f":"IF(ISNUMBER(MATCH(B978,Lists!$F$3:$F$14,0)),1,0)","v":0},-1,"",0,null,0,0,0,0,0,0]
["","",null,null,null,null,null,null,null,null,null,{"$f":"IF(ISNUMBER(MATCH(B979,Lists!$D$3:$D$11,0)),1,0)","v":0},{"$f":"IF(ISNUMBER(MATCH(B979,Lists!$F$3:$F$14,0)),1,0)","v":0},-1,"",0,null,0,0,0,0,0,0]
["","",null,null,null,null,null,null,null,null,null,{"$f":"IF(ISNUMBER(MATCH(B980,Lists!$D$3:$D$11,0)),1,0)","v":0},{"$f":"IF(ISNUMBER(MATCH(B980,Lists!$F$3:$F$14,0)),1,0)","v":0},-1,{"$f":"IFERROR(VLOOKUP(B980,VehicleLookUp,2,FALSE),\"\")","v":""},0,null,0,0,0,0,0,0]
["","",null,null,null,null,null,null,null,null,null,{"$f":"IF(ISNUMBER(MATCH(B981,Lists!$D$3:$D$11,0)),1,0)","v":0},{"$f":"IF(ISNUMBER(MATCH(B981,Lists!$F$3:$F$14,0)),1,0)","v":0},{"$f":"IF(COUNTBLANK(A981:J981)=10,-1,10-((2-COUNTBLANK(A981:B981))+COUNTIF(C981:J981,\"y\")+COUNTIF(C981:J981,\"n\")))","v":-1},"",0,null,0,0,0,0,0,0]
["","",null,null,null,null,null,null,null,null,null,{"$f":"IF(ISNUMBER(MATCH(B982,Lists!$D$3:$D$11,0)),1,0)","v":0},{"$f":"IF(ISNUMBER(MATCH(B982,Lists!$F$3:$F$14,0)),1,0)","v":0},-1,"",0,null,0,0,0,0,0,0]
["","",null,null,null,null,null,null,null,null,null,{"$f":"IF(ISNUMBER(MATCH(B983,Lists!$D$3:$D$11,0)),1,0)","v":0},{"$f":"IF(ISNUMBER(MATCH(B983,Lists!$F$3:$F$14,0)),1,0)","v":0},-1,"",0,null,0,0,0,0,0,0]
["","",null,null,null,null,null,null,null,null,null,{"$f":"IF(ISNUMBER(MATCH(B984,Lists!$D$3:$D$11,0)),1,0)","v":0},{"$f":"IF(ISNUMBER(MATCH(B984,Lists!$F$3:$F$14,0)),1,0)","v":0},-1,"",0,null,0,0,0,0,0,0]
["","",null,null,null,null,null,null,null,null,null,{"$f":"IF(ISNUMBER(MATCH(B985,Lists!$D$3:$D$11,0)),1,0)","v":0},{"$f":"IF(ISNUMBER(MATCH(B985,Lists!$F$3:$F$14,0)),1,0)","v":0},-1,"",0,null,0,0,0,0,0,0]
["","",null,null,null,null,null,null,null,null,null,{"$f":"IF(ISNUMBER(MATCH(B986,Lists!$D$3:$D$11,0)),1,0)","v":0},{"$f":"IF(ISNUMBER(MATCH(B986,Lists!$F$3:$F$14,0)),1,0)","v":0},-1,"",0,null,0,0,0,0,0,0]
["","",null,null,null,null,null,null,null,null,null,{"$f":"IF(ISNUMBER(MATCH(B987,Lists!$D$3:$D$11,0)),1,0)","v":0},{"$f":"IF(ISNUMBER(MATCH(B987,Lists!$F$3:$F$14,0)),1,0)","v":0},-1,"",0,null,0,0,0,0,0,0]
["","",null,null,null,null,null,null,null,null,null,{"$f":"IF(ISNUMBER(MATCH(B988,Lists!$D$3:$D$11,0)),1,0)","v":0},{"$f":"IF(ISNUMBER(MATCH(B988,Lists!$F$3:$F$14,0)),1,0)","v":0},-1,"",0,null,0,0,0,0,0,0]
["","",null,null,null,null,null,null,null,null,null,{"$f":"IF(ISNUMBER(MATCH(B989,Lists!$D$3:$D$11,0)),1,0)","v":0},{"$f":"IF(ISNUMBER(MATCH(B989,Lists!$F$3:$F$14,0)),1,0)","v":0},-1,"",0,null,0,0,0,0,0,0]
["","",null,null,null,null,null,null,null,null,null,{"$f":"IF(ISNUMBER(MATCH(B990,Lists!$D$3:$D$11,0)),1,0)","v":0},{"$f":"IF(ISNUMBER(MATCH(B990,Lists!$F$3:$F$14,0)),1,0)","v":0},-1,"",0,null,0,0,0,0,0,0]
["","",null,null,null,null,null,null,null,null,null,{"$f":"IF(ISNUMBER(MATCH(B991,Lists!$D$3:$D$11,0)),1,0)","v":0},{"$f":"IF(ISNUMBER(MATCH(B991,Lists!$F$3:$F$14,0)),1,0)","v":0},-1,"",0,null,0,0,0,0,0,0]
["","",null,null,null,null,null,null,null,null,null,{"$f":"IF(ISNUMBER(MATCH(B992,Lists!$D$3:$D$11,0)),1,0)","v":0},{"$f":"IF(ISNUMBER(MATCH(B992,Lists!$F$3:$F$14,0)),1,0)","v":0},-1,"",0,null,0,0,0,0,0,0]
["","",null,null,null,null,null,null,null,null,null,{"$f":"IF(ISNUMBER(MATCH(B993,Lists!$D$3:$D$11,0)),1,0)","v":0},{"$f":"IF(ISNUMBER(MATCH(B993,Lists!$F$3:$F$14,0)),1,0)","v":0},-1,"",0,null,0,0,0,0,0,0]
["","",null,null,null,null,null,null,null,null,null,{"$f":"IF(ISNUMBER(MATCH(B994,Lists!$D$3:$D$11,0)),1,0)","v":0},{"$f":"IF(ISNUMBER(MATCH(B994,Lists!$F$3:$F$14,0)),1,0)","v":0},-1,"",0,null,0,0,0,0,0,0]
["","",null,null,null,null,null,null,null,null,null,{"$f":"IF(ISNUMBER(MATCH(B995,Lists!$D$3:$D$11,0)),1,0)","v":0},{"$f":"IF(ISNUMBER(MATCH(B995,Lists!$F$3:$F$14,0)),1,0)","v":0},-1,"",0,null,0,0,0,0,0,0]
["","",null,null,null,null,null,null,null,null,null,{"$f":"IF(ISNUMBER(MATCH(B996,Lists!$D$3:$D$11,0)),1,0)","v":0},{"$f":"IF(ISNUMBER(MATCH(B996,Lists!$F$3:$F$14,0)),1,0)","v":0},-1,"",0,null,0,0,0,0,0,0]
["","",null,null,null,null,null,null,null,null,null,{"$f":"IF(ISNUMBER(MATCH(B997,Lists!$D$3:$D$11,0)),1,0)","v":0},{"$f":"IF(ISNUMBER(MATCH(B997,Lists!$F$3:$F$14,0)),1,0)","v":0},-1,"",0,null,0,0,0,0,0,0]
["","",null,null,null,null,null,null,null,null,null,{"$f":"IF(ISNUMBER(MATCH(B998,Lists!$D$3:$D$11,0)),1,0)","v":0},{"$f":"IF(ISNUMBER(MATCH(B998,Lists!$F$3:$F$14,0)),1,0)","v":0},-1,"",0,null,0,0,0,0,0,0]
["","",null,null,null,null,null,null,null,null,null,{"$f":"IF(ISNUMBER(MATCH(B999,Lists!$D$3:$D$11,0)),1,0)","v":0},{"$f":"IF(ISNUMBER(MATCH(B999,Lists!$F$3:$F$14,0)),1,0)","v":0},-1,"",0,null,0,0,0,0,0,0]
["","",null,null,null,null,null,null,null,null,null,{"$f":"IF(ISNUMBER(MATCH(B1000,Lists!$D$3:$D$11,0)),1,0)","v":0},{"$f":"IF(ISNUMBER(MATCH(B1000,Lists!$F$3:$F$14,0)),1,0)","v":0},-1,"",0,null,0,0,0,0,0,0]
["","",null,null,null,null,null,null,null,null,null,{"$f":"IF(ISNUMBER(MATCH(B1001,Lists!$D$3:$D$11,0)),1,0)","v":0},{"$f":"IF(ISNUMBER(MATCH(B1001,Lists!$F$3:$F$14,0)),1,0)","v":0},-1,"",0,null,0,0,0,0,0,0]
["","",null,null,null,null,null,null,null,null,null,{"$f":"IF(ISNUMBER(MATCH(B1002,Lists!$D$3:$D$11,0)),1,0)","v":0},{"$f":"IF(ISNUMBER(MATCH(B1002,Lists!$F$3:$F$14,0)),1,0)","v":0},-1,"",0,null,0,0,0,0,0,0]
["","",null,null,null,null,null,null,null,null,null,{"$f":"IF(ISNUMBER(MATCH(B1003,Lists!$D$3:$D$11,0)),1,0)","v":0},{"$f":"IF(ISNUMBER(MATCH(B1003,Lists!$F$3:$F$14,0)),1,0)","v":0},-1,"",0,null,0,0,0,0,0,0]
["","",null,null,null,null,null,null,null,null,null,{"$f":"IF(ISNUMBER(MATCH(B1004,Lists!$D$3:$D$11,0)),1,0)","v":0},{"$f":"IF(ISNUMBER(MATCH(B1004,Lists!$F$3:$F$14,0)),1,0)","v":0},-1,"",0,null,0,0,0,0,0,0]
["","",null,null,null,null,null,null,null,null,null,{"$f":"IF(ISNUMBER(MATCH(B1005,Lists!$D$3:$D$11,0)),1,0)","v":0},{"$f":"IF(ISNUMBER(MATCH(B1005,Lists!$F$3:$F$14,0)),1,0)","v":0},-1,"",0,null,0,0,0,0,0,0]
["","",null,null,null,null,null,null,null,null,null,{"$f":"IF(ISNUMBER(MATCH(B1006,Lists!$D$3:$D$11,0)),1,0)","v":0},{"$f":"IF(ISNUMBER(MATCH(B1006,Lists!$F$3:$F$14,0)),1,0)","v":0},-1,"",0,null,0,0,0,0,0,0]
["","",null,null,null,null,null,null,null,null,null,{"$f":"IF(ISNUMBER(MATCH(B1007,Lists!$D$3:$D$11,0)),1,0)","v":0},{"$f":"IF(ISNUMBER(MATCH(B1007,Lists!$F$3:$F$14,0)),1,0)","v":0},-1,"",0,null,0,0,0,0,0,0]
["","",null,null,null,null,null,null,null,null,null,{"$f":"IF(ISNUMBER(MATCH(B1008,Lists!$D$3:$D$11,0)),1,0)","v":0},{"$f":"IF(ISNUMBER(MATCH(B1008,Lists!$F$3:$F$14,0)),1,0)","v":0},-1,"",0,null,0,0,0,0,0,0]
["","",null,null,null,null,null,null,null,null,null,{"$f":"IF(ISNUMBER(MATCH(B1009,Lists!$D$3:$D$11,0)),1,0)","v":0},{"$f":"IF(ISNUMBER(MATCH(B1009,Lists!$F$3:$F$14,0)),1,0)","v":0},-1,"",0,null,0,0,0,0,0,0]
["","",null,null,null,null,null,null,null,null,null,{"$f":"IF(ISNUMBER(MATCH(B1010,Lists!$D$3:$D$11,0)),1,0)","v":0},{"$f":"IF(ISNUMBER(MATCH(B1010,Lists!$F$3:$F$14,0)),1,0)","v":0},-1,"",0,null,0,0,0,0,0,0]
["","",null,null,null,null,null,null,null,null,null,{"$f":"IF(ISNUMBER(MATCH(B1011,Lists!$D$3:$D$11,0)),1,0)","v":0},{"$f":"IF(ISNUMBER(MATCH(B1011,Lists!$F$3:$F$14,0)),1,0)","v":0},-1,"",0,null,0,0,0,0,0,0]

{"sheet":"Company Logo","index":1,"n_rows":3,"n_cols":2,"rows_kept":3,"cut":false,"hidden":false,"merged":[]}
[]
[]
[null,"Copy and Paste your company logo (if available) into the box below.  Position and resize as needed."]

{"sheet":"Importer","index":2,"n_rows":1031,"n_cols":6,"rows_kept":1031,"cut":false,"hidden":false,"merged":[]}
[null,"Data Importer"]
[]
[null,"Use this sheet to match your vehicle designation to the FORS one.  Paste in your vehicle list (Registration\\Type) and it will convert it for you."]
[]
[null,"Your Designation","Our Designation"]
[null,null,{"$f":"Lists!A3","v":"Van: Light < 1.8T"}]
[null,null,{"$f":"Lists!A4","v":"Van: Medium 1.8T to 2.6T"}]
[null,null,{"$f":"Lists!A5","v":"Van: Heavy 2.6T to 3.5T"}]
[null,null,{"$f":"Lists!A6","v":"Lorry: Rigid HGV 3.5T to 7.5T"}]
[null,null,{"$f":"Lists!A7","v":"Lorry: Rigid HGV 7.5T to 18T"}]
[null,null,{"$f":"Lists!A8","v":"Lorry: Rigid HGV 18T to 26T"}]
[null,null,{"$f":"Lists!A9","v":"Lorry: Rigid HGV 26T to 32T"}]
[null,null,{"$f":"Lists!A10","v":"Lorry: Articulated < 26T"}]
[null,null,{"$f":"Lists!A11","v":"Lorry: Articulated 26T to 38T"}]
[null,null,{"$f":"Lists!A12","v":"Lorry: Articulated 38T to 44T"}]
[null,null,{"$f":"Lists!A13","v":"Lorry: Articulated > 44T"}]
[null,null,{"$f":"Lists!A14","v":"Lorry: Drawbar HGV < 26T"}]
[null,null,{"$f":"Lists!A15","v":"Lorry: Drawbar HGV 26T to 38T"}]
[null,null,{"$f":"Lists!A16","v":"Lorry: Drawbar HGV 38T to 44T"}]
[null,null,{"$f":"Lists!A17","v":"Bus: 17 passenger seats and over"}]
[null,null,{"$f":"Lists!A18","v":"Coach: 17 passenger seats and over"}]
[null,null,{"$f":"Lists!A19","v":"Minibus: 9 -16 passenger seats"}]
[null,null,{"$f":"Lists!A20","v":"Car: up to 8 passenger seats"}]
[null,null,{"$f":"Lists!A21","v":"P2W (Motorcycle)"}]
[null,null,{"$f":"Lists!A22","v":"Trailer"}]
[null,null,{"$f":"Lists!A23","v":"Other"},null,"Copy this converted data and paste (as values) into the S6 template"]
[]
[]
[null,"Paste your original data here"]
[]
[null,"Vehicle registration","Vehicle type (Your Designation)",null,"Vehicle registration","Vehicle type (Our Designation)"]
[null,null,null,null,{"$f":"IF(ISBLANK(B32),\"\",B32)","v":""},{"$f":"IFERROR(VLOOKUP(C32,VehicleMatcher,2,FALSE),\"\")","v":""}]
[null,null,null,null,"",""]
[null,null,null,null,"",""]
[null,null,null,null,"",""]
[null,null,null,null,"",""]
[null,null,null,null,{"$f":"IF(ISBLANK(B37),\"\",B37)","v":""},""]
[null,null,null,null,"",""]
[null,null,null,null,"",""]
[null,null,null,null,"",""]
[null,null,null,null,"",""]
[null,null,null,null,"",""]
[null,null,null,null,"",""]
[null,null,null,null,{"$f":"IF(ISBLANK(B44),\"\",B44)","v":""},{"$f":"IFERROR(VLOOKUP(C44,VehicleMatcher,2,FALSE),\"\")","v":""}]
[null,null,null,null,"",""]
[null,null,null,null,"",""]
[null,null,null,null,"",""]
[null,null,null,null,"",""]
[null,null,null,null,"",""]
[null,null,null,null,"",""]
[null,null,null,null,"",""]
[null,null,null,null,"",""]
[null,null,null,null,"",""]
[null,null,null,null,"",""]
[null,null,null,null,"",""]
[null,null,null,null,"",""]
[null,null,null,null,"",""]
[null,null,null,null,"",""]
[null,null,null,null,"",""]
[null,null,null,null,"",""]
[null,null,null,null,"",""]
[null,null,null,null,"",""]
[null,null,null,null,"",""]
[null,null,null,null,"",""]
[null,null,null,null,"",""]
[null,null,null,null,"",""]
[null,null,null,null,"",""]
[null,null,null,null,"",""]
[null,null,null,null,"",""]
[null,null,null,null,"",""]
[null,null,null,null,"",""]
[null,null,null,null,"",""]
[null,null,null,null,"",""]
[null,null,null,null,"",""]
[null,null,null,null,"",""]
[null,null,null,null,"",""]
[null,null,null,null,"",""]
[null,null,null,null,"",""]
[null,null,null,null,"",""]
[null,null,null,null,"",""]
[null,null,null,null,"",""]
[null,null,null,null,"",""]
[null,null,null,null,"",""]
[null,null,null,null,"",""]
[null,null,null,null,"",""]
[null,null,null,null,"",""]
[null,null,null,null,"",""]
[null,null,null,null,"",""]
[null,null,null,null,"",""]
[null,null,null,null,"",""]
[null,null,null,null,"",""]
[null,null,null,null,"",""]
[null,null,null,null,"",""]
[null,null,null,null,{"$f":"IF(ISBLANK(B94),\"\",B94)","v":""},{"$f":"IFERROR(VLOOKUP(C94,VehicleMatcher,2,FALSE),\"\")","v":""}]
[null,null,null,null,"",""]
[null,null,null,null,"",""]
[null,null,null,null,"",""]
[null,null,null,null,"",""]
[null,null,null,null,"",""]
[null,null,null,null,"",""]
[null,null,null,null,"",""]
[null,null,null,null,"",""]
[null,null,null,null,"",""]
[null,null,null,null,"",""]
[null,null,null,null,"",""]
[null,null,null,null,"",""]
[null,null,null,null,"",""]
[null,null,null,null,"",""]
[null,null,null,null,"",""]
[null,null,null,null,"",""]
[null,null,null,null,"",""]
[null,null,null,null,"",""]
[null,null,null,null,"",""]
[null,null,null,null,"",""]
[null,null,null,null,"",""]
[null,null,null,null,"",""]
[null,null,null,null,"",""]
[null,null,null,null,"",""]
[null,null,null,null,"",""]
[null,null,null,null,"",""]
[null,null,null,null,"",""]
[null,null,null,null,"",""]
[null,null,null,null,"",""]
[null,null,null,null,"",""]
[null,null,null,null,"",""]
[null,null,null,null,"",""]
[null,null,null,null,"",""]
[null,null,null,null,"",""]
[null,null,null,null,"",""]
[null,null,null,null,"",""]
[null,null,null,null,"",""]
[null,null,null,null,"",""]
[null,null,null,null,"",""]
[null,null,null,null,"",""]
[null,null,null,null,"",""]
[null,null,null,null,"",""]
[null,null,null,null,"",""]
[null,null,null,null,"",""]
[null,null,null,null,"",""]
[null,null,null,null,"",""]
[null,null,null,null,"",""]
[null,null,null,null,"",""]
[null,null,null,null,"",""]
[null,null,null,null,"",""]
[null,null,null,null,"",""]
[null,null,null,null,"",""]
[null,null,null,null,"",""]
[null,null,null,null,"",""]
[null,null,null,null,"",""]
[null,null,null,null,"",""]
[null,null,null,null,"",""]
[null,null,null,null,"",""]
[null,null,null,null,"",""]
[null,null,null,null,"",""]
[null,null,null,null,"",""]
[null,null,null,null,"",""]
[null,null,null,null,"",{"$f":"IFERROR(VLOOKUP(C157,VehicleMatcher,2,FALSE),\"\")","v":""}]
[null,null,null,null,"",""]
[null,null,null,null,"",""]
[null,null,null,null,"",""]
[null,null,null,null,"",""]
[null,null,null,null,"",""]
[null,null,null,null,"",""]
[null,null,null,null,"",""]
[null,null,null,null,"",""]
[null,null,null,null,"",""]
[null,null,null,null,"",""]
[null,null,null,null,"",""]
[null,null,null,null,"",""]
[null,null,null,null,"",""]
[null,null,null,null,"",""]
[null,null,null,null,"",""]
[null,null,null,null,"",""]
[null,null,null,null,"",""]
[null,null,null,null,"",""]
[null,null,null,null,"",""]
[null,null,null,null,"",""]
[null,null,null,null,"",""]
[null,null,null,null,"",""]
[null,null,null,null,"",""]
[null,null,null,null,"",""]
[null,null,null,null,"",""]
[null,null,null,null,"",""]
[null,null,null,null,"",""]
[null,null,null,null,{"$f":"IF(ISBLANK(B185),\"\",B185)","v":""},""]
[null,null,null,null,"",""]
[null,null,null,null,"",""]
[null,null,null,null,"",""]
[null,null,null,null,"",""]
[null,null,null,null,"",""]
[null,null,null,null,"",""]
[null,null,null,null,"",""]
[null,null,null,null,"",""]
[null,null,null,null,"",""]
[null,null,null,null,"",""]
[null,null,null,null,"",""]
[null,null,null,null,"",""]
[null,null,null,null,"",""]
[null,null,null,null,"",""]
[null,null,null,null,"",""]
[null,null,null,null,"",""]
[null,null,null,null,"",""]
[null,null,null,null,"",{"$f":"IFERROR(VLOOKUP(C203,VehicleMatcher,2,FALSE),\"\")","v":""}]
[null,null,null,null,"",""]
[null,null,null,null,"",""]
[null,null,null,null,"",""]
[null,null,null,null,"",""]
[null,null,null,null,"",""]
[null,null,null,null,"",""]
[null,null,null,null,"",""]
[null,null,null,null,"",""]
[null,null,null,null,"",""]
[null,null,null,null,"",""]
[null,null,null,null,"",""]
[null,null,null,null,"",""]
[null,null,null,null,"",""]
[null,null,null,null,"",""]
[null,null,null,null,"",""]
[null,null,null,null,"",""]
[null,null,null,null,"",""]
[null,null,null,null,"",""]
[null,null,null,null,"",""]
[null,null,null,null,"",""]
[null,null,null,null,"",""]
[null,null,null,null,"",""]
[null,null,null,null,"",""]
[null,null,null,null,"",""]
[null,null,null,null,"",""]
[null,null,null,null,"",""]
[null,null,null,null,"",""]
[null,null,null,null,"",""]
[null,null,null,null,{"$f":"IF(ISBLANK(B232),\"\",B232)","v":""},{"$f":"IFERROR(VLOOKUP(C232,VehicleMatcher,2,FALSE),\"\")","v":""}]
[null,null,null,null,"",""]
[null,null,null,null,"",""]
[null,null,null,null,"",""]
[null,null,null,null,"",""]
[null,null,null,null,"",""]
[null,null,null,null,"",""]
[null,null,null,null,"",""]
[null,null,null,null,"",""]
[null,null,null,null,"",""]
[null,null,null,null,"",""]
[null,null,null,null,"",""]
[null,null,null,null,"",""]
[null,null,null,null,"",""]
[null,null,null,null,"",""]
[null,null,null,null,"",""]
[null,null,null,null,"",""]
[null,null,null,null,"",""]
[null,null,null,null,"",""]
[null,null,null,null,"",""]
[null,null,null,null,"",""]
[null,null,null,null,"",""]
[null,null,null,null,"",""]
[null,null,null,null,"",""]
[null,null,null,null,"",""]
[null,null,null,null,"",""]
[null,null,null,null,"",""]
[null,null,null,null,"",""]
[null,null,null,null,"",""]
[null,null,null,null,"",""]
[null,null,null,null,"",""]
[null,null,null,null,"",""]
[null,null,null,null,"",""]
[null,null,null,null,"",""]
[null,null,null,null,"",""]
[null,null,null,null,"",""]
[null,null,null,null,"",""]
[null,null,null,null,"",""]
[null,null,null,null,"",""]
[null,null,null,null,"",""]
[null,null,null,null,"",""]
[null,null,null,null,"",""]
[null,null,null,null,"",""]
[null,null,null,null,"",""]
[null,null,null,null,"",""]
[null,null,null,null,"",""]
[null,null,null,null,"",""]
[null,null,null,null,"",""]
[null,null,null,null,"",""]
[null,null,null,null,"",""]
[null,null,null,null,"",""]
[null,null,null,null,"",""]
[null,null,null,null,"",""]
[null,null,null,null,"",""]
[null,null,null,null,"",""]
[null,null,null,null,"",""]
[null,null,null,null,"",""]
[null,null,null,null,"",""]
[null,null,null,null,"",""]
[null,null,null,null,"",""]
[null,null,null,null,"",""]
[null,null,null,null,"",""]
[null,null,null,null,"",""]
[null,null,null,null,"",""]
[null,null,null,null,{"$f":"IF(ISBLANK(B296),\"\",B296)","v":""},{"$f":"IFERROR(VLOOKUP(C296,VehicleMatcher,2,FALSE),\"\")","v":""}]
[null,null,null,null,"",""]
[null,null,null,null,"",""]
[null,null,null,null,"",""]
[null,null,null,null,"",""]
[null,null,null,null,"",""]
[null,null,null,null,"",""]
[null,null,null,null,"",""]
[null,null,null,null,"",""]
[null,null,null,null,"",""]
[null,null,null,null,"",""]
[null,null,null,null,"",""]
[null,null,null,null,"",""]
[null,null,null,null,"",""]
[null,null,null,null,"",""]
[null,null,null,null,"",""]
[null,null,null,null,"",""]
[null,null,null,null,"",""]
[null,null,null,null,"",""]
[null,null,null,null,"",""]
[null,null,null,null,"",""]
[null,null,null,null,"",""]
[null,null,null,null,"",""]
[null,null,null,null,"",""]
[null,null,null,null,"",""]
[null,null,null,null,"",""]
[null,null,null,null,"",""]
[null,null,null,null,"",""]
[null,null,null,null,"",""]
[null,null,null,null,"",""]
[null,null,null,null,"",""]
[null,null,null,null,"",""]
[null,null,null,null,"",""]
[null,null,null,null,"",""]
[null,null,null,null,"",""]
[null,null,null,null,"",""]
[null,null,null,null,"",""]
[null,null,null,null,"",""]
[null,null,null,null,"",""]
[null,null,null,null,"",""]
[null,null,null,null,"",""]
[null,null,null,null,"",""]
[null,null,null,null,"",""]
[null,null,null,null,"",""]
[null,null,null,null,"",""]
[null,null,null,null,"",""]
[null,null,null,null,"",""]
[null,null,null,null,"",""]
[null,null,null,null,"",""]
[null,null,null,null,"",""]
[null,null,null,null,"",""]
[null,null,null,null,"",""]
[null,null,null,null,"",""]
[null,null,null,null,"",""]
[null,null,null,null,"",""]
[null,null,null,null,"",""]
[null,null,null,null,"",""]
[null,null,null,null,"",""]
[null,null,null,null,"",""]
[null,null,null,null,"",""]
[null,null,null,null,"",""]
[null,null,null,null,"",""]
[null,null,null,null,"",""]
[null,null,null,null,"",""]
[null,null,null,null,{"$f":"IF(ISBLANK(B360),\"\",B360)","v":""},{"$f":"IFERROR(VLOOKUP(C360,VehicleMatcher,2,FALSE),\"\")","v":""}]
[null,null,null,null,"",""]
[null,null,null,null,"",""]
[null,null,null,null,"",""]
[null,null,null,null,"",""]
[null,null,null,null,"",""]
[null,null,null,null,"",""]
[null,null,null,null,"",""]
[null,null,null,null,"",""]
[null,null,null,null,"",""]
[null,null,null,null,"",""]
[null,null,null,null,"",""]
[null,null,null,null,"",""]
[null,null,null,null,"",""]
[null,null,null,null,"",""]
[null,null,null,null,"",""]
[null,null,null,null,"",""]
[null,null,null,null,"",""]
[null,null,null,null,"",""]
[null,null,null,null,"",""]
[null,null,null,null,"",""]
[null,null,null,null,"",""]
[null,null,null,null,"",""]
[null,null,null,null,"",""]
[null,null,null,null,"",""]
[null,null,null,null,"",""]
[null,null,null,null,"",""]
[null,null,null,null,"",""]
[null,null,null,null,"",""]
[null,null,null,null,"",""]
[null,null,null,null,"",""]
[null,null,null,null,"",""]
[null,null,null,null,"",""]
[null,null,null,null,"",""]
[null,null,null,null,"",""]
[null,null,null,null,"",""]
[null,null,null,null,"",""]
[null,null,null,null,"",""]
[null,null,null,null,"",""]
[null,null,null,null,"",""]
[null,null,null,null,"",""]
[null,null,null,null,"",""]
[null,null,null,null,"",""]
[null,null,null,null,"",""]
[null,null,null,null,"",""]
[null,null,null,null,"",""]
[null,null,null,null,"",""]
[null,null,null,null,"",""]
[null,null,null,null,"",""]
[null,null,null,null,"",""]
[null,null,null,null,"",""]
[null,null,null,null,"",""]
[null,null,null,null,"",""]
[null,null,null,null,"",""]
[null,null,null,null,"",""]
[null,null,null,null,"",""]
[null,null,null,null,"",""]
[null,null,null,null,"",""]
[null,null,null,null,"",""]
[null,null,null,null,"",""]
[null,null,null,null,"",""]
[null,null,null,null,"",""]
[null,null,null,null,"",""]
[null,null,null,null,"",""]
[null,null,null,null,{"$f":"IF(ISBLANK(B424),\"\",B424)","v":""},{"$f":"IFERROR(VLOOKUP(C424,VehicleMatcher,2,FALSE),\"\")","v":""}]
[null,null,null,null,"",""]
[null,null,null,null,"",""]
[null,null,null,null,"",""]
[null,null,null,null,"",""]
[null,null,null,null,"",""]
[null,null,null,null,"",""]
[null,null,null,null,"",""]
[null,null,null,null,"",""]
[null,null,null,null,"",""]
[null,null,null,null,"",""]
[null,null,null,null,"",""]
[null,null,null,null,"",""]
[null,null,null,null,"",""]
[null,null,null,null,"",""]
[null,null,null,null,"",""]
[null,null,null,null,"",""]
[null,null,null,null,"",""]
[null,null,null,null,"",""]
[null,null,null,null,"",""]
[null,null,null,null,"",""]
[null,null,null,null,"",""]
[null,null,null,null,"",""]
[null,null,null,null,"",""]
[null,null,null,null,"",""]
[null,null,null,null,"",""]
[null,null,null,null,"",""]
[null,null,null,null,"",""]
[null,null,null,null,"",""]
[null,null,null,null,"",""]
[null,null,null,null,"",""]
[null,null,null,null,"",""]
[null,null,null,null,"",""]
[null,null,null,null,"",""]
[null,null,null,null,"",""]
[null,null,null,null,"",""]
[null,null,null,null,"",""]
[null,null,null,null,"",""]
[null,null,null,null,"",""]
[null,null,null,null,"",""]
[null,null,null,null,"",""]
[null,null,null,null,"",""]
[null,null,null,null,"",""]
[null,null,null,null,"",""]
[null,null,null,null,"",""]
[null,null,null,null,"",""]
[null,null,null,null,"",""]
[null,null,null,null,"",""]
[null,null,null,null,"",""]
[null,null,null,null,"",""]
[null,null,null,null,"",""]
[null,null,null,null,"",""]
[null,null,null,null,"",""]
[null,null,null,null,"",""]
[null,null,null,null,"",""]
[null,null,null,null,"",""]
[null,null,null,null,"",""]
[null,null,null,null,"",""]
[null,null,null,null,"",""]
[null,null,null,null,"",""]
[null,null,null,null,"",""]
[null,null,null,null,"",""]
[null,null,null,null,"",""]
[null,null,null,null,"",""]
[null,null,null,null,{"$f":"IF(ISBLANK(B488),\"\",B488)","v":""},{"$f":"IFERROR(VLOOKUP(C488,VehicleMatcher,2,FALSE),\"\")","v":""}]
[null,null,null,null,"",""]
[null,null,null,null,"",""]
[null,null,null,null,"",""]
[null,null,null,null,"",""]
[null,null,null,null,"",""]
[null,null,null,null,"",""]
[null,null,null,null,"",""]
[null,null,null,null,"",""]
[null,null,null,null,"",""]
[null,null,null,null,"",""]
[null,null,null,null,"",""]
[null,null,null,null,"",""]
[null,null,null,null,"",""]
[null,null,null,null,"",""]
[null,null,null,null,"",""]
[null,null,null,null,"",""]
[null,null,null,null,"",""]
[null,null,null,null,"",""]
[null,null,null,null,"",""]
[null,null,null,null,"",""]
[null,null,null,null,"",""]
[null,null,null,null,"",""]
[null,null,null,null,"",""]
[null,null,null,null,"",""]
[null,null,null,null,"",""]
[null,null,null,null,"",""]
[null,null,null,null,"",""]
[null,null,null,null,"",""]
[null,null,null,null,"",""]
[null,null,null,null,"",""]
[null,null,null,null,"",""]
[null,null,null,null,"",""]
[null,null,null,null,"",""]
[null,null,null,null,"",""]
[null,null,null,null,"",""]
[null,null,null,null,"",""]
[null,null,null,null,"",""]
[null,null,null,null,"",""]
[null,null,null,null,"",""]
[null,null,null,null,"",""]
[null,null,null,null,"",""]
[null,null,null,null,"",""]
[null,null,null,null,"",""]
[null,null,null,null,"",""]
[null,null,null,null,"",""]
[null,null,null,null,"",""]
[null,null,null,null,"",""]
[null,null,null,null,"",""]
[null,null,null,null,"",""]
[null,null,null,null,"",""]
[null,null,null,null,"",""]
[null,null,null,null,"",""]
[null,null,null,null,"",""]
[null,null,null,null,"",""]
[null,null,null,null,"",""]
[null,null,null,null,"",""]
[null,null,null,null,"",""]
[null,null,null,null,"",""]
[null,null,null,null,"",""]
[null,null,null,null,"",""]
[null,null,null,null,"",""]
[null,null,null,null,"",""]
[null,null,null,null,"",""]
[null,null,null,null,{"$f":"IF(ISBLANK(B552),\"\",B552)","v":""},{"$f":"IFERROR(VLOOKUP(C552,VehicleMatcher,2,FALSE),\"\")","v":""}]
[null,null,null,null,"",""]
[null,null,null,null,"",""]
[null,null,null,null,"",""]
[null,null,null,null,"",""]
[null,null,null,null,"",""]
[null,null,null,null,"",""]
[null,null,null,null,"",""]
[null,null,null,null,"",""]
[null,null,null,null,"",""]
[null,null,null,null,"",""]
[null,null,null,null,"",""]
[null,null,null,null,"",""]
[null,null,null,null,"",""]
[null,null,null,null,"",""]
[null,null,null,null,"",""]
[null,null,null,null,"",""]
[null,null,null,null,"",""]
[null,null,null,null,"",""]
[null,null,null,null,"",""]
[null,null,null,null,"",""]
[null,null,null,null,"",""]
[null,null,null,null,"",""]
[null,null,null,null,"",""]
[null,null,null,null,"",""]
[null,null,null,null,"",""]
[null,null,null,null,"",""]
[null,null,null,null,"",""]
[null,null,null,null,"",""]
[null,null,null,null,"",""]
[null,null,null,null,"",""]
[null,null,null,null,"",""]
[null,null,null,null,"",""]
[null,null,null,null,"",""]
[null,null,null,null,"",""]
[null,null,null,null,"",""]
[null,null,null,null,"",""]
[null,null,null,null,"",""]
[null,null,null,null,"",""]
[null,null,null,null,"",""]
[null,null,null,null,"",""]
[null,null,null,null,"",""]
[null,null,null,null,"",""]
[null,null,null,null,"",""]
[null,null,null,null,"",""]
[null,null,null,null,"",""]
[null,null,null,null,"",""]
[null,null,null,null,"",""]
[null,null,null,null,"",""]
[null,null,null,null,"",""]
[null,null,null,null,"",""]
[null,null,null,null,"",""]
[null,null,null,null,"",""]
[null,null,null,null,"",""]
[null,null,null,null,"",""]
[null,null,null,null,"",""]
[null,null,null,null,"",""]
[null,null,null,null,"",""]
[null,null,null,null,"",""]
[null,null,null,null,"",""]
[null,null,null,null,"",""]
[null,null,null,null,"",""]
[null,null,null,null,"",""]
[null,null,null,null,"",""]
[null,null,null,null,{"$f":"IF(ISBLANK(B616),\"\",B616)","v":""},{"$f":"IFERROR(VLOOKUP(C616,VehicleMatcher,2,FALSE),\"\")","v":""}]
[null,null,null,null,"",""]
[null,null,null,null,"",""]
[null,null,null,null,"",""]
[null,null,null,null,"",""]
[null,null,null,null,"",""]
[null,null,null,null,"",""]
[null,null,null,null,"",""]
[null,null,null,null,"",""]
[null,null,null,null,"",""]
[null,null,null,null,"",""]
[null,null,null,null,"",""]
[null,null,null,null,"",""]
[null,null,null,null,"",""]
[null,null,null,null,"",""]
[null,null,null,null,"",""]
[null,null,null,null,"",""]
[null,null,null,null,"",""]
[null,null,null,null,"",""]
[null,null,null,null,"",""]
[null,null,null,null,"",""]
[null,null,null,null,"",""]
[null,null,null,null,"",""]
[null,null,null,null,"",""]
[null,null,null,null,"",""]
[null,null,null,null,"",""]
[null,null,null,null,"",""]
[null,null,null,null,"",""]
[null,null,null,null,"",""]
[null,null,null,null,"",""]
[null,null,null,null,"",""]
[null,null,null,null,"",""]
[null,null,null,null,"",""]
[null,null,null,null,"",""]
[null,null,null,null,"",""]
[null,null,null,null,"",""]
[null,null,null,null,"",""]
[null,null,null,null,"",""]
[null,null,null,null,"",""]
[null,null,null,null,"",""]
[null,null,null,null,"",""]
[null,null,null,null,"",""]
[null,null,null,null,"",""]
[null,null,null,null,"",""]
[null,null,null,null,"",""]
[null,null,null,null,"",""]
[null,null,null,null,"",""]
[null,null,null,null,"",""]
[null,null,null,null,"",""]
[null,null,null,null,"",""]
[null,null,null,null,"",""]
[null,null,null,null,"",""]
[null,null,null,null,"",""]
[null,null,null,null,"",""]
[null,null,null,null,"",""]
[null,null,null,null,"",""]
[null,null,null,null,"",""]
[null,null,null,null,"",""]
[null,null,null,null,"",""]
[null,null,null,null,"",""]
[null,null,null,null,"",""]
[null,null,null,null,"",""]
[null,null,null,null,"",""]
[null,null,null,null,"",""]
[null,null,null,null,{"$f":"IF(ISBLANK(B680),\"\",B680)","v":""},{"$f":"IFERROR(VLOOKUP(C680,VehicleMatcher,2,FALSE),\"\")","v":""}]
[null,null,null,null,"",""]
[null,null,null,null,"",""]
[null,null,null,null,"",""]
[null,null,null,null,"",""]
[null,null,null,null,"",""]
[null,null,null,null,"",""]
[null,null,null,null,"",""]
[null,null,null,null,"",""]
[null,null,null,null,"",""]
[null,null,null,null,"",""]
[null,null,null,null,"",""]
[null,null,null,null,"",""]
[null,null,null,null,"",""]
[null,null,null,null,"",""]
[null,null,null,null,"",""]
[null,null,null,null,"",""]
[null,null,null,null,"",""]
[null,null,null,null,"",""]
[null,null,null,null,"",""]
[null,null,null,null,"",""]
[null,null,null,null,"",""]
[null,null,null,null,"",""]
[null,null,null,null,"",""]
[null,null,null,null,"",""]
[null,null,null,null,"",""]
[null,null,null,null,"",""]
[null,null,null,null,"",""]
[null,null,null,null,"",""]
[null,null,null,null,"",""]
[null,null,null,null,"",""]
[null,null,null,null,"",""]
[null,null,null,null,"",""]
[null,null,null,null,"",""]
[null,null,null,null,"",""]
[null,null,null,null,"",""]
[null,null,null,null,"",""]
[null,null,null,null,"",""]
[null,null,null,null,"",""]
[null,null,null,null,"",""]
[null,null,null,null,"",""]
[null,null,null,null,"",""]
[null,null,null,null,"",""]
[null,null,null,null,"",""]
[null,null,null,null,"",""]
[null,null,null,null,"",""]
[null,null,null,null,"",""]
[null,null,null,null,"",""]
[null,null,null,null,"",""]
[null,null,null,null,"",""]
[null,null,null,null,"",""]
[null,null,null,null,"",""]
[null,null,null,null,"",""]
[null,null,null,null,"",""]
[null,null,null,null,"",""]
[null,null,null,null,"",""]
[null,null,null,null,"",""]
[null,null,null,null,"",""]
[null,null,null,null,"",""]
[null,null,null,null,"",""]
[null,null,null,null,"",""]
[null,null,null,null,"",""]
[null,null,null,null,"",""]
[null,null,null,null,"",""]
[null,null,null,null,{"$f":"IF(ISBLANK(B744),\"\",B744)","v":""},{"$f":"IFERROR(VLOOKUP(C744,VehicleMatcher,2,FALSE),\"\")","v":""}]
[null,null,null,null,"",""]
[null,null,null,null,"",""]
[null,null,null,null,"",""]
[null,null,null,null,"",""]
[null,null,null,null,"",""]
[null,null,null,null,"",""]
[null,null,null,null,"",""]
[null,null,null,null,"",""]
[null,null,null,null,"",""]
[null,null,null,null,"",""]
[null,null,null,null,"",""]
[null,null,null,null,"",""]
[null,null,null,null,"",""]
[null,null,null,null,"",""]
[null,null,null,null,"",""]
[null,null,null,null,"",""]
[null,null,null,null,"",""]
[null,null,null,null,"",""]
[null,null,null,null,"",""]
[null,null,null,null,"",""]
[null,null,null,null,"",""]
[null,null,null,null,"",""]
[null,null,null,null,"",""]
[null,null,null,null,"",""]
[null,null,null,null,"",""]
[null,null,null,null,"",""]
[null,null,null,null,"",""]
[null,null,null,null,"",""]
[null,null,null,null,"",""]
[null,null,null,null,"",""]
[null,null,null,null,"",""]
[null,null,null,null,"",""]
[null,null,null,null,"",""]
[null,null,null,null,"",""]
[null,null,null,null,"",""]
[null,null,null,null,"",""]
[null,null,null,null,"",""]
[null,null,null,null,"",""]
[null,null,null,null,"",""]
[null,null,null,null,"",""]
[null,null,null,null,"",""]
[null,null,null,null,"",""]
[null,null,null,null,"",""]
[null,null,null,null,"",""]
[null,null,null,null,"",""]
[null,null,null,null,"",""]
[null,null,null,null,"",""]
[null,null,null,null,"",""]
[null,null,null,null,"",""]
[null,null,null,null,"",""]
[null,null,null,null,"",""]
[null,null,null,null,"",""]
[null,null,null,null,"",""]
[null,null,null,null,"",""]
[null,null,null,null,"",""]
[null,null,null,null,"",""]
[null,null,null,null,"",""]
[null,null,null,null,"",""]
[null,null,null,null,"",""]
[null,null,null,null,"",""]
[null,null,null,null,"",""]
[null,null,null,null,"",""]
[null,null,null,null,"",""]
[null,null,null,null,{"$f":"IF(ISBLANK(B808),\"\",B808)","v":""},{"$f":"IFERROR(VLOOKUP(C808,VehicleMatcher,2,FALSE),\"\")","v":""}]
[null,null,null,null,"",""]
[null,null,null,null,"",""]
[null,null,null,null,"",""]
[null,null,null,null,"",""]
[null,null,null,null,"",""]
[null,null,null,null,"",""]
[null,null,null,null,"",""]
[null,null,null,null,"",""]
[null,null,null,null,"",""]
[null,null,null,null,"",""]
[null,null,null,null,"",""]
[null,null,null,null,"",""]
[null,null,null,null,"",""]
[null,null,null,null,"",""]
[null,null,null,null,"",""]
[null,null,null,null,"",""]
[null,null,null,null,"",""]
[null,null,null,null,"",""]
[null,null,null,null,"",""]
[null,null,null,null,"",""]
[null,null,null,null,"",""]
[null,null,null,null,"",""]
[null,null,null,null,"",""]
[null,null,null,null,"",""]
[null,null,null,null,"",""]
[null,null,null,null,"",""]
[null,null,null,null,"",""]
[null,null,null,null,"",""]
[null,null,null,null,"",""]
[null,null,null,null,"",""]
[null,null,null,null,"",""]
[null,null,null,null,"",""]
[null,null,null,null,"",""]
[null,null,null,null,"",""]
[null,null,null,null,"",""]
[null,null,null,null,"",""]
[null,null,null,null,"",""]
[null,null,null,null,"",""]
[null,null,null,null,"",""]
[null,null,null,null,"",""]
[null,null,null,null,"",""]
[null,null,null,null,"",""]
[null,null,null,null,"",""]
[null,null,null,null,"",""]
[null,null,null,null,"",""]
[null,null,null,null,"",""]
[null,null,null,null,"",""]
[null,null,null,null,"",""]
[null,null,null,null,"",""]
[null,null,null,null,"",""]
[null,null,null,null,"",""]
[null,null,null,null,"",""]
[null,null,null,null,"",""]
[null,null,null,null,"",""]
[null,null,null,null,"",""]
[null,null,null,null,"",""]
[null,null,null,null,"",""]
[null,null,null,null,"",""]
[null,null,null,null,"",""]
[null,null,null,null,"",""]
[null,null,null,null,"",""]
[null,null,null,null,"",""]
[null,null,null,null,"",""]
[null,null,null,null,{"$f":"IF(ISBLANK(B872),\"\",B872)","v":""},{"$f":"IFERROR(VLOOKUP(C872,VehicleMatcher,2,FALSE),\"\")","v":""}]
[null,null,null,null,"",""]
[null,null,null,null,"",""]
[null,null,null,null,"",""]
[null,null,null,null,"",""]
[null,null,null,null,"",""]
[null,null,null,null,"",""]
[null,null,null,null,"",""]
[null,null,null,null,"",""]
[null,null,null,null,"",""]
[null,null,null,null,"",""]
[null,null,null,null,"",""]
[null,null,null,null,"",""]
[null,null,null,null,"",""]
[null,null,null,null,"",""]
[null,null,null,null,"",""]
[null,null,null,null,"",""]
[null,null,null,null,"",""]
[null,null,null,null,"",""]
[null,null,null,null,"",""]
[null,null,null,null,"",""]
[null,null,null,null,"",""]
[null,null,null,null,"",""]
[null,null,null,null,"",""]
[null,null,null,null,"",""]
[null,null,null,null,"",""]
[null,null,null,null,"",""]
[null,null,null,null,"",""]
[null,null,null,null,"",""]
[null,null,null,null,"",""]
[null,null,null,null,"",""]
[null,null,null,null,"",""]
[null,null,null,null,"",""]
[null,null,null,null,"",""]
[null,null,null,null,"",""]
[null,null,null,null,"",""]
[null,null,null,null,"",""]
[null,null,null,null,"",""]
[null,null,null,null,"",""]
[null,null,null,null,"",""]
[null,null,null,null,"",""]
[null,null,null,null,"",""]
[null,null,null,null,"",""]
[null,null,null,null,"",""]
[null,null,null,null,"",""]
[null,null,null,null,"",""]
[null,null,null,null,"",""]
[null,null,null,null,"",""]
[null,null,null,null,"",""]
[null,null,null,null,"",""]
[null,null,null,null,"",""]
[null,null,null,null,"",""]
[null,null,null,null,"",""]
[null,null,null,null,"",""]
[null,null,null,null,"",""]
[null,null,null,null,"",""]
[null,null,null,null,"",""]
[null,null,null,null,"",""]
[null,null,null,null,"",""]
[null,null,null,null,"",""]
[null,null,null,null,"",""]
[null,null,null,null,"",""]
[null,null,null,null,"",""]
[null,null,null,null,"",""]
[null,null,null,null,{"$f":"IF(ISBLANK(B936),\"\",B936)","v":""},{"$f":"IFERROR(VLOOKUP(C936,VehicleMatcher,2,FALSE),\"\")","v":""}]
[null,null,null,null,"",""]
[null,null,null,null,"",""]
[null,null,null,null,"",""]
[null,null,null,null,"",""]
[null,null,null,null,"",""]
[null,null,null,null,"",""]
[null,null,null,null,"",""]
[null,null,null,null,"",""]
[null,null,null,null,"",""]
[null,null,null,null,"",""]
[null,null,null,null,"",""]
[null,null,null,null,"",""]
[null,null,null,null,"",""]
[null,null,null,null,"",""]
[null,null,null,null,"",""]
[null,null,null,null,"",""]
[null,null,null,null,"",""]
[null,null,null,null,"",""]
[null,null,null,null,"",""]
[null,null,null,null,"",""]
[null,null,null,null,"",""]
[null,null,null,null,"",""]
[null,null,null,null,"",""]
[null,null,null,null,"",""]
[null,null,null,null,"",""]
[null,null,null,null,"",""]
[null,null,null,null,"",""]
[null,null,null,null,"",""]
[null,null,null,null,"",""]
[null,null,null,null,"",""]
[null,null,null,null,"",""]
[null,null,null,null,"",""]
[null,null,null,null,"",""]
[null,null,null,null,"",""]
[null,null,null,null,"",""]
[null,null,null,null,"",""]
[null,null,null,null,"",""]
[null,null,null,null,"",""]
[null,null,null,null,"",""]
[null,null,null,null,"",""]
[null,null,null,null,"",""]
[null,null,null,null,"",""]
[null,null,null,null,"",""]
[null,null,null,null,"",""]
[null,null,null,null,"",""]
[null,null,null,null,"",""]
[null,null,null,null,"",""]
[null,null,null,null,"",""]
[null,null,null,null,"",""]
[null,null,null,null,"",""]
[null,null,null,null,"",""]
[null,null,null,null,"",""]
[null,null,null,null,"",""]
[null,null,null,null,"",""]
[null,null,null,null,"",""]
[null,null,null,null,"",""]
[null,null,null,null,"",""]
[null,null,null,null,"",""]
[null,null,null,null,"",""]
[null,null,null,null,"",""]
[null,null,null,null,"",""]
[null,null,null,null,"",""]
[null,null,null,null,"",""]
[null,null,null,null,{"$f":"IF(ISBLANK(B1000),\"\",B1000)","v":""},{"$f":"IFERROR(VLOOKUP(C1000,VehicleMatcher,2,FALSE),\"\")","v":""}]
[null,null,null,null,"",""]
[null,null,null,null,"",""]
[null,null,null,null,"",""]
[null,null,null,null,"",""]
[null,null,null,null,"",""]
[null,null,null,null,"",""]
[null,null,null,null,"",""]
[null,null,null,null,"",""]
[null,null,null,null,"",""]
[null,null,null,null,"",""]
[null,null,null,null,"",""]
[null,null,null,null,"",""]
[null,null,null,null,"",""]
[null,null,null,null,"",""]
[null,null,null,null,"",""]
[null,null,null,null,"",""]
[null,null,null,null,"",""]
[null,null,null,null,"",""]
[null,null,null,null,"",""]
[null,null,null,null,"",""]
[null,null,null,null,"",""]
[null,null,null,null,"",""]
[null,null,null,null,"",""]
[null,null,null,null,"",""]
[null,null,null,null,"",""]
[null,null,null,null,"",""]
[null,null,null,null,"",""]
[null,null,null,null,"",""]
[null,null,null,null,"",""]
[null,null,null,null,"",""]
[null,null,null,null,"",""]

{"sheet":"Lists","index":3,"n_rows":23,"n_cols":6,"rows_kept":23,"cut":false,"hidden":true,"merged":[]}
["Vehicles List:",null,null,"Vehicles under 3,500kgs",null,"Vehicles over 3,500kgs"]
[]
["Van: Light < 1.8T","V",null,"Van: Light < 1.8T",null,"Lorry: Rigid HGV 3.5T to 7.5T"]
["Van: Medium 1.8T to 2.6T","V1-8",null,"Van: Medium 1.8T to 2.6T",null,"Lorry: Rigid HGV 7.5T to 18T"]
["Van: Heavy 2.6T to 3.5T","V2-6",null,"Van: Heavy 2.6T to 3.5T",null,"Lorry: Rigid HGV 18T to 26T"]
["Lorry: Rigid HGV 3.5T to 7.5T","LR3-5",null,"Bus: 17 passenger seats and over",null,"Lorry: Rigid HGV 26T to 32T"]
["Lorry: Rigid HGV 7.5T to 18T","LR7-5",null,"Minibus: 9 -16 passenger seats",null,"Lorry: Articulated < 26T"]
["Lorry: Rigid HGV 18T to 26T","LR18",null,"Car: up to 8 passenger seats",null,"Lorry: Articulated 26T to 38T"]
["Lorry: Rigid HGV 26T to 32T","LR26",null,"Motorcycle",null,"Lorry: Articulated 38T to 44T"]
["Lorry: Articulated < 26T","LA",null,"Trailer",null,"Lorry: Articulated > 44T"]
["Lorry: Articulated 26T to 38T","LA26",null,"Other",null,"Lorry: Drawbar HGV < 26T"]
["Lorry: Articulated 38T to 44T","LA38",null,null,null,"Lorry: Drawbar HGV 26T to 38T"]
["Lorry: Articulated > 44T","LA44",null,null,null,"Lorry: Drawbar HGV 38T to 44T"]
["Lorry: Drawbar HGV < 26T","LD",null,null,null,"Coach: 17 passenger seats and over"]
["Lorry: Drawbar HGV 26T to 38T","LD26"]
["Lorry: Drawbar HGV 38T to 44T","LD38"]
["Bus: 17 passenger seats and over","BUS17"]
["Coach: 17 passenger seats and over","CO17"]
["Minibus: 9 -16 passenger seats","MINI9"]
["Car: up to 8 passenger seats","CAR17"]
["P2W (Motorcycle)","P2W"]
["Trailer","TRAIL"]
["Other","OTHR"]

{"sheet":"checker","index":4,"n_rows":23,"n_cols":10,"rows_kept":23,"cut":false,"hidden":true,"merged":[]}
[null,"1=required, 0=optional",1,2,3,4,5,6,7,8]
[null,null,null,null,"Audible turn left (Y/N)","Driver incab warning proximity sensors (Y/N)","Camera - rear (Y/N)","Camera - side (Y/N)\npost 2015","Audible reversing alarm (Y/N)","Fresnel lens (Y/N)\npre 2015\n\nOR CAMERA SIDE"]
[null,null,"Van: Light < 1.8T",null,0,0,0,0,0,0]
[null,null,"Van: Medium 1.8T to 2.6T",null,0,0,0,0,0,0]
[null,null,"Van: Heavy 2.6T to 3.5T",null,0,0,0,0,0,0]
[null,null,"Lorry: Rigid HGV 3.5T to 7.5T",null,1,1,0,1,1,1]
[null,null,"Lorry: Rigid HGV 7.5T to 18T",null,1,1,1,1,1,1]
[null,null,"Lorry: Rigid HGV 18T to 26T",null,1,1,1,1,1,1]
[null,null,"Lorry: Rigid HGV 26T to 32T",null,1,1,1,1,1,1]
[null,null,"Lorry: Articulated < 26T",null,1,1,0,1,1,1]
[null,null,"Lorry: Articulated 26T to 38T",null,1,1,0,1,1,1]
[null,null,"Lorry: Articulated 38T to 44T",null,1,1,0,1,1,1]
[null,null,"Lorry: Articulated > 44T",null,1,1,0,1,1,1]
[null,null,"Lorry: Drawbar HGV < 26T",null,1,1,0,1,1,1]
[null,null,"Lorry: Drawbar HGV 26T to 38T",null,1,1,0,1,1,1]
[null,null,"Lorry: Drawbar HGV 38T to 44T",null,1,1,0,1,1,1]
[null,null,"Bus: 17 passenger seats and over",null,0,0,0,0,0,0]
[null,null,"Coach: 17 passenger seats and over",null,0,0,0,0,0,0]
[null,null,"Minibus: 9 -16 passenger seats",null,0,0,0,0,0,0]
[null,null,"Car: up to 8 passenger seats",null,0,0,0,0,0,0]
[null,null,"P2W (Motorcycle)",null,0,0,0,0,0,0]
[null,null,"Trailer",null,0,0,0,0,0,0]
[null,null,"Other",null,0,0,0,0,0,0]